Workbook

Sheet Metadata_Formulas_for_score
A1: Formulas for TOMWC Diversity Indices
A2: Points are assigned based on the number of taxa in each index (Total Diversity, EPT, Sensitive):
A4: Total Diversity = total number of DIFFERENT families identified in a sample | B4: # Taxa | C4: Points
A5: Total diversity | B5: 0 to <5 | C5: 0
A6: Total diversity | B6: 5 to <10 | C6: 3
A7: Total diversity | B7: 10 to <15 | C7: 5
A8: Total diversity | B8: 15 to <17 | C8: 10
A9: Total diversity | B9: 17 to <20 | C9: 15
A10: Total diversity | B10: 20+ | C10: 20
A11: EPT = total number of taxa from Ephemeroptera, Plecoptera, and Tricoptera | B11: # Taxa | C11: Points
A12: EPT | B12: 0 | C12: 0
A13: EPT | B13: >0 to <2 | C13: 5
A14: EPT | B14: 2 to <4 | C14: 10
A15: EPT | B15: 4 to <6 | C15: 15
A16: EPT | B16: 6 to <8 | C16: 20
A17: EPT | B17: 8+ | C17: 30
A18: Sensitive = total number of "sensitive" taxa as identified by Hilsenhoff and IBI | B18: # Taxa | C18: Points
A19: Sensitive | B19: 0 | C19: 0
A20: Sensitive | B20: 0 to <2 | C20: 10
A21: Sensitive | B21: 2 to <3 | C21: 20
A22: Sensitive | B22: 3 to <4 | C22: 30 | E22: EXAMPLE:
A23: Sensitive | B23: 4 to <5 | C23: 40 | E23: An example of formulas used to calculate this grade is below, for the Bear River sites. They earned a 62.5, which is a B.
A24: Sensitive | B24: 5+ | C24: 50
A25: Then, points are summed and assigned a grade. | E25: Stream Name | F25: Site Location | G25: Total Taxa Avg. | H25: EPT Taxa Avg. | I25: Sens Taxa Avg. | J25: Total Score | K25: EPT Score | L25: Sensitive Score | M25: TOTAL | N25: Average for Stream | O25: Grade | P25: Range
A26: 70+ | B26: A | E26: Bear River | F26: Bear River Rd | G26: 19.1875 | H26: 8.1875 | I26: 3.125 | J26: =IF(G26<5,0,IF(G26<10,3,IF(G26<15,5,IF(G26<17,10,IF(G26<20,15,IF(G26>=20,20,99)))))) -> 15 | K26: =IF(H26=0,0,IF(H26<2,5,IF(H26<4,10,IF(H26<6,15,IF(H26<8,20,IF(H26>=8,30,99)))))) -> 30 | L26: =IF(I26=0,0,IF(I26<2,10,IF(I26<3,20,IF(I26<4,30,IF(I26<5,40,IF(I26>=5,50,99)))))) -> 30 | M26: =SUM(J26:L26) -> 75
A27: 50-69 | B27: B | E27: Bear River | F27: Mineral Well | G27: 13.75 | H27: 5.9375 | I27: 2.25 | J27: =IF(G27<5,0,IF(G27<10,3,IF(G27<15,5,IF(G27<17,10,IF(G27<20,15,IF(G27>=20,20,99)))))) -> 5 | K27: =IF(H27=0,0,IF(H27<2,5,IF(H27<4,10,IF(H27<6,15,IF(H27<8,20,IF(H27>=8,30,99)))))) -> 15 | L27: =IF(I27=0,0,IF(I27<2,10,IF(I27<3,20,IF(I27<4,30,IF(I27<5,40,IF(I27>=5,50,99)))))) -> 20 | M27: =SUM(J27:L27) -> 40
A28: 30-49 | B28: C | E28: Bear River | F28: Springbrook | G28: 20.636364 | H28: 10.818182 | I28: 4.7272727 | J28: =IF(G28<5,0,IF(G28<10,3,IF(G28<15,5,IF(G28<17,10,IF(G28<20,15,IF(G28>=20,20,99)))))) -> 20 | K28: =IF(H28=0,0,IF(H28<2,5,IF(H28<4,10,IF(H28<6,15,IF(H28<8,20,IF(H28>=8,30,99)))))) -> 30 | L28: =IF(I28=0,0,IF(I28<2,10,IF(I28<3,20,IF(I28<4,30,IF(I28<5,40,IF(I28>=5,50,99)))))) -> 40 | M28: =SUM(J28:L28) -> 90
A29: 20-29 | B29: D | E29: Bear River | F29: Walloon Lake | G29: 16.333333 | H29: 4.3333333 | I29: 2 | J29: =IF(G29<5,0,IF(G29<10,3,IF(G29<15,5,IF(G29<17,10,IF(G29<20,15,IF(G29>=20,20,99)))))) -> 10 | K29: =IF(H29=0,0,IF(H29<2,5,IF(H29<4,10,IF(H29<6,15,IF(H29<8,20,IF(H29>=8,30,99)))))) -> 15 | L29: =IF(I29=0,0,IF(I29<2,10,IF(I29<3,20,IF(I29<4,30,IF(I29<5,40,IF(I29>=5,50,99)))))) -> 20 | M29: =SUM(J29:L29) -> 45 | N29: =AVERAGE(M26:M29) -> 62.5 | O29: B | P29: C-A
A30: 10-19 | B30: E
A31: <10 | B31: F
A33: For example, if a stream has Total Taxa = 18, EPT = 5, and Sensitive = 3, it would get a score of 15+15+30=60, earning a B grade.

Sheet Master_datasheet
A1: Stream Name | B1: Site Location | C1: Site ID | D1: SiteNumGIS | E1: Total Taxa AVG | F1: EPT AVG | G1: Sensitive AVG | H1: Total Taxa 9-2005 | I1: Total Taxa 5-2006 | J1: Total Taxa 9-2006 | K1: Total Taxa 5-2007 | L1: Total Taxa 9-2007 | M1: Total Taxa 5-2008 | N1: Total Taxa 9-2008 | O1: Total Taxa 5-2009 | P1: Total Taxa 9-2009 | Q1: Total Taxa 5-2010 | R1: Total Taxa 9-2010 | S1: Total Taxa 5-2011 | T1: Total Taxa 9-2011 | U1: Total Taxa 5-2012 | V1: Total Taxa 9-2012 | W1: Total Taxa 5-2013 | X1: Total Taxa 9-2013 | Y1: Total Taxa 5-2014 | Z1: Total Taxa 9-2014 | AA1: Total Taxa 5-2015 | AB1: Total Taxa 9-2015 | AC1: Total Taxa 5-2016 | AD1: Total Taxa 9-2016 | AE1: Total Taxa 5-2017 | AF1: Total Taxa 9-2017 | AG1: Total Taxa 5-2018 | AH1: Total Taxa 9-2018 | AI1: Total Taxa 5-2019 | AJ1: Total Taxa 9-2019 | AK1: Total Taxa 5-2020 | AL1: Total Taxa 9-2020 | AM1: EPT Taxa 9-2005 | AN1: EPT Taxa 5-2006 | AO1: EPT Taxa 9-2006 | AP1: EPT Taxa 5-2007 | AQ1: EPT Taxa 9-2007 | AR1: EPT Taxa 5-2008 | AS1: EPT Taxa 9-2008 | AT1: EPT Taxa 5-2009 | AU1: EPT Taxa 9-2009 | AV1: EPT Taxa 5-2010 | AW1: EPT Taxa 9-2010 | AX1: EPT Taxa 5-2011 | AY1: EPT Taxa 9-2011 | AZ1: EPT Taxa 5-2012 | BA1: EPT Taxa 9-2012 | BB1: EPT Taxa 5-2013 | BC1: EPT Taxa 9-2013 | BD1: EPT Taxa 5-2014 | BE1: EPT Taxa 9-2014 | BF1: EPT Taxa 5-2015 | BG1: EPT Taxa 9-2015 | BH1: EPT Taxa 5-2016 | BI1: EPT Taxa 9-2016 | BJ1: EPT Taxa 5-2017 | BK1: EPT Taxa 9-2017 | BL1: EPT Taxa 5-2018 | BM1: EPT Taxa 9-2018 | BN1: EPT Taxa 5-2019 | BO1: EPT Taxa 9-2019 | BP1: EPT Taxa 5-2020 | BQ1: EPT Taxa 9-2020 | BR1: Sens Taxa 9-2005 | BS1: Sens Taxa 5-2006 | BT1: Sens Taxa 9-2006 | BU1: Sens Taxa 5-2007 | BV1: Sens Taxa 9-2007 | BW1: Sens Taxa 5-2008 | BX1: Sens Taxa 9-2008 | BY1: Sens Taxa 5-2009 | BZ1: Sens Taxa 9-2009 | CA1: Sens Taxa 5-2010 | CB1: Sens Taxa 9-2010 | CC1: Sens Taxa 5-2011 | CD1: Sens Taxa 9-2011 | CE1: Sens Taxa 5-2012 | CF1: Sens Taxa 9-2012 | CG1: Sens Taxa 5-2013 | CH1: Sens Taxa 9-2013 | CI1: Sens Taxa 5-2014 | CJ1: Sens Taxa 9-2014 | CK1: Sens Taxa 5-2015 | CL1: Sens Taxa 9-2015 | CM1: Sens Taxa 5-2016 | CN1: Sens Taxa 9-2016 | CO1: Sens Taxa 5-2017 | CP1: Sens Taxa 9-2017 | CQ1: Sens Taxa 5-2018 | CR1: Sens Taxa 9-2018 | CS1: Sens Taxa 5-2019 | CT1: Sens Taxa 9-2019 | CU1: Sens Taxa 5-2020 | CV1: Sens Taxa 9-2020
A2: Bear River | B2: Mineral Well Park | C2: =CONCATENATE(A2,"-",B2) -> Bear River-Mineral Well Park | D2: 1 | E2: =AVERAGE(H2:AL2) -> 13.217391 | F2: =AVERAGE(AM2:BQ2) -> 5.826087 | G2: =AVERAGE(BR2:CV2) -> 2.2173913 | H2: ND | I2: 19 | J2: 13 | K2: 11 | L2: 14 | M2: 11 | N2: 10 | O2: 19 | P2: 17 | Q2: 17 | R2: 16 | S2: 13 | T2: 13 | U2: 14 | V2: 11 | W2: 12 | X2: 10 | Y2: 12 | Z2: 16 | AA2: 16 | AB2: ND | AC2: 11 | AD2: 11 | AE2: 12 | AF2: ND | AI2: 6 | AJ2: ND | AM2: ND | AN2: 7 | AO2: 6 | AP2: 5 | AQ2: 6 | AR2: 6 | AS2: 5 | AT2: 7 | AU2: 7 | AV2: 5 | AW2: 7 | AX2: 5 | AY2: 7 | AZ2: 6 | BA2: 6 | BB2: 5 | BC2: 5 | BD2: 7 | BE2: 6 | BF2: 8 | BG2: ND | BH2: 5 | BI2: 5 | BJ2: 6 | BK2: ND | BN2: 2 | BO2: ND | BR2: ND | BS2: 4 | BT2: 2 | BU2: 3 | BV2: 4 | BW2: 2 | BX2: 2 | BY2: 1 | BZ2: 3 | CA2: 2 | CB2: 2 | CC2: 2 | CD2: 1 | CE2: 2 | CF2: 2 | CG2: 2 | CH2: 2 | CI2: 2 | CJ2: 2 | CK2: 3 | CL2: ND | CM2: 3 | CN2: 2 | CO2: 2 | CP2: ND | CS2: 1 | CT2: ND
A3: Bear River | B3: Bear River Road | C3: =CONCATENATE(A3,"-",B3) -> Bear River-Bear River Road | D3: 2 | E3: =AVERAGE(H3:AL3) -> 17.391304 | F3: =AVERAGE(AM3:BQ3) -> 7.4782609 | G3: =AVERAGE(BR3:CV3) -> 2.7826087 | H3: ND | I3: 25 | J3: 26 | K3: 13 | L3: 20 | M3: 25 | N3: 16 | O3: 18 | P3: 23 | Q3: 16 | R3: 18 | S3: 19 | T3: 19 | U3: 18 | V3: 17 | W3: 16 | X3: 18 | Y3: 12 | Z3: 14 | AA3: 12 | AB3: ND | AC3: 14 | AD3: 16 | AE3: 19 | AF3: ND | AI3: 6 | AJ3: ND | AM3: ND | AN3: 11 | AO3: 9 | AP3: 4 | AQ3: 10 | AR3: 12 | AS3: 9 | AT3: 8 | AU3: 11 | AV3: 7 | AW3: 6 | AX3: 9 | AY3: 9 | AZ3: 8 | BA3: 4 | BB3: 8 | BC3: 6 | BD3: 6 | BE3: 6 | BF3: 5 | BG3: ND | BH3: 8 | BI3: 6 | BJ3: 8 | BK3: ND | BN3: 2 | BO3: ND | BR3: ND | BS3: 5 | BT3: 4 | BU3: 1 | BV3: 5 | BW3: 5 | BX3: 6 | BY3: 2 | BZ3: 7 | CA3: 2 | CB3: 3 | CC3: 2 | CD3: 3 | CE3: 1 | CF3: 1 | CG3: 2 | CH3: 1 | CI3: 2 | CJ3: 2 | CK3: 1 | CL3: ND | CM3: 1 | CN3: 6 | CO3: 2 | CP3: ND | CS3: 0 | CT3: ND
A4: Bear River | B4: Walloon Lake Village | C4: =CONCATENATE(A4,"-",B4) -> Bear River-Walloon Lake Village | D4: 3 | E4: =AVERAGE(H4:AL4) -> 16.647059 | F4: =AVERAGE(AM4:BQ4) -> 4.4705882 | G4: =AVERAGE(BR4:CV4) -> 2.5882353 | H4: ND | I4: ND | J4: ND | K4: 18 | L4: 17 | M4: ND | N4: 20 | O4: ND | P4: ND | Q4: 18 | R4: 16 | S4: 14 | T4: 14 | U4: 13 | V4: 18 | W4: 19 | X4: 18 | Y4: 23 | Z4: 14 | AA4: 16 | AB4: 22 | AC4: 19 | AD4: ND | AE4: ND | AF4: ND | AI4: ND | AJ4: 4 | AL4: sampled, not enough indviduals | AM4: ND | AN4: ND | AO4: ND | AP4: 5 | AQ4: 3 | AR4: ND | AS4: 5 | AT4: ND | AU4: ND | AV4: 3 | AW4: 4 | AX4: 6 | AY4: 2 | AZ4: 5 | BA4: 3 | BB4: 8 | BC4: 4 | BD4: 9 | BE4: 3 | BF4: 5 | BG4: 3 | BH4: 7 | BI4: ND | BJ4: ND | BK4: ND | BO4: 1 | BQ4: sampled, not enough indviduals | BR4: ND | BS4: ND | BT4: ND | BU4: 3 | BV4: 1 | BW4: ND | BX4: 2 | BY4: ND | BZ4: ND | CA4: 1 | CB4: 1 | CC4: 4 | CD4: 1 | CE4: 2 | CF4: 1 | CG4: 4 | CH4: 2 | CI4: 8 | CJ4: 3 | CK4: 3 | CL4: 2 | CM4: 5 | CN4: ND | CO4: ND | CP4: ND | CS4: ND | CT4: 1 | CV4: sampled, not enough indviduals
A5: Berry Creek | B5: Banwell Rd. | C5: =CONCATENATE(A5,"-",B5) -> Berry Creek-Banwell Rd. | D5: 4 | E5: =AVERAGE(H5:AL5) -> 11 | F5: =AVERAGE(AM5:BQ5) -> 8 | G5: =AVERAGE(BR5:CV5) -> 4 | AI5: 11 | AJ5: ND | BN5: 8 | BO5: ND | CS5: 4 | CT5: ND
A6: Bessey Creek | B6: Ingleside Road | C6: =CONCATENATE(A6,"-",B6) -> Bessey Creek-Ingleside Road | D6: 5 | E6: =AVERAGE(H6:AL6) -> 14.666667 | F6: =AVERAGE(AM6:BQ6) -> 3 | G6: =AVERAGE(BR6:CV6) -> 5 | AC6: ND | AD6: ND | AE6: 16 | AF6: ND | AH6: 13 | AJ6: 15 | BH6: ND | BI6: ND | BJ6: 4 | BK6: ND | BM6: 2 | BO6: 3 | CM6: ND | CN6: ND | CO6: 3 | CP6: ND | CR6: 11 | CS6: ND | CT6: 1
A7: Boyne River | B7: Old City Park | C7: =CONCATENATE(A7,"-",B7) -> Boyne River-Old City Park | D7: 6 | E7: =AVERAGE(H7:AL7) -> 14.08 | F7: =AVERAGE(AM7:BQ7) -> 7.44 | G7: =AVERAGE(BR7:CV7) -> 3.76 | H7: 19 | I7: 20 | J7: 10 | K7: 12 | L7: 11 | M7: ND | N7: 17 | O7: 13 | P7: 17 | Q7: 17 | R7: 18 | S7: 16 | T7: 20 | U7: 17 | V7: ND | W7: 17 | X7: 13 | Y7: 17 | Z7: 10 | AA7: 15 | AB7: 13 | AC7: ND | AD7: 12 | AE7: 7 | AF7: 12 | AG7: 8 | AH7: 14 | AI7: 7 | AJ7: ND | AM7: 11 | AN7: 12 | AO7: 8 | AP7: 8 | AQ7: 8 | AR7: ND | AS7: 6 | AT7: 8 | AU7: 6 | AV7: 9 | AW7: 8 | AX7: 7 | AY7: 12 | AZ7: 9 | BA7: ND | BB7: 11 | BC7: 5 | BD7: 10 | BE7: 6 | BF7: 8 | BG7: 4 | BH7: ND | BI7: 7 | BJ7: 3 | BK7: 4 | BL7: 6 | BM7: 7 | BN7: 3 | BO7: ND | BR7: 5 | BS7: 6 | BT7: 4 | BU7: 3 | BV7: 4 | BW7: ND | BX7: 4 | BY7: 6 | BZ7: 4 | CA7: 5 | CB7: 5 | CC7: 6 | CD7: 9 | CE7: 4 | CF7: ND | CG7: 4 | CH7: 3 | CI7: 6 | CJ7: 2 | CK7: 4 | CL7: 1 | CM7: ND | CN7: 4 | CO7: 1 | CP7: 1 | CQ7: 1 | CR7: 1 | CS7: 1 | CT7: ND
A8: Black River | B8: Tin Shanty Bridge | C8: =CONCATENATE(A8,"-",B8) -> Black River-Tin Shanty Bridge | D8: 6 | E8: =AVERAGE(H8:AL8) -> 27.5 | F8: =AVERAGE(AM8:BQ8) -> 12.75 | G8: =AVERAGE(BR8:CV8) -> 8.25 | AG8: 27 | AH8: 23 | AI8: 24 | AJ8: 36 | BL8: 13 | BM8: 11 | BN8: 12 | BO8: 15 | CQ8: 8 | CR8: 8 | CS8: 7 | CT8: 10
A9: Black River | B9: Barber Bridge | C9: =CONCATENATE(A9,"-",B9) -> Black River-Barber Bridge | D9: 7 | E9: =AVERAGE(H9:AL9) -> 31.25 | F9: =AVERAGE(AM9:BQ9) -> 12.25 | G9: =AVERAGE(BR9:CV9) -> 8 | AG9: 18 | AH9: 49 | AI9: 28 | AJ9: 30 | BL9: 10 | BM9: 10 | BN9: 14 | BO9: 15 | CQ9: 8 | CR9: 5 | CS9: 7 | CT9: 12
A10: Boyne River | B10: Dobleski Road | C10: =CONCATENATE(A10,"-",B10) -> Boyne River-Dobleski Road | D10: 9 | E10: =AVERAGE(H10:AL10) -> 15.62069 | F10: =AVERAGE(AM10:BQ10) -> 9.3793103 | G10: =AVERAGE(BR10:CV10) -> 5.1034483 | H10: 15 | I10: 19 | J10: 14 | K10: 16 | L10: 12 | M10: ND | N10: 15 | O10: 10 | P10: 21 | Q10: 16 | R10: 17 | S10: 16 | T10: 16 | U10: 14 | V10: 15 | W10: 16 | X10: 23 | Y10: 15 | Z10: 18 | AA10: 19 | AB10: 12 | AC10: 9 | AD10: 19 | AE10: 11 | AF10: 19 | AG10: 13 | AH10: 14 | AI10: 10 | AJ10: 15 | AL10: 24 | AM10: 10 | AN10: 11 | AO10: 9 | AP10: 10 | AQ10: 8 | AR10: ND | AS10: 11 | AT10: 7 | AU10: 12 | AV10: 9 | AW10: 10 | AX10: 10 | AY10: 10 | AZ10: 9 | BA10: 10 | BB10: 8 | BC10: 13 | BD10: 8 | BE10: 10 | BF10: 10 | BG10: 9 | BH10: 6 | BI10: 9 | BJ10: 8 | BK10: 10 | BL10: 8 | BM10: 9 | BN10: 8 | BO10: 8 | BQ10: 12 | BR10: 5 | BS10: 7 | BT10: 4 | BU10: 5 | BV10: 5 | BW10: ND | BX10: 6 | BY10: 4 | BZ10: 7 | CA10: 7 | CB10: 6 | CC10: 7 | CD10: 4 | CE10: 5 | CF10: 5 | CG10: 4 | CH10: 8 | CI10: 4 | CJ10: 7 | CK10: 6 | CL10: 5 | CM10: 2 | CN10: 5 | CO10: 5 | CP10: 3 | CQ10: 3 | CR10: 5 | CS10: 3 | CT10: 4 | CV10: 7
A11: Boyne River | B11: Dam Road | C11: =CONCATENATE(A11,"-",B11) -> Boyne River-Dam Road | D11: 10 | E11: =AVERAGE(H11:AL11) -> 16.125 | F11: =AVERAGE(AM11:BQ11) -> 8.5416667 | G11: =AVERAGE(BR11:CV11) -> 5.0416667 | H11: ND | I11: ND | J11: ND | K11: ND | L11: 19 | M11: 20 | N11: 21 | O11: 16 | P11: 14 | Q11: 17 | R11: 16 | S11: 17 | T11: 10 | U11: 17 | V11: 16 | W11: 16 | X11: 16 | Y11: ND | Z11: 20 | AA11: 12 | AB11: 17 | AC11: 12 | AD11: 17 | AE11: 18 | AF11: 19 | AG11: 20 | AH11: 10 | AI11: 13 | AJ11: 14 | AM11: ND | AN11: ND | AO11: ND | AP11: ND | AQ11: 9 | AR11: 12 | AS11: 11 | AT11: 9 | AU11: 8 | AV11: 8 | AW11: 8 | AX11: 8 | AY11: 6 | AZ11: 9 | BA11: 12 | BB11: 9 | BC11: 10 | BD11: ND | BE11: 9 | BF11: 6 | BG11: 10 | BH11: 5 | BI11: 7 | BJ11: 10 | BK11: 8 | BL11: 10 | BM11: 5 | BN11: 8 | BO11: 8 | BR11: ND | BS11: ND | BT11: ND | BU11: ND | BV11: 6 | BW11: 6 | BX11: 7 | BY11: 4 | BZ11: 4 | CA11: 3 | CB11: 5 | CC11: 4 | CD11: 4 | CE11: 3 | CF11: 6 | CG11: 4 | CH11: 9 | CI11: ND | CJ11: 8 | CK11: 3 | CL11: 6 | CM11: 2 | CN11: 5 | CO11: 4 | CP11: 7 | CQ11: 8 | CR11: 4 | CS11: 4 | CT11: 5
A12: Boyne River | B12: North Branch Preserve | C12: =CONCATENATE(A12,"-",B12) -> Boyne River-North Branch Preserve | D12: 11 | E12: =AVERAGE(H12:AL12) -> 16.833333 | F12: =AVERAGE(AM12:BQ12) -> 8.625 | G12: =AVERAGE(BR12:CV12) -> 4.75 | H12: ND | I12: ND | J12: ND | K12: ND | L12: 17 | M12: 24 | N12: 26 | O12: 8 | P12: 21 | Q12: 17 | R12: ND | S12: 16 | T12: 12 | U12: 13 | V12: 18 | W12: 16 | X12: 14 | Y12: ND | Z12: 14 | AA12: 13 | AB12: 19 | AC12: 21 | AD12: 24 | AE12: 21 | AF12: 23 | AG12: 13 | AH12: 18 | AI12: 10 | AJ12: 12 | AL12: 14 | AM12: ND | AN12: ND | AO12: ND | AP12: ND | AQ12: 7 | AR12: 14 | AS12: 14 | AT12: 5 | AU12: 11 | AV12: 12 | AW12: ND | AX12: 7 | AY12: 5 | AZ12: 6 | BA12: 11 | BB12: 8 | BC12: 8 | BD12: ND | BE12: 4 | BF12: 8 | BG12: 9 | BH12: 9 | BI12: 10 | BJ12: 14 | BK12: 10 | BL12: 8 | BM12: 7 | BN12: 5 | BO12: 7 | BQ12: 8 | BR12: ND | BS12: ND | BT12: ND | BU12: ND | BV12: 3 | BW12: 7 | BX12: 6 | BY12: 3 | BZ12: 7 | CA12: 6 | CB12: ND | CC12: 4 | CD12: 3 | CE12: 3 | CF12: 6 | CG12: 6 | CH12: 4 | CI12: ND | CJ12: 2 | CK12: 4 | CL12: 5 | CM12: 6 | CN12: 4 | CO12: 9 | CP12: 6 | CQ12: 4 | CR12: 4 | CS12: 3 | CT12: 4 | CV12: 5
A13: Carp River | B13: Oliver Bridge Road | C13: =CONCATENATE(A13,"-",B13) -> Carp River-Oliver Bridge Road | D13: 12 | E13: =AVERAGE(H13:AL13) -> 18.2 | F13: =AVERAGE(AM13:BQ13) -> 7.4 | G13: =AVERAGE(BR13:CV13) -> 4.2 | H13: ND | I13: ND | J13: ND | K13: ND | L13: ND | M13: ND | N13: ND | O13: ND | P13: ND | Q13: ND | R13: ND | S13: ND | T13: ND | U13: ND | V13: ND | W13: 18 | X13: 24 | Y13: 15 | Z13: ND | AA13: 16 | AB13: 18 | AC13: ND | AD13: ND | AE13: ND | AF13: ND | AI13: ND | AJ13: ND | AM13: ND | AN13: ND | AO13: ND | AP13: ND | AQ13: ND | AR13: ND | AS13: ND | AT13: ND | AU13: ND | AV13: ND | AW13: ND | AX13: ND | AY13: ND | AZ13: ND | BA13: ND | BB13: 8 | BC13: 9 | BD13: 5 | BE13: ND | BF13: 6 | BG13: 9 | BH13: ND | BI13: ND | BJ13: ND | BK13: ND | BN13: ND | BO13: ND | BR13: ND | BS13: ND | BT13: ND | BU13: ND | BV13: ND | BW13: ND | BX13: ND | BY13: ND | BZ13: ND | CA13: ND | CB13: ND | CC13: ND | CD13: ND | CE13: ND | CF13: ND | CG13: 4 | CH13: 4 | CI13: 5 | CJ13: ND | CK13: 3 | CL13: 5 | CM13: ND | CN13: ND | CO13: ND | CP13: ND | CS13: ND | CT13: ND
A14: Carp River | B14: Mouth, Pointe Drive | C14: =CONCATENATE(A14,"-",B14) -> Carp River-Mouth, Pointe Drive | D14: 13 | E14: =AVERAGE(H14:AL14) -> 18.4 | F14: =AVERAGE(AM14:BQ14) -> 7 | G14: =AVERAGE(BR14:CV14) -> 4 | H14: ND | I14: ND | J14: ND | K14: ND | L14: ND | M14: ND | N14: ND | O14: ND | P14: ND | Q14: ND | R14: ND | S14: ND | T14: ND | U14: ND | V14: ND | W14: 18 | X14: 16 | Y14: 16 | Z14: ND | AA14: 19 | AB14: 23 | AC14: ND | AD14: ND | AE14: ND | AF14: ND | AI14: ND | AJ14: ND | AM14: ND | AN14: ND | AO14: ND | AP14: ND | AQ14: ND | AR14: ND | AS14: ND | AT14: ND | AU14: ND | AV14: ND | AW14: ND | AX14: ND | AY14: ND | AZ14: ND | BA14: ND | BB14: 7 | BC14: 3 | BD14: 7 | BE14: ND | BF14: 9 | BG14: 9 | BH14: ND | BI14: ND | BJ14: ND | BK14: ND | BN14: ND | BO14: ND | BR14: ND | BS14: ND | BT14: ND | BU14: ND | BV14: ND | BW14: ND | BX14: ND | BY14: ND | BZ14: ND | CA14: ND | CB14: ND | CC14: ND | CD14: ND | CE14: ND | CF14: ND | CG14: 4 | CH14: 2 | CI14: 3 | CJ14: ND | CK14: 7 | CL14: 4 | CM14: ND | CN14: ND | CO14: ND | CP14: ND | CS14: ND | CT14: ND
A15: Cedar River | B15: Cedar River Rd | C15: =CONCATENATE(A15,"-",B15) -> Cedar River-Cedar River Rd | D15: 14 | E15: =AVERAGE(H15:AL15) -> 17.333333 | F15: =AVERAGE(AM15:BQ15) -> 6.6666667 | G15: =AVERAGE(BR15:CV15) -> 5 | AC15: ND | AD15: ND | AE15: 19 | AF15: 17 | AG15: 16 | AI15: ND | AJ15: ND | BH15: ND | BI15: ND | BJ15: 8 | BK15: 5 | BL15: 7 | BN15: ND | BO15: ND | CM15: ND | CN15: ND | CO15: 6 | CP15: 3 | CQ15: 6 | CS15: ND | CT15: ND
A16: Cedar River | B16: Schuss Mountain Road | C16: =CONCATENATE(A16,"-",B16) -> Cedar River-Schuss Mountain Road | D16: 15 | E16: =AVERAGE(H16:AL16) -> 23.333333 | F16: =AVERAGE(AM16:BQ16) -> 11 | G16: =AVERAGE(BR16:CV16) -> 6 | AC16: ND | AD16: ND | AE16: 22 | AF16: 24 | AG16: 24 | AI16: ND | AJ16: ND | BH16: ND | BI16: ND | BJ16: 12 | BK16: 10 | BL16: 11 | BN16: ND | BO16: ND | CM16: ND | CN16: ND | CO16: 6 | CP16: 6 | CQ16: 6 | CS16: ND | CT16: ND
A17: Eastport Creek | B17: M-88 | C17: =CONCATENATE(A17,"-",B17) -> Eastport Creek-M-88 | D17: 16 | E17: =AVERAGE(H17:AL17) -> 17.045455 | F17: =AVERAGE(AM17:BQ17) -> 5.5909091 | G17: =AVERAGE(BR17:CV17) -> 2.0454545 | H17: 19 | I17: 22 | J17: ND | K17: 18 | L17: 15 | M17: 19 | N17: ND | O17: ND | P17: ND | Q17: ND | R17: ND | S17: 18 | T17: 17 | U17: ND | V17: 14 | W17: 16 | X17: 19 | Y17: 10 | Z17: ND | AA17: 17 | AB17: 20 | AC17: 18 | AD17: 17 | AE17: 20 | AF17: 12 | AG17: 20 | AH17: 15 | AI17: 22 | AJ17: 14 | AL17: 13 | AM17: 4 | AN17: 7 | AO17: ND | AP17: 6 | AQ17: 1 | AR17: 8 | AS17: ND | AT17: ND | AU17: ND | AV17: ND | AW17: ND | AX17: 5 | AY17: 6 | AZ17: ND | BA17: 3 | BB17: 7 | BC17: 4 | BD17: 3 | BE17: ND | BF17: 8 | BG17: 8 | BH17: 4 | BI17: 5 | BJ17: 8 | BK17: 4 | BL17: 6 | BM17: 6 | BN17: 9 | BO17: 6 | BQ17: 5 | BR17: 1 | BS17: 2 | BT17: ND | BU17: 2 | BV17: 0 | BW17: 5 | BX17: ND | BY17: ND | BZ17: ND | CA17: ND | CB17: ND | CC17: 1 | CD17: 2 | CE17: ND | CF17: 1 | CG17: 2 | CH17: 1 | CI17: 0 | CJ17: ND | CK17: 3 | CL17: 2 | CM17: 1 | CN17: 2 | CO17: 3 | CP17: 3 | CQ17: 3 | CR17: 3 | CS17: 4 | CT17: 2 | CV17: 2
A18: Eastport Creek | B18: Farrell Road | C18: =CONCATENATE(A18,"-",B18) -> Eastport Creek-Farrell Road | D18: 17 | E18: =AVERAGE(H18:AL18) -> 20.7 | F18: =AVERAGE(AM18:BQ18) -> 8.6 | G18: =AVERAGE(BR18:CV18) -> 3.75 | H18: 23 | I18: 25 | J18: ND | K18: 26 | L18: 29 | M18: 24 | N18: ND | O18: ND | P18: ND | Q18: ND | R18: ND | S18: ND | T18: 19 | U18: ND | V18: 20 | W18: 24 | X18: 25 | Y18: 14 | Z18: ND | AA18: 19 | AB18: 20 | AC18: 8 | AD18: ND | AE18: 24 | AF18: 21 | AG18: 18 | AH18: 15 | AI18: 25 | AJ18: 15 | AL18: 20 | AM18: 8 | AN18: 10 | AO18: ND | AP18: 11 | AQ18: 12 | AR18: 13 | AS18: ND | AT18: ND | AU18: ND | AV18: ND | AW18: ND | AX18: ND | AY18: 6 | AZ18: ND | BA18: 7 | BB18: 9 | BC18: 8 | BD18: 8 | BE18: ND | BF18: 9 | BG18: 8 | BH18: 4 | BI18: ND | BJ18: 9 | BK18: 10 | BL18: 8 | BM18: 6 | BN18: 10 | BO18: 9 | BQ18: 7 | BR18: 3 | BS18: 5 | BT18: ND | BU18: 5 | BV18: 5 | BW18: 7 | BX18: ND | BY18: ND | BZ18: ND | CA18: ND | CB18: ND | CC18: ND | CD18: 1 | CE18: ND | CF18: 3 | CG18: 6 | CH18: 3 | CI18: 3 | CJ18: ND | CK18: 4 | CL18: 4 | CM18: 1 | CN18: ND | CO18: 3 | CP18: 5 | CQ18: 4 | CR18: 3 | CS18: 5 | CT18: 3 | CV18: 2
A19: Horton Creek | B19: Boyne City Road | C19: =CONCATENATE(A19,"-",B19) -> Horton Creek-Boyne City Road | D19: 18 | E19: =AVERAGE(H19:AL19) -> 18.958333 | F19: =AVERAGE(AM19:BQ19) -> 10.041667 | G19: =AVERAGE(BR19:CV19) -> 5.875 | H19: 18 | I19: 18 | J19: 25 | K19: 18 | L19: 20 | M19: 25 | N19: 19 | O19: 15 | P19: 19 | Q19: 21 | R19: 21 | S19: 21 | T19: 20 | U19: 15 | V19: ND | W19: 26 | X19: ND | Y19: 17 | Z19: 20 | AA19: 13 | AB19: ND | AC19: 18 | AD19: 27 | AE19: 20 | AF19: 18 | AG19: 13 | AI19: 8 | AJ19: ND | AM19: 9 | AN19: 11 | AO19: 12 | AP19: 11 | AQ19: 10 | AR19: 15 | AS19: 8 | AT19: 10 | AU19: 12 | AV19: 12 | AW19: 11 | AX19: 11 | AY19: 9 | AZ19: 8 | BA19: ND | BB19: 15 | BC19: ND | BD19: 11 | BE19: 6 | BF19: 5 | BG19: ND | BH19: 8 | BI19: 12 | BJ19: 13 | BK19: 9 | BL19: 8 | BN19: 5 | BO19: ND | BR19: 6 | BS19: 9 | BT19: 7 | BU19: 7 | BV19: 5 | BW19: 7 | BX19: 5 | BY19: 6 | BZ19: 6 | CA19: 7 | CB19: 7 | CC19: 6 | CD19: 5 | CE19: 5 | CF19: ND | CG19: 8 | CH19: ND | CI19: 7 | CJ19: 3 | CK19: 4 | CL19: ND | CM19: 5 | CN19: 8 | CO19: 7 | CP19: 5 | CQ19: 5 | CS19: 1 | CT19: ND
A20: Horton Creek | B20: Church Road | C20: =CONCATENATE(A20,"-",B20) -> Horton Creek-Church Road | D20: 19 | E20: =AVERAGE(H20:AL20) -> 14.681818 | F20: =AVERAGE(AM20:BQ20) -> 5.2272727 | G20: =AVERAGE(BR20:CV20) -> 1.1818182 | H20: 15 | I20: 18 | J20: 13 | K20: 18 | L20: 21 | M20: 16 | N20: 15 | O20: 10 | P20: 17 | Q20: 14 | R20: 14 | S20: 12 | T20: 13 | U20: 13 | V20: ND | W20: 15 | X20: ND | Y20: ND | Z20: 11 | AA20: 7 | AB20: ND | AC20: 14 | AD20: 30 | AE20: 18 | AF20: ND | AG20: 7 | AI20: 12 | AJ20: ND | AM20: 5 | AN20: 5 | AO20: 5 | AP20: 7 | AQ20: 8 | AR20: 4 | AS20: 5 | AT20: 3 | AU20: 5 | AV20: 5 | AW20: 5 | AX20: 4 | AY20: 5 | AZ20: 4 | BA20: ND | BB20: 6 | BC20: ND | BD20: ND | BE20: 5 | BF20: 4 | BG20: ND | BH20: 5 | BI20: 9 | BJ20: 9 | BK20: ND | BL20: 4 | BN20: 3 | BO20: ND | BR20: 0 | BS20: 1 | BT20: 0 | BU20: 2 | BV20: 1 | BW20: 0 | BX20: 1 | BY20: 1 | BZ20: 1 | CA20: 1 | CB20: 2 | CC20: 1 | CD20: 1 | CE20: 0 | CF20: ND | CG20: 1 | CH20: ND | CI20: ND | CJ20: 0 | CK20: 1 | CL20: ND | CM20: 0 | CN20: 3 | CO20: 5 | CP20: ND | CQ20: 1 | CS20: 3 | CT20: ND
A21: Jordan River | B21: Webster Bridge Road | C21: =CONCATENATE(A21,"-",B21) -> Jordan River-Webster Bridge Road | D21: 20 | E21: =AVERAGE(H21:AL21) -> 20.0625 | F21: =AVERAGE(AM21:BQ21) -> 11.1875 | G21: =AVERAGE(BR21:CV21) -> 6.9375 | H21: ND | I21: ND | J21: ND | K21: 17 | L21: 28 | M21: 18 | N21: 20 | O21: 14 | P21: 23 | Q21: 20 | R21: 22 | S21: ND | T21: ND | U21: 21 | V21: 20 | W21: ND | X21: ND | Y21: 16 | Z21: 34 | AA21: ND | AB21: ND | AC21: 20 | AD21: ND | AE21: 18 | AF21: 21 | AG21: 9 | AI21: ND | AJ21: ND | AM21: ND | AN21: ND | AO21: ND | AP21: 10 | AQ21: 12 | AR21: 10 | AS21: 12 | AT21: 10 | AU21: 15 | AV21: 12 | AW21: 13 | AX21: ND | AY21: ND | AZ21: 11 | BA21: 12 | BB21: ND | BC21: ND | BD21: 12 | BE21: 13 | BF21: ND | BG21: ND | BH21: 11 | BI21: ND | BJ21: 11 | BK21: 10 | BL21: 5 | BN21: ND | BO21: ND | BR21: ND | BS21: ND | BT21: ND | BU21: 5 | BV21: 8 | BW21: 5 | BX21: 7 | BY21: 6 | BZ21: 11 | CA21: 7 | CB21: 9 | CC21: ND | CD21: ND | CE21: 7 | CF21: 7 | CG21: ND | CH21: ND | CI21: 5 | CJ21: 8 | CK21: ND | CL21: ND | CM21: 6 | CN21: ND | CO21: 8 | CP21: 8 | CQ21: 4 | CS21: ND | CT21: ND
A22: Jordan River | B22: Penny Bridge | C22: =CONCATENATE(A22,"-",B22) -> Jordan River-Penny Bridge | D22: 21 | E22: =AVERAGE(H22:AL22) -> 21 | F22: =AVERAGE(AM22:BQ22) -> 12.111111 | G22: =AVERAGE(BR22:CV22) -> 8 | H22: ND | I22: ND | J22: ND | K22: ND | L22: ND | M22: ND | N22: ND | O22: ND | P22: ND | Q22: ND | R22: ND | S22: 21 | T22: 19 | U22: ND | V22: ND | W22: 28 | X22: 25 | Y22: ND | Z22: ND | AA22: 25 | AB22: 21 | AC22: ND | AD22: ND | AE22: 22 | AF22: 17 | AG22: 11 | AI22: ND | AJ22: ND | AM22: ND | AN22: ND | AO22: ND | AP22: ND | AQ22: ND | AR22: ND | AS22: ND | AT22: ND | AU22: ND | AV22: ND | AW22: ND | AX22: 16 | AY22: 13 | AZ22: ND | BA22: ND | BB22: 14 | BC22: 14 | BD22: ND | BE22: ND | BF22: 14 | BG22: 13 | BH22: ND | BI22: ND | BJ22: 12 | BK22: 9 | BL22: 4 | BN22: ND | BO22: ND | BR22: ND | BS22: ND | BT22: ND | BU22: ND | BV22: ND | BW22: ND | BX22: ND | BY22: ND | BZ22: ND | CA22: ND | CB22: ND | CC22: 11 | CD22: 8 | CE22: ND | CF22: ND | CG22: 9 | CH22: 8 | CI22: ND | CJ22: ND | CK22: 11 | CL22: 9 | CM22: ND | CN22: ND | CO22: 9 | CP22: 5 | CQ22: 2 | CS22: ND | CT22: ND
A23: Jordan River | B23: Fair Road | C23: =CONCATENATE(A23,"-",B23) -> Jordan River-Fair Road | D23: 22 | E23: =AVERAGE(H23:AL23) -> 20.769231 | F23: =AVERAGE(AM23:BQ23) -> 10.384615 | G23: =AVERAGE(BR23:CV23) -> 5 | H23: ND | I23: ND | J23: ND | K23: 18 | L23: 23 | M23: 21 | N23: 27 | O23: 18 | P23: 23 | Q23: 18 | R23: 17 | S23: ND | T23: ND | U23: 23 | V23: 17 | W23: ND | X23: ND | Y23: 15 | Z23: 31 | AA23: ND | AB23: ND | AC23: 19 | AD23: ND | AE23: ND | AF23: ND | AI23: ND | AJ23: ND | AM23: ND | AN23: ND | AO23: ND | AP23: 11 | AQ23: 10 | AR23: 10 | AS23: 15 | AT23: 8 | AU23: 11 | AV23: 11 | AW23: 10 | AX23: ND | AY23: ND | AZ23: 9 | BA23: 10 | BB23: ND | BC23: ND | BD23: 7 | BE23: 15 | BF23: ND | BG23: ND | BH23: 8 | BI23: ND | BJ23: ND | BK23: ND | BN23: ND | BO23: ND | BR23: ND | BS23: ND | BT23: ND | BU23: 6 | BV23: 6 | BW23: 5 | BX23: 9 | BY23: 5 | BZ23: 5 | CA23: 6 | CB23: 3 | CC23: ND | CD23: ND | CE23: 3 | CF23: 4 | CG23: ND | CH23: ND | CI23: 5 | CJ23: 6 | CK23: ND | CL23: ND | CM23: 2 | CN23: ND | CO23: ND | CP23: ND | CS23: ND | CT23: ND
A24: Jordan River | B24: Rogers Road | C24: =CONCATENATE(A24,"-",B24) -> Jordan River-Rogers Road | D24: 23 | E24: =AVERAGE(H24:AL24) -> 21.142857 | F24: =AVERAGE(AM24:BQ24) -> 11 | G24: =AVERAGE(BR24:CV24) -> 6.4285714 | H24: ND | I24: ND | J24: ND | K24: ND | L24: ND | M24: ND | N24: ND | O24: ND | P24: ND | Q24: ND | R24: ND | S24: 15 | T24: 24 | U24: ND | V24: ND | W24: 23 | X24: 30 | Y24: ND | Z24: ND | AA24: 16 | AB24: 17 | AC24: ND | AD24: 23 | AE24: ND | AF24: ND | AI24: ND | AJ24: ND | AM24: ND | AN24: ND | AO24: ND | AP24: ND | AQ24: ND | AR24: ND | AS24: ND | AT24: ND | AU24: ND | AV24: ND | AW24: ND | AX24: 9 | AY24: 12 | AZ24: ND | BA24: ND | BB24: 12 | BC24: 13 | BD24: ND | BE24: ND | BF24: 8 | BG24: 12 | BH24: ND | BI24: 11 | BJ24: ND | BK24: ND | BN24: ND | BO24: ND | BR24: ND | BS24: ND | BT24: ND | BU24: ND | BV24: ND | BW24: ND | BX24: ND | BY24: ND | BZ24: ND | CA24: ND | CB24: ND | CC24: 4 | CD24: 8 | CE24: ND | CF24: ND | CG24: 8 | CH24: 7 | CI24: ND | CJ24: ND | CK24: 5 | CL24: 6 | CM24: ND | CN24: 7 | CO24: ND | CP24: ND | CS24: ND | CT24: ND
A25: Kimberly Creek | B25: Quarry Road | C25: =CONCATENATE(A25,"-",B25) -> Kimberly Creek-Quarry Road | D25: 24 | E25: =AVERAGE(H25:AL25) -> 20.473684 | F25: =AVERAGE(AM25:BQ25) -> 8 | G25: =AVERAGE(BR25:CV25) -> 4.2105263 | H25: 18 | I25: 24 | J25: 23 | K25: 28 | L25: 15 | M25: 24 | N25: ND | O25: 24 | P25: 17 | Q25: 17 | R25: 13 | S25: 26 | T25: 26 | U25: ND | V25: 20 | W25: 27 | X25: 21 | Y25: ND | Z25: 20 | AA25: ND | AB25: ND | AC25: ND | AD25: 19 | AE25: 18 | AF25: ND | AI25: 9 | AJ25: ND | AM25: 7 | AN25: 9 | AO25: 8 | AP25: 11 | AQ25: 7 | AR25: 11 | AS25: ND | AT25: 11 | AU25: 5 | AV25: 9 | AW25: 4 | AX25: 12 | AY25: 8 | AZ25: ND | BA25: 5 | BB25: 11 | BC25: 7 | BD25: ND | BE25: 7 | BF25: ND | BG25: ND | BH25: ND | BI25: 9 | BJ25: 7 | BK25: ND | BN25: 4 | BO25: ND | BR25: 3 | BS25: 5 | BT25: 4 | BU25: 5 | BV25: 4 | BW25: 6 | BX25: ND | BY25: 7 | BZ25: 2 | CA25: 4 | CB25: 3 | CC25: 5 | CD25: 4 | CE25: ND | CF25: 4 | CG25: 8 | CH25: 4 | CI25: ND | CJ25: 3 | CK25: ND | CL25: ND | CM25: ND | CN25: 3 | CO25: 2 | CP25: ND | CS25: 4 | CT25: ND
A26: Kimberly Creek | B26: Montgomery Road | C26: =CONCATENATE(A26,"-",B26) -> Kimberly Creek-Montgomery Road | D26: 25 | E26: =AVERAGE(H26:AL26) -> 20.529412 | F26: =AVERAGE(AM26:BQ26) -> 7.0588235 | G26: =AVERAGE(BR26:CV26) -> 3.2352941 | H26: 20 | I26: 18 | J26: 19 | K26: 32 | L26: 20 | M26: 30 | N26: ND | O26: 21 | P26: 18 | Q26: 20 | R26: 12 | S26: 21 | T26: 19 | U26: ND | V26: 18 | W26: 22 | X26: ND | Y26: 21 | Z26: 24 | AA26: ND | AB26: ND | AC26: ND | AD26: 14 | AE26: ND | AF26: ND | AI26: ND | AJ26: ND | AM26: 7 | AN26: 9 | AO26: 8 | AP26: 12 | AQ26: 9 | AR26: 9 | AS26: ND | AT26: 7 | AU26: 6 | AV26: 5 | AW26: 4 | AX26: 8 | AY26: 4 | AZ26: ND | BA26: 6 | BB26: 7 | BC26: ND | BD26: 8 | BE26: 7 | BF26: ND | BG26: ND | BH26: ND | BI26: 4 | BJ26: ND | BK26: ND | BN26: ND | BO26: ND | BR26: 3 | BS26: 4 | BT26: 3 | BU26: 8 | BV26: 3 | BW26: 5 | BX26: ND | BY26: 2 | BZ26: 2 | CA26: 3 | CB26: 2 | CC26: 3 | CD26: 1 | CE26: ND | CF26: 3 | CG26: 4 | CH26: ND | CI26: 5 | CJ26: 3 | CK26: ND | CL26: ND | CM26: ND | CN26: 1 | CO26: ND | CP26: ND | CS26: ND | CT26: ND
A27: Maple River | B27: Woodland Road | C27: =CONCATENATE(A27,"-",B27) -> Maple River-Woodland Road | D27: 26 | E27: =AVERAGE(H27:AL27) -> 23.333333 | F27: =AVERAGE(AM27:BQ27) -> 9.5555556 | G27: =AVERAGE(BR27:CV27) -> 3.5555556 | H27: ND | I27: ND | J27: ND | K27: ND | L27: ND | M27: ND | N27: ND | O27: ND | P27: ND | Q27: ND | R27: ND | S27: ND | T27: 34 | U27: 21 | V27: ND | W27: 25 | X27: 24 | Y27: ND | Z27: 24 | AA27: ND | AB27: 17 | AC27: 27 | AD27: ND | AE27: 20 | AF27: 18 | AI27: ND | AJ27: ND | AM27: ND | AN27: ND | AO27: ND | AP27: ND | AQ27: ND | AR27: ND | AS27: ND | AT27: ND | AU27: ND | AV27: ND | AW27: ND | AX27: ND | AY27: 12 | AZ27: 9 | BA27: ND | BB27: 11 | BC27: 11 | BD27: ND | BE27: 10 | BF27: ND | BG27: 8 | BH27: 12 | BI27: ND | BJ27: 7 | BK27: 6 | BN27: ND | BO27: ND | BR27: ND | BS27: ND | BT27: ND | BU27: ND | BV27: ND | BW27: ND | BX27: ND | BY27: ND | BZ27: ND | CA27: ND | CB27: ND | CC27: ND | CD27: 3 | CE27: 4 | CF27: ND | CG27: 4 | CH27: 3 | CI27: ND | CJ27: 3 | CK27: ND | CL27: 3 | CM27: 7 | CN27: ND | CO27: 2 | CP27: 3 | CS27: ND | CT27: ND
A28: Maple River | B28: Robinson Road | C28: =CONCATENATE(A28,"-",B28) -> Maple River-Robinson Road | D28: 27 | E28: =AVERAGE(H28:AL28) -> 20.454545 | F28: =AVERAGE(AM28:BQ28) -> 10.090909 | G28: =AVERAGE(BR28:CV28) -> 4.5454545 | H28: ND | I28: ND | J28: ND | K28: ND | L28: ND | M28: ND | N28: ND | O28: ND | P28: ND | Q28: ND | R28: ND | S28: ND | T28: 21 | U28: ND | V28: 23 | W28: 27 | X28: 30 | Y28: ND | Z28: ND | AA28: 15 | AB28: 26 | AC28: 13 | AD28: ND | AE28: 22 | AF28: 29 | AG28: 9 | AI28: 10 | AJ28: ND | AM28: ND | AN28: ND | AO28: ND | AP28: ND | AQ28: ND | AR28: ND | AS28: ND | AT28: ND | AU28: ND | AV28: ND | AW28: ND | AX28: ND | AY28: 7 | AZ28: ND | BA28: 9 | BB28: 14 | BC28: 15 | BD28: ND | BE28: ND | BF28: 7 | BG28: 9 | BH28: 8 | BI28: ND | BJ28: 11 | BK28: 16 | BL28: 6 | BN28: 9 | BO28: ND | BR28: ND | BS28: ND | BT28: ND | BU28: ND | BV28: ND | BW28: ND | BX28: ND | BY28: ND | BZ28: ND | CA28: ND | CB28: ND | CC28: ND | CD28: 4 | CE28: ND | CF28: 3 | CG28: 7 | CH28: 6 | CI28: ND | CJ28: ND | CK28: 4 | CL28: 3 | CM28: 4 | CN28: ND | CO28: 4 | CP28: 9 | CQ28: 2 | CS28: 4 | CT28: ND
A29: Maple River | B29: Pleasantview Road | C29: =CONCATENATE(A29,"-",B29) -> Maple River-Pleasantview Road | D29: 29 | E29: =AVERAGE(H29:AL29) -> 18 | F29: =AVERAGE(AM29:BQ29) -> 6.8333333 | G29: =AVERAGE(BR29:CV29) -> 1.3333333 | H29: ND | I29: ND | J29: ND | K29: ND | L29: ND | M29: ND | N29: ND | O29: ND | P29: ND | Q29: ND | R29: ND | S29: ND | T29: 11 | U29: ND | V29: 19 | W29: 24 | X29: 19 | Y29: 16 | Z29: ND | AA29: 19 | AB29: ND | AC29: ND | AD29: ND | AE29: ND | AF29: ND | AI29: ND | AJ29: ND | AM29: ND | AN29: ND | AO29: ND | AP29: ND | AQ29: ND | AR29: ND | AS29: ND | AT29: ND | AU29: ND | AV29: ND | AW29: ND | AX29: ND | AY29: 3 | AZ29: ND | BA29: 10 | BB29: 7 | BC29: 9 | BD29: 6 | BE29: ND | BF29: 6 | BG29: ND | BH29: ND | BI29: ND | BJ29: ND | BK29: ND | BN29: ND | BO29: ND | BR29: ND | BS29: ND | BT29: ND | BU29: ND | BV29: ND | BW29: ND | BX29: ND | BY29: ND | BZ29: ND | CA29: ND | CB29: ND | CC29: ND | CD29: 1 | CE29: ND | CF29: 1 | CG29: 1 | CH29: 2 | CI29: 2 | CJ29: ND | CK29: 1 | CL29: ND | CM29: ND | CN29: ND | CO29: ND | CP29: ND | CS29: ND | CT29: ND
A30: Maple River | B30: US-31 | C30: =CONCATENATE(A30,"-",B30) -> Maple River-US-31 | D30: 30 | E30: =AVERAGE(H30:AL30) -> 18 | F30: =AVERAGE(AM30:BQ30) -> 12 | G30: =AVERAGE(BR30:CV30) -> 7.5 | AG30: 20 | AI30: 16 | AJ30: ND | BL30: 14 | BN30: 10 | BO30: ND | CQ30: 8 | CS30: 7 | CT30: ND
A31: Milligan Creek | B31: M-68 | C31: =CONCATENATE(A31,"-",B31) -> Milligan Creek-M-68 | D31: 31 | E31: =AVERAGE(H31:AL31) -> 20.470588 | F31: =AVERAGE(AM31:BQ31) -> 10.294118 | G31: =AVERAGE(BR31:CV31) -> 6.8823529 | H31: ND | I31: ND | J31: ND | K31: ND | L31: ND | M31: 19 | N31: 31 | O31: 22 | P31: 23 | Q31: 15 | R31: 15 | S31: 22 | T31: ND | U31: ND | V31: 22 | W31: ND | X31: ND | Y31: 21 | Z31: 20 | AA31: 20 | AB31: ND | AC31: ND | AD31: 19 | AE31: 22 | AF31: 17 | AG31: 19 | AI31: 21 | AJ31: 20 | AM31: ND | AN31: ND | AO31: ND | AP31: ND | AQ31: ND | AR31: 11 | AS31: 12 | AT31: 13 | AU31: 11 | AV31: 6 | AW31: 6 | AX31: 11 | AY31: ND | AZ31: ND | BA31: 10 | BB31: ND | BC31: ND | BD31: 13 | BE31: 11 | BF31: 11 | BG31: ND | BH31: ND | BI31: 9 | BJ31: 11 | BK31: 10 | BL31: 10 | BN31: 12 | BO31: 8 | BR31: ND | BS31: ND | BT31: ND | BU31: ND | BV31: ND | BW31: 7 | BX31: 6 | BY31: 5 | BZ31: 8 | CA31: 4 | CB31: 4 | CC31: 8 | CD31: ND | CE31: ND | CF31: 9 | CG31: ND | CH31: ND | CI31: 7 | CJ31: 7 | CK31: 9 | CL31: ND | CM31: ND | CN31: 5 | CO31: 9 | CP31: 6 | CQ31: 8 | CS31: 8 | CT31: 7
A32: Milligan Creek | B32: Waveland Road | C32: =CONCATENATE(A32,"-",B32) -> Milligan Creek-Waveland Road | D32: 32 | E32: =AVERAGE(H32:AL32) -> 19.111111 | F32: =AVERAGE(AM32:BQ32) -> 9.6111111 | G32: =AVERAGE(BR32:CV32) -> 6.4444444 | H32: ND | I32: ND | J32: ND | K32: ND | L32: ND | M32: 9 | N32: 16 | O32: 17 | P32: 19 | Q32: 26 | R32: ND | S32: 19 | T32: ND | U32: ND | V32: 20 | W32: ND | X32: 26 | Y32: 24 | Z32: 20 | AA32: 20 | AB32: ND | AC32: ND | AD32: 16 | AE32: 20 | AF32: 17 | AG32: 21 | AH32: 21 | AI32: 11 | AJ32: 22 | AM32: ND | AN32: ND | AO32: ND | AP32: ND | AQ32: ND | AR32: 5 | AS32: 7 | AT32: 8 | AU32: 11 | AV32: 11 | AW32: ND | AX32: 13 | AY32: ND | AZ32: ND | BA32: 10 | BB32: ND | BC32: 9 | BD32: 10 | BE32: 12 | BF32: 12 | BG32: ND | BH32: ND | BI32: 8 | BJ32: 12 | BK32: 8 | BL32: 10 | BM32: 10 | BN32: 8 | BO32: 9 | BR32: ND | BS32: ND | BT32: ND | BU32: ND | BV32: ND | BW32: 4 | BX32: 3 | BY32: 5 | BZ32: 7 | CA32: 8 | CB32: ND | CC32: 8 | CD32: ND | CE32: ND | CF32: 9 | CG32: ND | CH32: 5 | CI32: 5 | CJ32: 6 | CK32: 10 | CL32: ND | CM32: ND | CN32: 6 | CO32: 7 | CP32: 6 | CQ32: 7 | CR32: 8 | CS32: 5 | CT32: 7
A33: Minnehaha Creek | B33: Pickerel Lake Road | C33: =CONCATENATE(A33,"-",B33) -> Minnehaha Creek-Pickerel Lake Road | D33: 33 | E33: =AVERAGE(H33:AL33) -> 13 | F33: =AVERAGE(AM33:BQ33) -> 7.8 | G33: =AVERAGE(BR33:CV33) -> 3.6 | AC33: ND | AD33: ND | AE33: 16 | AF33: 17 | AG33: 12 | AI33: 7 | AJ33: 13 | BH33: ND | BI33: ND | BJ33: 10 | BK33: 10 | BL33: 7 | BN33: 2 | BO33: 10 | CM33: ND | CN33: ND | CO33: 5 | CP33: 4 | CQ33: 4 | CS33: 1 | CT33: 4
A34: Minnehaha Creek | B34: Maxwell Road | C34: =CONCATENATE(A34,"-",B34) -> Minnehaha Creek-Maxwell Road | D34: 34 | E34: =AVERAGE(H34:AL34) -> 14.333333 | F34: =AVERAGE(AM34:BQ34) -> 8.1666667 | G34: =AVERAGE(BR34:CV34) -> 4 | AC34: ND | AD34: ND | AE34: 14 | AF34: 16 | AG34: 22 | AH34: 13 | AI34: 10 | AJ34: 11 | BH34: ND | BI34: ND | BJ34: 9 | BK34: 9 | BL34: 13 | BM34: 6 | BN34: 7 | BO34: 5 | CM34: ND | CN34: ND | CO34: 3 | CP34: 5 | CQ34: 7 | CR34: 3 | CS34: 4 | CT34: 2
A35: Mullett Creek | B35: Indian Trail | C35: =CONCATENATE(A35,"-",B35) -> Mullett Creek-Indian Trail | D35: 35 | E35: =AVERAGE(H35:AL35) -> 15.75 | F35: =AVERAGE(AM35:BQ35) -> 7.625 | G35: =AVERAGE(BR35:CV35) -> 3.75 | H35: ND | I35: ND | J35: ND | K35: ND | L35: ND | M35: ND | N35: ND | O35: ND | P35: ND | Q35: ND | R35: ND | S35: ND | T35: ND | U35: ND | V35: 18 | W35: 17 | X35: 14 | Y35: 15 | Z35: 16 | AA35: 17 | AB35: 17 | AC35: ND | AD35: ND | AE35: ND | AF35: ND | AJ35: 12 | AM35: ND | AN35: ND | AO35: ND | AP35: ND | AQ35: ND | AR35: ND | AS35: ND | AT35: ND | AU35: ND | AV35: ND | AW35: ND | AX35: ND | AY35: ND | AZ35: ND | BA35: 8 | BB35: 8 | BC35: 6 | BD35: 10 | BE35: 8 | BF35: 9 | BG35: 6 | BH35: ND | BI35: ND | BJ35: ND | BK35: ND | BO35: 6 | BR35: ND | BS35: ND | BT35: ND | BU35: ND | BV35: ND | BW35: ND | BX35: ND | BY35: ND | BZ35: ND | CA35: ND | CB35: ND | CC35: ND | CD35: ND | CE35: ND | CF35: 5 | CG35: 3 | CH35: 4 | CI35: 4 | CJ35: 4 | CK35: 5 | CL35: 3 | CM35: ND | CN35: ND | CO35: ND | CP35: ND | CT35: 2
A36: Mullett Creek | B36: Crump Road | C36: =CONCATENATE(A36,"-",B36) -> Mullett Creek-Crump Road | D36: 36 | E36: =AVERAGE(H36:AL36) -> 20.05 | F36: =AVERAGE(AM36:BQ36) -> 9.9 | G36: =AVERAGE(BR36:CV36) -> 5.15 | H36: 17 | I36: 21 | J36: 25 | K36: 14 | L36: 19 | M36: 17 | N36: 26 | O36: 19 | P36: 17 | Q36: 24 | R36: 17 | S36: 14 | T36: 23 | U36: 24 | V36: ND | W36: ND | X36: ND | Y36: ND | Z36: ND | AA36: ND | AB36: ND | AC36: 22 | AD36: 29 | AE36: 20 | AF36: 18 | AI36: 14 | AJ36: 21 | AM36: 13 | AN36: 11 | AO36: 12 | AP36: 4 | AQ36: 10 | AR36: 10 | AS36: 12 | AT36: 10 | AU36: 8 | AV36: 11 | AW36: 7 | AX36: 6 | AY36: 12 | AZ36: 12 | BA36: ND | BB36: ND | BC36: ND | BD36: ND | BE36: ND | BF36: ND | BG36: ND | BH36: 10 | BI36: 12 | BJ36: 11 | BK36: 10 | BN36: 12 | BO36: 5 | BR36: 7 | BS36: 5 | BT36: 5 | BU36: 3 | BV36: 4 | BW36: 5 | BX36: 8 | BY36: 4 | BZ36: 4 | CA36: 5 | CB36: 4 | CC36: 6 | CD36: 6 | CE36: 5 | CF36: ND | CG36: ND | CH36: ND | CI36: ND | CJ36: ND | CK36: ND | CL36: ND | CM36: 5 | CN36: 5 | CO36: 6 | CP36: 5 | CS36: 6 | CT36: 5
A37: Mullett Creek | B37: Straits Highway | C37: =CONCATENATE(A37,"-",B37) -> Mullett Creek-Straits Highway | D37: 37 | E37: =AVERAGE(H37:AL37) -> 21.1875 | F37: =AVERAGE(AM37:BQ37) -> 5 | G37: =AVERAGE(BR37:CV37) -> 1.5 | H37: 21 | I37: 14 | J37: 20 | K37: 23 | L37: 22 | M37: 26 | N37: 23 | O37: 35 | P37: 15 | Q37: 17 | R37: 21 | S37: 21 | T37: 28 | U37: 21 | V37: ND | W37: ND | X37: ND | Y37: ND | Z37: ND | AA37: ND | AB37: ND | AC37: ND | AD37: ND | AE37: ND | AF37: ND | AI37: 12 | AJ37: 20 | AM37: 7 | AN37: 3 | AO37: 5 | AP37: 6 | AQ37: 4 | AR37: 8 | AS37: 6 | AT37: 9 | AU37: 6 | AV37: 4 | AW37: 4 | AX37: 3 | AY37: 5 | AZ37: 4 | BA37: ND | BB37: ND | BC37: ND | BD37: ND | BE37: ND | BF37: ND | BG37: ND | BH37: ND | BI37: ND | BJ37: ND | BK37: ND | BN37: 4 | BO37: 2 | BR37: 0 | BS37: 0 | BT37: 0 | BU37: 1 | BV37: 0 | BW37: 2 | BX37: 1 | BY37: 3 | BZ37: 1 | CA37: 1 | CB37: 0 | CC37: 0 | CD37: 2 | CE37: 0 | CF37: ND | CG37: ND | CH37: ND | CI37: ND | CJ37: ND | CK37: ND | CL37: ND | CM37: ND | CN37: ND | CO37: 1 | CP37: 3 | CQ37: 7 | CR37: 5 | CS37: 2 | CT37: 1
A38: Mullett Creek | B38: S. Extension Road | C38: =CONCATENATE(A38,"-",B38) -> Mullett Creek-S. Extension Road | D38: 38 | E38: =AVERAGE(H38:AL38) -> 22.142857 | F38: =AVERAGE(AM38:BQ38) -> 9.7142857 | G38: =AVERAGE(BR38:CV38) -> 5.4285714 | H38: ND | I38: ND | J38: ND | K38: ND | L38: ND | M38: ND | N38: ND | O38: ND | P38: ND | Q38: ND | R38: ND | S38: ND | T38: ND | U38: ND | V38: 24 | W38: 22 | X38: 20 | Y38: 20 | Z38: 19 | AA38: 24 | AB38: 26 | AC38: ND | AD38: ND | AE38: ND | AF38: ND | AM38: ND | AN38: ND | AO38: ND | AP38: ND | AQ38: ND | AR38: ND | AS38: ND | AT38: ND | AU38: ND | AV38: ND | AW38: ND | AX38: ND | AY38: ND | AZ38: ND | BA38: 10 | BB38: 12 | BC38: 7 | BD38: 11 | BE38: 7 | BF38: 11 | BG38: 10 | BH38: ND | BI38: ND | BJ38: ND | BK38: ND | BR38: ND | BS38: ND | BT38: ND | BU38: ND | BV38: ND | BW38: ND | BX38: ND | BY38: ND | BZ38: ND | CA38: ND | CB38: ND | CC38: ND | CD38: ND | CE38: ND | CF38: 4 | CG38: 7 | CH38: 5 | CI38: 5 | CJ38: 5 | CK38: 7 | CL38: 5 | CM38: ND | CN38: ND | CO38: ND | CP38: ND
A39: Pigeon River | B39: Sturgeon Valley Road | C39: =CONCATENATE(A39,"-",B39) -> Pigeon River-Sturgeon Valley Road | D39: 39 | E39: =AVERAGE(H39:AL39) -> 22.588235 | F39: =AVERAGE(AM39:BQ39) -> 10.470588 | G39: =AVERAGE(BR39:CV39) -> 6.7058824 | H39: ND | I39: ND | J39: ND | K39: ND | L39: ND | M39: ND | N39: ND | O39: ND | P39: ND | Q39: ND | R39: ND | S39: 27 | T39: 22 | U39: 24 | V39: 17 | W39: ND | X39: 18 | Y39: 19 | Z39: 20 | AA39: 22 | AB39: 23 | AC39: 22 | AD39: 23 | AE39: 26 | AF39: 22 | AG39: 21 | AH39: 27 | AI39: 25 | AL39: 26 | AM39: ND | AN39: ND | AO39: ND | AP39: ND | AQ39: ND | AR39: ND | AS39: ND | AT39: ND | AU39: ND | AV39: ND | AW39: ND | AX39: 12 | AY39: 7 | AZ39: 11 | BA39: 6 | BB39: ND | BC39: 7 | BD39: 8 | BE39: 8 | BF39: 11 | BG39: 11 | BH39: 11 | BI39: 12 | BJ39: 12 | BK39: 10 | BL39: 11 | BM39: 14 | BN39: 12 | BQ39: 15 | BR39: ND | BS39: ND | BT39: ND | BU39: ND | BV39: ND | BW39: ND | BX39: ND | BY39: ND | BZ39: ND | CA39: ND | CB39: ND | CC39: 6 | CD39: 5 | CE39: 5 | CF39: 5 | CG39: ND | CH39: 4 | CI39: 4 | CJ39: 6 | CK39: 7 | CL39: 7 | CM39: 9 | CN39: 6 | CO39: 8 | CP39: 5 | CQ39: 8 | CR39: 11 | CS39: 7 | CV39: 11
A40: Pigeon River | B40: Webb Road | C40: =CONCATENATE(A40,"-",B40) -> Pigeon River-Webb Road | D40: 40 | E40: =AVERAGE(H40:AL40) -> 21.058824 | F40: =AVERAGE(AM40:BQ40) -> 11.764706 | G40: =AVERAGE(BR40:CV40) -> 7.0588235 | H40: ND | I40: ND | J40: ND | K40: ND | L40: ND | M40: ND | N40: ND | O40: ND | P40: ND | Q40: ND | R40: ND | S40: ND | T40: 25 | U40: 17 | V40: 22 | W40: 21 | X40: 18 | Y40: 16 | Z40: 24 | AA40: 18 | AB40: 26 | AC40: 21 | AD40: 25 | AE40: 18 | AF40: 24 | AG40: 15 | AH40: 19 | AI40: 26 | AL40: 23 | AM40: ND | AN40: ND | AO40: ND | AP40: ND | AQ40: ND | AR40: ND | AS40: ND | AT40: ND | AU40: ND | AV40: ND | AW40: ND | AX40: ND | AY40: 12 | AZ40: 11 | BA40: 12 | BB40: 15 | BC40: 9 | BD40: 10 | BE40: 13 | BF40: 10 | BG40: 14 | BH40: 10 | BI40: 14 | BJ40: 10 | BK40: 11 | BL40: 9 | BM40: 11 | BN40: 15 | BO40: Mel combined 9/19 Sturgeon Valley Rd. and Webb Rd. not included on this datasheet | BQ40: 14 | BR40: ND | BS40: ND | BT40: ND | BU40: ND | BV40: ND | BW40: ND | BX40: ND | BY40: ND | BZ40: ND | CA40: ND | CB40: ND | CC40: ND | CD40: 7 | CE40: 5 | CF40: 9 | CG40: 8 | CH40: 6 | CI40: 6 | CJ40: 7 | CK40: 5 | CL40: 8 | CM40: 8 | CN40: 10 | CO40: 7 | CP40: 7 | CQ40: 6 | CR40: 5 | CS40: 7 | CV40: 9
A41: Maple River | B41: Brutus Road | C41: =CONCATENATE(A41,"-",B41) -> Maple River-Brutus Road | D41: 41 | E41: =AVERAGE(H41:AL41) -> 23.333333 | F41: =AVERAGE(AM41:BQ41) -> 11.333333 | G41: =AVERAGE(BR41:CV41) -> 6.2222222 | H41: ND | I41: ND | J41: ND | K41: ND | L41: ND | M41: ND | N41: ND | O41: ND | P41: ND | Q41: ND | R41: ND | S41: ND | T41: 30 | U41: 24 | V41: ND | W41: 20 | X41: 22 | Y41: 19 | Z41: 23 | AA41: 23 | AB41: 25 | AC41: 24 | AD41: ND | AE41: ND | AF41: ND | AI41: ND | AJ41: ND | AM41: ND | AN41: ND | AO41: ND | AP41: ND | AQ41: ND | AR41: ND | AS41: ND | AT41: ND | AU41: ND | AV41: ND | AW41: ND | AX41: ND | AY41: 14 | AZ41: 11 | BA41: ND | BB41: 12 | BC41: 11 | BD41: 9 | BE41: 11 | BF41: 11 | BG41: 10 | BH41: 13 | BI41: ND | BJ41: ND | BK41: ND | BN41: ND | BO41: ND | BR41: ND | BS41: ND | BT41: ND | BU41: ND | BV41: ND | BW41: ND | BX41: ND | BY41: ND | BZ41: ND | CA41: ND | CB41: ND | CC41: ND | CD41: 7 | CE41: 4 | CF41: ND | CG41: 5 | CH41: 6 | CI41: 5 | CJ41: 9 | CK41: 8 | CL41: 4 | CM41: 8 | CN41: ND | CO41: ND | CP41: ND | CS41: ND | CT41: ND
A42: Russian Creek | B42: NCMC at mouth | C42: =CONCATENATE(A42,"-",B42) -> Russian Creek-NCMC at mouth | D42: 42 | E42: =AVERAGE(H42:AL42) -> 15.4 | F42: =AVERAGE(AM42:BQ42) -> 4 | G42: =AVERAGE(BR42:CV42) -> 2 | H42: ND | I42: ND | J42: ND | K42: ND | L42: ND | M42: 13 | N42: 11 | O42: 18 | P42: 20 | Q42: ND | R42: 8 | S42: 14 | T42: 15 | U42: 16 | V42: ND | W42: ND | X42: ND | Y42: ND | Z42: 20 | AA42: 11 | AB42: 19 | AC42: ND | AD42: 19 | AE42: 15 | AF42: 15 | AG42: 17 | BL42: 4 | CQ42: 2
A43: Schoofs Creek | B43: Resort Pike Road | C43: =CONCATENATE(A43,"-",B43) -> Schoofs Creek-Resort Pike Road | D43: 43 | E43: =AVERAGE(H43:AL43) -> 12 | F43: =AVERAGE(AM43:BQ43) -> 4.5 | G43: =AVERAGE(BR43:CV43) -> 1.5 | AC43: ND | AD43: ND | AE43: 15 | AF43: ND | AJ43: 9 | BH43: ND | BI43: ND | BJ43: 5 | BK43: ND | BO43: 4 | CM43: ND | CN43: ND | CO43: 2 | CP43: ND | CT43: 1
A44: Schoofs Creek | B44: Williams Road | C44: =CONCATENATE(A44,"-",B44) -> Schoofs Creek-Williams Road | D44: 44 | E44: =AVERAGE(H44:AL44) -> 14.5 | F44: =AVERAGE(AM44:BQ44) -> 6.5 | G44: =AVERAGE(BR44:CV44) -> 3 | AC44: ND | AD44: ND | AE44: ND | AF44: 6 | AG44: 23 | BH44: ND | BI44: ND | BJ44: ND | BK44: 2 | BL44: 11 | CM44: ND | CN44: ND | CO44: ND | CP44: 1 | CQ44: 5
A45: Springbrook Creek | B45: Springbrook Road | C45: =CONCATENATE(A45,"-",B45) -> Springbrook Creek-Springbrook Road | D45: 45 | E45: =AVERAGE(H45:AL45) -> 20.8 | F45: =AVERAGE(AM45:BQ45) -> 10.266667 | G45: =AVERAGE(BR45:CV45) -> 5.2 | H45: ND | I45: ND | J45: ND | K45: 25 | L45: 16 | M45: ND | N45: 23 | O45: ND | P45: ND | Q45: 19 | R45: 21 | S45: 17 | T45: 21 | U45: 14 | V45: 25 | W45: 20 | X45: 26 | Y45: ND | Z45: 26 | AA45: 21 | AB45: 21 | AC45: ND | AD45: ND | AE45: ND | AF45: ND | AI45: ND | AJ45: 17 | AL45: sampled, not enough indviduals | AM45: ND | AN45: ND | AO45: ND | AP45: 13 | AQ45: 5 | AR45: ND | AS45: 13 | AT45: ND | AU45: ND | AV45: 10 | AW45: 11 | AX45: 10 | AY45: 9 | AZ45: 7 | BA45: 15 | BB45: 13 | BC45: 13 | BD45: ND | BE45: 5 | BF45: 12 | BG45: 9 | BH45: ND | BI45: ND | BJ45: ND | BK45: ND | BN45: ND | BO45: 9 | BQ45: sampled, not enough indviduals | BR45: ND | BS45: ND | BT45: ND | BU45: 6 | BV45: 2 | BW45: ND | BX45: 5 | BY45: ND | BZ45: ND | CA45: 5 | CB45: 5 | CC45: 4 | CD45: 6 | CE45: 2 | CF45: 7 | CG45: 5 | CH45: 5 | CI45: ND | CJ45: 7 | CK45: 7 | CL45: 5 | CM45: ND | CN45: ND | CO45: ND | CP45: ND | CS45: ND | CT45: 7 | CV45: sampled, not enough indviduals
A46: Stover Creek | B46: Mouth, Irish Boat | C46: =CONCATENATE(A46,"-",B46) -> Stover Creek-Mouth, Irish Boat | D46: 46 | E46: =AVERAGE(H46:AL46) -> 11.482759 | F46: =AVERAGE(AM46:BQ46) -> 2.8275862 | G46: =AVERAGE(BR46:CV46) -> 0.44827586 | H46: 14 | I46: 15 | J46: 15 | K46: 15 | L46: 18 | M46: 11 | N46: 13 | O46: ND | P46: 7 | Q46: 12 | R46: 18 | S46: 19 | T46: 12 | U46: 14 | V46: 8 | W46: 16 | X46: 13 | Y46: 10 | Z46: 11 | AA46: 12 | AB46: 12 | AC46: 9 | AD46: 10 | AE46: 8 | AF46: 5 | AG46: 8 | AH46: 6 | AI46: 9 | AJ46: 6 | AL46: 7 | AM46: 1 | AN46: 3 | AO46: 2 | AP46: 2 | AQ46: 3 | AR46: 0 | AS46: 5 | AT46: ND | AU46: 1 | AV46: 2 | AW46: 2 | AX46: 3 | AY46: 2 | AZ46: 3 | BA46: 3 | BB46: 4 | BC46: 3 | BD46: 4 | BE46: 4 | BF46: 6 | BG46: 4 | BH46: 2 | BI46: 4 | BJ46: 7 | BK46: 0 | BL46: 4 | BM46: 2 | BN46: 4 | BO46: 0 | BQ46: 2 | BR46: 1 | BS46: 0 | BT46: 0 | BU46: 0 | BV46: 0 | BW46: 0 | BX46: 0 | BY46: ND | BZ46: 0 | CA46: 0 | CB46: 0 | CC46: 1 | CD46: 0 | CE46: 1 | CF46: 1 | CG46: 0 | CH46: 0 | CI46: 1 | CJ46: 1 | CK46: 2 | CL46: 0 | CM46: 0 | CN46: 2 | CO46: 0 | CP46: 0 | CQ46: 1 | CR46: 0 | CS46: 1 | CT46: 0 | CV46: 1
A47: Stover Creek | B47: Brookside Cemetery | C47: =CONCATENATE(A47,"-",B47) -> Stover Creek-Brookside Cemetery | D47: 47 | E47: =AVERAGE(H47:AL47) -> 17 | F47: =AVERAGE(AM47:BQ47) -> 6.3571429 | G47: =AVERAGE(BR47:CV47) -> 2.8928571 | H47: 18 | I47: 18 | J47: 17 | K47: 21 | L47: 25 | M47: 22 | N47: 18 | O47: ND | P47: 16 | Q47: 20 | R47: 17 | S47: 20 | T47: 17 | U47: 12 | V47: 19 | W47: 21 | X47: 14 | Y47: 10 | Z47: 17 | AA47: 13 | AB47: 16 | AC47: ND | AD47: 16 | AE47: 15 | AF47: 19 | AG47: 13 | AH47: 13 | AI47: 15 | AJ47: 19 | AL47: 15 | AM47: 6 | AN47: 8 | AO47: 6 | AP47: 8 | AQ47: 5 | AR47: 10 | AS47: 6 | AT47: ND | AU47: 8 | AV47: 7 | AW47: 4 | AX47: 9 | AY47: 6 | AZ47: 6 | BA47: 7 | BB47: 7 | BC47: 3 | BD47: 7 | BE47: 5 | BF47: 7 | BG47: 5 | BH47: ND | BI47: 4 | BJ47: 8 | BK47: 4 | BL47: 7 | BM47: 6 | BN47: 7 | BO47: 6 | BQ47: 6 | BR47: 4 | BS47: 3 | BT47: 3 | BU47: 4 | BV47: 3 | BW47: 5 | BX47: 4 | BY47: ND | BZ47: 2 | CA47: 4 | CB47: 2 | CC47: 5 | CD47: 4 | CE47: 3 | CF47: 3 | CG47: 3 | CH47: 1 | CI47: 2 | CJ47: 1 | CK47: 2 | CL47: 2 | CM47: ND | CN47: 2 | CO47: 3 | CP47: 3 | CQ47: 4 | CR47: 1 | CS47: 3 | CT47: 3 | CV47: 2
A48: Sturgeon River | B48: M-68 | C48: =CONCATENATE(A48,"-",B48) -> Sturgeon River-M-68 | D48: 48 | E48: =AVERAGE(H48:AL48) -> 17.666667 | F48: =AVERAGE(AM48:BQ48) -> 9 | G48: =AVERAGE(BR48:CV48) -> 5.6666667 | H48: ND | I48: ND | J48: ND | K48: ND | L48: ND | M48: ND | N48: ND | O48: ND | P48: ND | Q48: ND | R48: ND | S48: ND | T48: 18 | U48: 15 | V48: 20 | W48: ND | X48: ND | Y48: ND | Z48: ND | AA48: ND | AB48: ND | AC48: ND | AD48: ND | AE48: ND | AF48: ND | AM48: ND | AN48: ND | AO48: ND | AP48: ND | AQ48: ND | AR48: ND | AS48: ND | AT48: ND | AU48: ND | AV48: ND | AW48: ND | AX48: ND | AY48: 8 | AZ48: 11 | BA48: 8 | BB48: ND | BC48: ND | BD48: ND | BE48: ND | BF48: ND | BG48: ND | BH48: ND | BI48: ND | BJ48: ND | BK48: ND | BR48: ND | BS48: ND | BT48: ND | BU48: ND | BV48: ND | BW48: ND | BX48: ND | BY48: ND | BZ48: ND | CA48: ND | CB48: ND | CC48: ND | CD48: 5 | CE48: 6 | CF48: 6 | CG48: ND | CH48: ND | CI48: ND | CJ48: ND | CK48: ND | CL48: ND | CM48: ND | CN48: ND | CO48: ND | CP48: ND
A49: Sturgeon River | B49: Sturgeon Valley Road | C49: =CONCATENATE(A49,"-",B49) -> Sturgeon River-Sturgeon Valley Road | D49: 49 | E49: =AVERAGE(H49:AL49) -> 18.7 | F49: =AVERAGE(AM49:BQ49) -> 10.2 | G49: =AVERAGE(BR49:CV49) -> 5.6 | H49: ND | I49: ND | J49: ND | K49: ND | L49: ND | M49: ND | N49: ND | O49: ND | P49: ND | Q49: ND | R49: ND | S49: 22 | T49: 15 | U49: 21 | V49: 21 | W49: 24 | X49: 16 | Y49: 17 | Z49: 14 | AA49: ND | AB49: ND | AC49: ND | AD49: ND | AE49: 24 | AF49: ND | AI49: 13 | AM49: ND | AN49: ND | AO49: ND | AP49: ND | AQ49: ND | AR49: ND | AS49: ND | AT49: ND | AU49: ND | AV49: ND | AW49: ND | AX49: 13 | AY49: 7 | AZ49: 11 | BA49: 14 | BB49: 12 | BC49: 9 | BD49: 6 | BE49: 10 | BF49: ND | BG49: ND | BH49: ND | BI49: ND | BJ49: 13 | BK49: ND | BN49: 7 | BR49: ND | BS49: ND | BT49: ND | BU49: ND | BV49: ND | BW49: ND | BX49: ND | BY49: ND | BZ49: ND | CA49: ND | CB49: ND | CC49: 5 | CD49: 4 | CE49: 7 | CF49: 8 | CG49: 7 | CH49: 5 | CI49: 5 | CJ49: 5 | CK49: ND | CL49: ND | CM49: ND | CN49: ND | CO49: 8 | CP49: ND | CS49: 2
A50: Sturgeon River | B50: Fisher Woods Road | C50: =CONCATENATE(A50,"-",B50) -> Sturgeon River-Fisher Woods Road | D50: 50 | E50: =AVERAGE(H50:AL50) -> 20.333333 | F50: =AVERAGE(AM50:BQ50) -> 9.8333333 | G50: =AVERAGE(BR50:CV50) -> 6.6666667 | H50: ND | I50: ND | J50: ND | K50: ND | L50: ND | M50: ND | N50: ND | O50: ND | P50: ND | Q50: ND | R50: ND | S50: ND | T50: ND | U50: ND | V50: ND | W50: ND | X50: 22 | Y50: 20 | Z50: ND | AA50: 19 | AB50: 24 | AC50: 16 | AD50: 21 | AE50: ND | AF50: ND | AM50: ND | AN50: ND | AO50: ND | AP50: ND | AQ50: ND | AR50: ND | AS50: ND | AT50: ND | AU50: ND | AV50: ND | AW50: ND | AX50: ND | AY50: ND | AZ50: ND | BA50: ND | BB50: ND | BC50: 8 | BD50: 12 | BE50: ND | BF50: 10 | BG50: 11 | BH50: 9 | BI50: 9 | BJ50: ND | BK50: ND | BR50: ND | BS50: ND | BT50: ND | BU50: ND | BV50: ND | BW50: ND | BX50: ND | BY50: ND | BZ50: ND | CA50: ND | CB50: ND | CC50: ND | CD50: ND | CE50: ND | CF50: ND | CG50: ND | CH50: 5 | CI50: 8 | CJ50: ND | CK50: 7 | CL50: 7 | CM50: 7 | CN50: 6 | CO50: ND | CP50: ND
A51: Sturgeon River | B51: West Branch-Old 27 Park | C51: =CONCATENATE(A51,"-",B51) -> Sturgeon River-West Branch-Old 27 Park | D51: 51 | E51: =AVERAGE(H51:AL51) -> 25.857143 | F51: =AVERAGE(AM51:BQ51) -> 13.285714 | G51: =AVERAGE(BR51:CV51) -> 8.7142857 | H51: ND | I51: ND | J51: ND | K51: ND | L51: ND | M51: ND | N51: ND | O51: ND | P51: 27 | Q51: ND | R51: ND | S51: ND | T51: 30 | U51: 22 | V51: 26 | W51: 34 | X51: 20 | Y51: 24 | Z51: 22 | AA51: 27 | AB51: 34 | AC51: 22 | AD51: ND | AE51: 28 | AF51: 24 | AG51: 22 | AM51: ND | AN51: ND | AO51: ND | AP51: ND | AQ51: ND | AR51: ND | AS51: ND | AT51: ND | AU51: 16 | AV51: ND | AW51: ND | AX51: ND | AY51: 13 | AZ51: 11 | BA51: 14 | BB51: 13 | BC51: 11 | BD51: 13 | BE51: 11 | BF51: 19 | BG51: 18 | BH51: 9 | BI51: ND | BJ51: 14 | BK51: 10 | BL51: 14 | BR51: ND | BS51: ND | BT51: ND | BU51: ND | BV51: ND | BW51: ND | BX51: ND | BY51: ND | BZ51: 11 | CA51: ND | CB51: ND | CC51: ND | CD51: 7 | CE51: 9 | CF51: 9 | CG51: 11 | CH51: 7 | CI51: 11 | CJ51: 9 | CK51: 4 | CL51: 12 | CM51: 6 | CN51: ND | CO51: 12 | CP51: 8 | CQ51: 6
A52: Sturgeon River | B52: Wolverine, E. Main St | C52: =CONCATENATE(A52,"-",B52) -> Sturgeon River-Wolverine, E. Main St | D52: 52 | E52: =AVERAGE(H52:AL52) -> 20.846154 | F52: =AVERAGE(AM52:BQ52) -> 10.846154 | G52: =AVERAGE(BR52:CV52) -> 7.5384615 | H52: ND | I52: ND | J52: ND | K52: ND | L52: ND | M52: ND | N52: ND | O52: ND | P52: ND | Q52: ND | R52: ND | S52: ND | T52: 15 | U52: 18 | V52: 20 | W52: 23 | X52: 21 | Y52: 26 | Z52: 21 | AA52: 23 | AB52: 25 | AC52: 21 | AD52: 22 | AE52: 20 | AF52: ND | AG52: 16 | AM52: ND | AN52: ND | AO52: ND | AP52: ND | AQ52: ND | AR52: ND | AS52: ND | AT52: ND | AU52: ND | AV52: ND | AW52: ND | AX52: ND | AY52: 8 | AZ52: 10 | BA52: 10 | BB52: 12 | BC52: 10 | BD52: 13 | BE52: 12 | BF52: 12 | BG52: 13 | BH52: 11 | BI52: 11 | BJ52: 11 | BK52: ND | BL52: 8 | BR52: ND | BS52: ND | BT52: ND | BU52: ND | BV52: ND | BW52: ND | BX52: ND | BY52: ND | BZ52: ND | CA52: ND | CB52: ND | CC52: ND | CD52: 4 | CE52: 7 | CF52: 7 | CG52: 8 | CH52: 7 | CI52: 10 | CJ52: 6 | CK52: 9 | CL52: 8 | CM52: 8 | CN52: 9 | CO52: 9 | CP52: ND | CQ52: 6
A53: Tannery Creek | B53: Mouth, Bike Path | C53: =CONCATENATE(A53,"-",B53) -> Tannery Creek-Mouth, Bike Path | D53: 53 | E53: =AVERAGE(H53:AL53) -> 11.047619 | F53: =AVERAGE(AM53:BQ53) -> 5.3333333 | G53: =AVERAGE(BR53:CV53) -> 1.0952381 | H53: ND | I53: ND | J53: ND | K53: ND | L53: 8 | M53: 11 | N53: 7 | O53: 15 | P53: ND | Q53: 11 | R53: 17 | S53: ND | T53: 10 | U53: 12 | V53: 10 | W53: 10 | X53: ND | Y53: 8 | Z53: 10 | AA53: 9 | AB53: 12 | AC53: 10 | AD53: 17 | AE53: 9 | AF53: 13 | AG53: 8 | AH53: 12 | AI53: 13 | BL53: 3 | BM53: 7 | BN53: 6 | BR53: ND | BS53: ND | BT53: ND | BU53: ND | BV53: 1 | BW53: 1 | BX53: 1 | BY53: 1 | BZ53: ND | CA53: 0 | CB53: 2 | CC53: ND | CD53: 1 | CE53: 0 | CF53: 0 | CG53: 0 | CH53: ND | CI53: 0 | CJ53: 1 | CK53: 1 | CL53: 2 | CM53: 1 | CN53: 2 | CO53: 0 | CP53: 2 | CQ53: 2 | CR53: 3 | CS53: 2
A54: Tannery Creek | B54: Country Club Road | C54: =CONCATENATE(A54,"-",B54) -> Tannery Creek-Country Club Road | D54: 54 | E54: =AVERAGE(H54:AL54) -> 15.888889 | F54: =AVERAGE(AM54:BQ54) -> 7.1111111 | G54: =AVERAGE(BR54:CV54) -> 3.4444444 | H54: ND | I54: ND | J54: ND | K54: ND | L54: ND | M54: ND | N54: ND | O54: ND | P54: ND | Q54: ND | R54: ND | S54: ND | T54: ND | U54: ND | V54: ND | W54: 21 | X54: 17 | Y54: 14 | Z54: 10 | AA54: ND | AB54: 13 | AC54: 22 | AD54: 18 | AE54: 10 | AF54: 18 | AM54: ND | AN54: ND | AO54: ND | AP54: ND | AQ54: ND | AR54: ND | AS54: ND | AT54: ND | AU54: ND | AV54: ND | AW54: ND | AX54: ND | AY54: ND | AZ54: ND | BA54: ND | BB54: 9 | BC54: 6 | BD54: 9 | BE54: 4 | BF54: ND | BG54: 6 | BH54: 9 | BI54: 8 | BJ54: 4 | BK54: 9 | BR54: ND | BS54: ND | BT54: ND | BU54: ND | BV54: ND | BW54: ND | BX54: ND | BY54: ND | BZ54: ND | CA54: ND | CB54: ND | CC54: ND | CD54: ND | CE54: ND | CF54: ND | CG54: 4 | CH54: 2 | CI54: 5 | CJ54: 2 | CK54: ND | CL54: 3 | CM54: 5 | CN54: 5 | CO54: 1 | CP54: 4
A55: Tannery Creek | B55: Boyer Road | C55: =CONCATENATE(A55,"-",B55) -> Tannery Creek-Boyer Road | D55: 55 | E55: =AVERAGE(H55:AL55) -> 17.727273 | F55: =AVERAGE(AM55:BQ55) -> 7.4545455 | G55: =AVERAGE(BR55:CV55) -> 2.7272727 | H55: ND | I55: ND | J55: ND | K55: ND | L55: 21 | M55: 24 | N55: 15 | O55: 12 | P55: ND | Q55: 15 | R55: 24 | S55: ND | T55: 16 | U55: 19 | V55: 17 | W55: ND | X55: 13 | Y55: ND | Z55: ND | AA55: 19 | AB55: ND | AC55: ND | AD55: ND | AE55: ND | AF55: ND | AM55: ND | AN55: ND | AO55: ND | AP55: ND | AQ55: 8 | AR55: 9 | AS55: 7 | AT55: 8 | AU55: ND | AV55: 7 | AW55: 9 | AX55: ND | AY55: 7 | AZ55: 9 | BA55: 7 | BB55: ND | BC55: 4 | BD55: ND | BE55: ND | BF55: 7 | BG55: ND | BH55: ND | BI55: ND | BJ55: ND | BK55: ND | BR55: ND | BS55: ND | BT55: ND | BU55: ND | BV55: 5 | BW55: 4 | BX55: 1 | BY55: 3 | BZ55: ND | CA55: 3 | CB55: 4 | CC55: ND | CD55: 2 | CE55: 3 | CF55: 2 | CG55: ND | CH55: 0 | CI55: ND | CJ55: ND | CK55: 3 | CL55: ND | CM55: ND | CN55: ND | CO55: ND | CP55: ND
A56: Fineout Creek | B56: M75 | C56: =CONCATENATE(A56,"-",B56) -> Fineout Creek-M75 | D56: 56 | E56: =AVERAGE(H56:AL56) -> 11 | F56: =AVERAGE(AM56:BQ56) -> 3.6666667 | G56: =AVERAGE(BR56:CV56) -> 1.6666667 | AC56: ND | AD56: ND | AE56: 10 | AF56: 12 | AJ56: 11 | BH56: ND | BI56: ND | BJ56: 3 | BK56: 5 | BO56: 3 | CM56: ND | CN56: ND | CO56: 1 | CP56: 2 | CT56: 2
A57: Black River | B57: Kleber Dam | C57: =CONCATENATE(A57,"-",B57) -> Black River-Kleber Dam | D57: 57 | E57: =AVERAGE(H57:AL57) -> 10 | F57: =AVERAGE(AM57:BQ57) -> 7 | G57: =AVERAGE(BR57:CV57) -> 5 | AI57: 10 | BN57: 7 | CS57: 5
E60: updated 020421
E61: =AVERAGEIF(Report_from_Debbie!$A59:$A218,$E61,Report_from_Debbie!C59:C218) -> 17.5 | F61: =AVERAGEIF(Report_from_Debbie!$A59:$A218,$E61,Report_from_Debbie!D59:D218) -> #DIV/0! | G61: =AVERAGEIF(Report_from_Debbie!$A59:$A218,$E61,Report_from_Debbie!E59:E218) -> #DIV/0!
E62: =AVERAGEIF(Report_from_Debbie!$A60:$A219,$E62,Report_from_Debbie!C60:C219) -> 12 | F62: =AVERAGEIF(Report_from_Debbie!$A60:$A219,$E62,Report_from_Debbie!D60:D219) -> #DIV/0! | G62: =AVERAGEIF(Report_from_Debbie!$A60:$A219,$E62,Report_from_Debbie!E60:E219) -> #DIV/0!
E63: =AVERAGEIF(Report_from_Debbie!$A61:$A220,$E63,Report_from_Debbie!C61:C220) -> 16 | F63: =AVERAGEIF(Report_from_Debbie!$A61:$A220,$E63,Report_from_Debbie!D61:D220) -> 3 | G63: =AVERAGEIF(Report_from_Debbie!$A61:$A220,$E63,Report_from_Debbie!E61:E220) -> 1.5
A64: Sturgeon River @ Webb Rd. changed to reality E. Main St.

Sheet Master_Average_Stream_Grade
A1: STREAM | B1: Total Taxa Avg. | C1: EPT Taxa Avg. | D1: Sens Taxa Avg. | E1: Total Score | F1: EPT Score | G1: Sensitive Score | H1: Yearly Score | I1: Grade
A2: {=INDEX(Master_datasheet!$A$2:$A$160, MATCH(0, COUNTIF($A$1:A1,Master_datasheet!$A$2:$A$160), 0))} -> Bear River | B2: =AVERAGEIF(Master_datasheet!$A2:$A160,Master_Average_Stream_Grade!$A2,Master_datasheet!E2:E160) -> 15.751918 | C2: =AVERAGEIF(Master_datasheet!$A2:$A160,Master_Average_Stream_Grade!$A2,Master_datasheet!F2:F160) -> 5.9249787 | D2: =AVERAGEIF(Master_datasheet!$A2:$A160,Master_Average_Stream_Grade!$A2,Master_datasheet!G2:G160) -> 2.5294118 | E2: =IF(B2<5,0,IF(B2<9,3,IF(B2<13,6,IF(B2<17,9,IF(B2<21,12,IF(B2>=21,15,99)))))) -> 9 | F2: =IF(C2=0,0,IF(C2<2,5,IF(C2<4,10,IF(C2<6,15,IF(C2<8,20,IF(C2>=8,25,99)))))) -> 15 | G2: =IF(D2=0,0,IF(D2<2,10,IF(D2<3,20,IF(D2<4,30,IF(D2<5,40,IF(D2>=5,50,99)))))) -> 20 | H2: =SUM(E2:G2) -> 44 | I2: =IF(H2<10,"F",IF(AND(H2<19,H2>10),"E",IF(AND(H2<=29,H2>20),"D",IF(AND(H2<=49,H2>30),"C",IF(AND(H2<=69,H2>50),"B",IF(H2>=70,"A",99)))))) -> C
A3: {=INDEX(Master_datasheet!$A$2:$A$160, MATCH(0, COUNTIF($A$1:A2,Master_datasheet!$A$2:$A$160), 0))} -> Berry Creek | B3: =AVERAGEIF(Master_datasheet!$A3:$A161,Master_Average_Stream_Grade!$A3,Master_datasheet!E3:E161) -> 11 | C3: =AVERAGEIF(Master_datasheet!$A3:$A161,Master_Average_Stream_Grade!$A3,Master_datasheet!F3:F161) -> 8 | D3: =AVERAGEIF(Master_datasheet!$A3:$A161,Master_Average_Stream_Grade!$A3,Master_datasheet!G3:G161) -> 4 | E3: =IF(B3<5,0,IF(B3<9,3,IF(B3<13,6,IF(B3<17,9,IF(B3<21,12,IF(B3>=21,15,99)))))) -> 6 | F3: =IF(C3=0,0,IF(C3<2,5,IF(C3<4,10,IF(C3<6,15,IF(C3<8,20,IF(C3>=8,25,99)))))) -> 25 | G3: =IF(D3=0,0,IF(D3<2,10,IF(D3<3,20,IF(D3<4,30,IF(D3<5,40,IF(D3>=5,50,99)))))) -> 40 | H3: =SUM(E3:G3) -> 71 | I3: =IF(H3<10,"F",IF(AND(H3<19,H3>10),"E",IF(AND(H3<=29,H3>20),"D",IF(AND(H3<=49,H3>30),"C",IF(AND(H3<=69,H3>50),"B",IF(H3>=70,"A",99)))))) -> A
A4: {=INDEX(Master_datasheet!$A$2:$A$160, MATCH(0, COUNTIF($A$1:A3,Master_datasheet!$A$2:$A$160), 0))} -> Bessey Creek | B4: =AVERAGEIF(Master_datasheet!$A4:$A162,Master_Average_Stream_Grade!$A4,Master_datasheet!E4:E162) -> 14.666667 | C4: =AVERAGEIF(Master_datasheet!$A4:$A162,Master_Average_Stream_Grade!$A4,Master_datasheet!F4:F162) -> 3 | D4: =AVERAGEIF(Master_datasheet!$A4:$A162,Master_Average_Stream_Grade!$A4,Master_datasheet!G4:G162) -> 5 | E4: =IF(B4<5,0,IF(B4<9,3,IF(B4<13,6,IF(B4<17,9,IF(B4<21,12,IF(B4>=21,15,99)))))) -> 9 | F4: =IF(C4=0,0,IF(C4<2,5,IF(C4<4,10,IF(C4<6,15,IF(C4<8,20,IF(C4>=8,25,99)))))) -> 10 | G4: =IF(D4=0,0,IF(D4<2,10,IF(D4<3,20,IF(D4<4,30,IF(D4<5,40,IF(D4>=5,50,99)))))) -> 50 | H4: =SUM(E4:G4) -> 69 | I4: =IF(H4<10,"F",IF(AND(H4<19,H4>10),"E",IF(AND(H4<=29,H4>20),"D",IF(AND(H4<=49,H4>30),"C",IF(AND(H4<=69,H4>50),"B",IF(H4>=70,"A",99)))))) -> B
A5: Black River | B5: =AVERAGEIF(Master_datasheet!$A5:$A163,Master_Average_Stream_Grade!$A5,Master_datasheet!E5:E163) -> 22.916667 | C5: =AVERAGEIF(Master_datasheet!$A5:$A163,Master_Average_Stream_Grade!$A5,Master_datasheet!F5:F163) -> 10.666667 | D5: =AVERAGEIF(Master_datasheet!$A5:$A163,Master_Average_Stream_Grade!$A5,Master_datasheet!G5:G163) -> 7.0833333 | E5: =IF(B5<5,0,IF(B5<9,3,IF(B5<13,6,IF(B5<17,9,IF(B5<21,12,IF(B5>=21,15,99)))))) -> 15 | F5: =IF(C5=0,0,IF(C5<2,5,IF(C5<4,10,IF(C5<6,15,IF(C5<8,20,IF(C5>=8,25,99)))))) -> 25 | G5: =IF(D5=0,0,IF(D5<2,10,IF(D5<3,20,IF(D5<4,30,IF(D5<5,40,IF(D5>=5,50,99)))))) -> 50 | H5: =SUM(E5:G5) -> 90 | I5: =IF(H5<10,"F",IF(AND(H5<19,H5>10),"E",IF(AND(H5<=29,H5>20),"D",IF(AND(H5<=49,H5>30),"C",IF(AND(H5<=69,H5>50),"B",IF(H5>=70,"A",99)))))) -> A
A6: {=INDEX(Master_datasheet!$A$2:$A$160, MATCH(0, COUNTIF($A$1:A4,Master_datasheet!$A$2:$A$160), 0))} -> Boyne River | B6: =AVERAGEIF(Master_datasheet!$A5:$A163,Master_Average_Stream_Grade!$A6,Master_datasheet!E5:E163) -> 15.664756 | C6: =AVERAGEIF(Master_datasheet!$A5:$A163,Master_Average_Stream_Grade!$A6,Master_datasheet!F5:F163) -> 8.4964943 | D6: =AVERAGEIF(Master_datasheet!$A5:$A163,Master_Average_Stream_Grade!$A6,Master_datasheet!G5:G163) -> 4.6637787 | E6: =IF(B6<5,0,IF(B6<9,3,IF(B6<13,6,IF(B6<17,9,IF(B6<21,12,IF(B6>=21,15,99)))))) -> 9 | F6: =IF(C6=0,0,IF(C6<2,5,IF(C6<4,10,IF(C6<6,15,IF(C6<8,20,IF(C6>=8,25,99)))))) -> 25 | G6: =IF(D6=0,0,IF(D6<2,10,IF(D6<3,20,IF(D6<4,30,IF(D6<5,40,IF(D6>=5,50,99)))))) -> 40 | H6: =SUM(E6:G6) -> 74 | I6: =IF(H6<10,"F",IF(AND(H6<19,H6>10),"E",IF(AND(H6<=29,H6>20),"D",IF(AND(H6<=49,H6>30),"C",IF(AND(H6<=69,H6>50),"B",IF(H6>=70,"A",99)))))) -> A
A7: {=INDEX(Master_datasheet!$A$2:$A$160, MATCH(0, COUNTIF($A$1:A6,Master_datasheet!$A$2:$A$160), 0))} -> Carp River | B7: =AVERAGEIF(Master_datasheet!$A8:$A164,Master_Average_Stream_Grade!$A7,Master_datasheet!E8:E164) -> 18.3 | C7: =AVERAGEIF(Master_datasheet!$A8:$A164,Master_Average_Stream_Grade!$A7,Master_datasheet!F8:F164) -> 7.2 | D7: =AVERAGEIF(Master_datasheet!$A8:$A164,Master_Average_Stream_Grade!$A7,Master_datasheet!G8:G164) -> 4.1 | E7: =IF(B7<5,0,IF(B7<9,3,IF(B7<13,6,IF(B7<17,9,IF(B7<21,12,IF(B7>=21,15,99)))))) -> 12 | F7: =IF(C7=0,0,IF(C7<2,5,IF(C7<4,10,IF(C7<6,15,IF(C7<8,20,IF(C7>=8,25,99)))))) -> 20 | G7: =IF(D7=0,0,IF(D7<2,10,IF(D7<3,20,IF(D7<4,30,IF(D7<5,40,IF(D7>=5,50,99)))))) -> 40 | H7: =SUM(E7:G7) -> 72 | I7: =IF(H7<10,"F",IF(AND(H7<19,H7>10),"E",IF(AND(H7<=29,H7>20),"D",IF(AND(H7<=49,H7>30),"C",IF(AND(H7<=69,H7>50),"B",IF(H7>=70,"A",99)))))) -> A
A8: {=INDEX(Master_datasheet!$A$2:$A$160, MATCH(0, COUNTIF($A$1:A7,Master_datasheet!$A$2:$A$160), 0))} -> Cedar River | B8: =AVERAGEIF(Master_datasheet!$A9:$A165,Master_Average_Stream_Grade!$A8,Master_datasheet!E9:E165) -> 20.333333 | C8: =AVERAGEIF(Master_datasheet!$A9:$A165,Master_Average_Stream_Grade!$A8,Master_datasheet!F9:F165) -> 8.8333333 | D8: =AVERAGEIF(Master_datasheet!$A9:$A165,Master_Average_Stream_Grade!$A8,Master_datasheet!G9:G165) -> 5.5 | E8: =IF(B8<5,0,IF(B8<9,3,IF(B8<13,6,IF(B8<17,9,IF(B8<21,12,IF(B8>=21,15,99)))))) -> 12 | F8: =IF(C8=0,0,IF(C8<2,5,IF(C8<4,10,IF(C8<6,15,IF(C8<8,20,IF(C8>=8,25,99)))))) -> 25 | G8: =IF(D8=0,0,IF(D8<2,10,IF(D8<3,20,IF(D8<4,30,IF(D8<5,40,IF(D8>=5,50,99)))))) -> 50 | H8: =SUM(E8:G8) -> 87 | I8: =IF(H8<10,"F",IF(AND(H8<19,H8>10),"E",IF(AND(H8<=29,H8>20),"D",IF(AND(H8<=49,H8>30),"C",IF(AND(H8<=69,H8>50),"B",IF(H8>=70,"A",99)))))) -> A
A9: {=INDEX(Master_datasheet!$A$2:$A$160, MATCH(0, COUNTIF($A$1:A8,Master_datasheet!$A$2:$A$160), 0))} -> Eastport Creek | B9: =AVERAGEIF(Master_datasheet!$A10:$A166,Master_Average_Stream_Grade!$A9,Master_datasheet!E10:E166) -> 18.872727 | C9: =AVERAGEIF(Master_datasheet!$A10:$A166,Master_Average_Stream_Grade!$A9,Master_datasheet!F10:F166) -> 7.0954545 | D9: =AVERAGEIF(Master_datasheet!$A10:$A166,Master_Average_Stream_Grade!$A9,Master_datasheet!G10:G166) -> 2.8977273 | E9: =IF(B9<5,0,IF(B9<9,3,IF(B9<13,6,IF(B9<17,9,IF(B9<21,12,IF(B9>=21,15,99)))))) -> 12 | F9: =IF(C9=0,0,IF(C9<2,5,IF(C9<4,10,IF(C9<6,15,IF(C9<8,20,IF(C9>=8,25,99)))))) -> 20 | G9: =IF(D9=0,0,IF(D9<2,10,IF(D9<3,20,IF(D9<4,30,IF(D9<5,40,IF(D9>=5,50,99)))))) -> 20 | H9: =SUM(E9:G9) -> 52 | I9: =IF(H9<10,"F",IF(AND(H9<19,H9>10),"E",IF(AND(H9<=29,H9>20),"D",IF(AND(H9<=49,H9>30),"C",IF(AND(H9<=69,H9>50),"B",IF(H9>=70,"A",99)))))) -> B
A10: {=INDEX(Master_datasheet!$A$2:$A$160, MATCH(0, COUNTIF($A$1:A9,Master_datasheet!$A$2:$A$160), 0))} -> Horton Creek | B10: =AVERAGEIF(Master_datasheet!$A11:$A167,Master_Average_Stream_Grade!$A10,Master_datasheet!E11:E167) -> 16.820076 | C10: =AVERAGEIF(Master_datasheet!$A11:$A167,Master_Average_Stream_Grade!$A10,Master_datasheet!F11:F167) -> 7.6344697 | D10: =AVERAGEIF(Master_datasheet!$A11:$A167,Master_Average_Stream_Grade!$A10,Master_datasheet!G11:G167) -> 3.5284091 | E10: =IF(B10<5,0,IF(B10<9,3,IF(B10<13,6,IF(B10<17,9,IF(B10<21,12,IF(B10>=21,15,99)))))) -> 9 | F10: =IF(C10=0,0,IF(C10<2,5,IF(C10<4,10,IF(C10<6,15,IF(C10<8,20,IF(C10>=8,25,99)))))) -> 20 | G10: =IF(D10=0,0,IF(D10<2,10,IF(D10<3,20,IF(D10<4,30,IF(D10<5,40,IF(D10>=5,50,99)))))) -> 30 | H10: =SUM(E10:G10) -> 59 | I10: =IF(H10<10,"F",IF(AND(H10<19,H10>10),"E",IF(AND(H10<=29,H10>20),"D",IF(AND(H10<=49,H10>30),"C",IF(AND(H10<=69,H10>50),"B",IF(H10>=70,"A",99)))))) -> B
A11: {=INDEX(Master_datasheet!$A$2:$A$160, MATCH(0, COUNTIF($A$1:A10,Master_datasheet!$A$2:$A$160), 0))} -> Jordan River | B11: =AVERAGEIF(Master_datasheet!$A12:$A168,Master_Average_Stream_Grade!$A11,Master_datasheet!E12:E168) -> 20.743647 | C11: =AVERAGEIF(Master_datasheet!$A12:$A168,Master_Average_Stream_Grade!$A11,Master_datasheet!F12:F168) -> 11.170807 | D11: =AVERAGEIF(Master_datasheet!$A12:$A168,Master_Average_Stream_Grade!$A11,Master_datasheet!G12:G168) -> 6.5915179 | E11: =IF(B11<5,0,IF(B11<9,3,IF(B11<13,6,IF(B11<17,9,IF(B11<21,12,IF(B11>=21,15,99)))))) -> 12 | F11: =IF(C11=0,0,IF(C11<2,5,IF(C11<4,10,IF(C11<6,15,IF(C11<8,20,IF(C11>=8,25,99)))))) -> 25 | G11: =IF(D11=0,0,IF(D11<2,10,IF(D11<3,20,IF(D11<4,30,IF(D11<5,40,IF(D11>=5,50,99)))))) -> 50 | H11: =SUM(E11:G11) -> 87 | I11: =IF(H11<10,"F",IF(AND(H11<19,H11>10),"E",IF(AND(H11<=29,H11>20),"D",IF(AND(H11<=49,H11>30),"C",IF(AND(H11<=69,H11>50),"B",IF(H11>=70,"A",99)))))) -> A
A12: {=INDEX(Master_datasheet!$A$2:$A$160, MATCH(0, COUNTIF($A$1:A11,Master_datasheet!$A$2:$A$160), 0))} -> Kimberly Creek | B12: =AVERAGEIF(Master_datasheet!$A13:$A169,Master_Average_Stream_Grade!$A12,Master_datasheet!E13:E169) -> 20.501548 | C12: =AVERAGEIF(Master_datasheet!$A13:$A169,Master_Average_Stream_Grade!$A12,Master_datasheet!F13:F169) -> 7.5294118 | D12: =AVERAGEIF(Master_datasheet!$A13:$A169,Master_Average_Stream_Grade!$A12,Master_datasheet!G13:G169) -> 3.7229102 | E12: =IF(B12<5,0,IF(B12<9,3,IF(B12<13,6,IF(B12<17,9,IF(B12<21,12,IF(B12>=21,15,99)))))) -> 12 | F12: =IF(C12=0,0,IF(C12<2,5,IF(C12<4,10,IF(C12<6,15,IF(C12<8,20,IF(C12>=8,25,99)))))) -> 20 | G12: =IF(D12=0,0,IF(D12<2,10,IF(D12<3,20,IF(D12<4,30,IF(D12<5,40,IF(D12>=5,50,99)))))) -> 30 | H12: =SUM(E12:G12) -> 62 | I12: =IF(H12<10,"F",IF(AND(H12<19,H12>10),"E",IF(AND(H12<=29,H12>20),"D",IF(AND(H12<=49,H12>30),"C",IF(AND(H12<=69,H12>50),"B",IF(H12>=70,"A",99)))))) -> B
A13: {=INDEX(Master_datasheet!$A$2:$A$160, MATCH(0, COUNTIF($A$1:A12,Master_datasheet!$A$2:$A$160), 0))} -> Maple River | B13: =AVERAGEIF(Master_datasheet!$A16:$A170,Master_Average_Stream_Grade!$A13,Master_datasheet!E16:E170) -> 20.624242 | C13: =AVERAGEIF(Master_datasheet!$A16:$A170,Master_Average_Stream_Grade!$A13,Master_datasheet!F16:F170) -> 9.9626263 | D13: =AVERAGEIF(Master_datasheet!$A16:$A170,Master_Average_Stream_Grade!$A13,Master_datasheet!G16:G170) -> 4.6313131 | E13: =IF(B13<5,0,IF(B13<9,3,IF(B13<13,6,IF(B13<17,9,IF(B13<21,12,IF(B13>=21,15,99)))))) -> 12 | F13: =IF(C13=0,0,IF(C13<2,5,IF(C13<4,10,IF(C13<6,15,IF(C13<8,20,IF(C13>=8,25,99)))))) -> 25 | G13: =IF(D13=0,0,IF(D13<2,10,IF(D13<3,20,IF(D13<4,30,IF(D13<5,40,IF(D13>=5,50,99)))))) -> 40 | H13: =SUM(E13:G13) -> 77 | I13: =IF(H13<10,"F",IF(AND(H13<19,H13>10),"E",IF(AND(H13<=29,H13>20),"D",IF(AND(H13<=49,H13>30),"C",IF(AND(H13<=69,H13>50),"B",IF(H13>=70,"A",99)))))) -> A
A14: {=INDEX(Master_datasheet!$A$2:$A$160, MATCH(0, COUNTIF($A$1:A13,Master_datasheet!$A$2:$A$160), 0))} -> Milligan Creek | B14: =AVERAGEIF(Master_datasheet!$A17:$A171,Master_Average_Stream_Grade!$A14,Master_datasheet!E17:E171) -> 19.79085 | C14: =AVERAGEIF(Master_datasheet!$A17:$A171,Master_Average_Stream_Grade!$A14,Master_datasheet!F17:F171) -> 9.9526144 | D14: =AVERAGEIF(Master_datasheet!$A17:$A171,Master_Average_Stream_Grade!$A14,Master_datasheet!G17:G171) -> 6.6633987 | E14: =IF(B14<5,0,IF(B14<9,3,IF(B14<13,6,IF(B14<17,9,IF(B14<21,12,IF(B14>=21,15,99)))))) -> 12 | F14: =IF(C14=0,0,IF(C14<2,5,IF(C14<4,10,IF(C14<6,15,IF(C14<8,20,IF(C14>=8,25,99)))))) -> 25 | G14: =IF(D14=0,0,IF(D14<2,10,IF(D14<3,20,IF(D14<4,30,IF(D14<5,40,IF(D14>=5,50,99)))))) -> 50 | H14: =SUM(E14:G14) -> 87 | I14: =IF(H14<10,"F",IF(AND(H14<19,H14>10),"E",IF(AND(H14<=29,H14>20),"D",IF(AND(H14<=49,H14>30),"C",IF(AND(H14<=69,H14>50),"B",IF(H14>=70,"A",99)))))) -> A
A15: {=INDEX(Master_datasheet!$A$2:$A$160, MATCH(0, COUNTIF($A$1:A14,Master_datasheet!$A$2:$A$160), 0))} -> Minnehaha Creek | B15: =AVERAGEIF(Master_datasheet!$A18:$A172,Master_Average_Stream_Grade!$A15,Master_datasheet!E18:E172) -> 13.666667 | C15: =AVERAGEIF(Master_datasheet!$A18:$A172,Master_Average_Stream_Grade!$A15,Master_datasheet!F18:F172) -> 7.9833333 | D15: =AVERAGEIF(Master_datasheet!$A18:$A172,Master_Average_Stream_Grade!$A15,Master_datasheet!G18:G172) -> 3.8 | E15: =IF(B15<5,0,IF(B15<9,3,IF(B15<13,6,IF(B15<17,9,IF(B15<21,12,IF(B15>=21,15,99)))))) -> 9 | F15: =IF(C15=0,0,IF(C15<2,5,IF(C15<4,10,IF(C15<6,15,IF(C15<8,20,IF(C15>=8,25,99)))))) -> 20 | G15: =IF(D15=0,0,IF(D15<2,10,IF(D15<3,20,IF(D15<4,30,IF(D15<5,40,IF(D15>=5,50,99)))))) -> 30 | H15: =SUM(E15:G15) -> 59 | I15: =IF(H15<10,"F",IF(AND(H15<19,H15>10),"E",IF(AND(H15<=29,H15>20),"D",IF(AND(H15<=49,H15>30),"C",IF(AND(H15<=69,H15>50),"B",IF(H15>=70,"A",99)))))) -> B
A16: {=INDEX(Master_datasheet!$A$2:$A$160, MATCH(0, COUNTIF($A$1:A15,Master_datasheet!$A$2:$A$160), 0))} -> Mullett Creek | B16: =AVERAGEIF(Master_datasheet!$A19:$A173,Master_Average_Stream_Grade!$A16,Master_datasheet!E19:E173) -> 19.782589 | C16: =AVERAGEIF(Master_datasheet!$A19:$A173,Master_Average_Stream_Grade!$A16,Master_datasheet!F19:F173) -> 8.0598214 | D16: =AVERAGEIF(Master_datasheet!$A19:$A173,Master_Average_Stream_Grade!$A16,Master_datasheet!G19:G173) -> 3.9571429 | E16: =IF(B16<5,0,IF(B16<9,3,IF(B16<13,6,IF(B16<17,9,IF(B16<21,12,IF(B16>=21,15,99)))))) -> 12 | F16: =IF(C16=0,0,IF(C16<2,5,IF(C16<4,10,IF(C16<6,15,IF(C16<8,20,IF(C16>=8,25,99)))))) -> 25 | G16: =IF(D16=0,0,IF(D16<2,10,IF(D16<3,20,IF(D16<4,30,IF(D16<5,40,IF(D16>=5,50,99)))))) -> 30 | H16: =SUM(E16:G16) -> 67 | I16: =IF(H16<10,"F",IF(AND(H16<19,H16>10),"E",IF(AND(H16<=29,H16>20),"D",IF(AND(H16<=49,H16>30),"C",IF(AND(H16<=69,H16>50),"B",IF(H16>=70,"A",99)))))) -> B
A17: {=INDEX(Master_datasheet!$A$2:$A$160, MATCH(0, COUNTIF($A$1:A16,Master_datasheet!$A$2:$A$160), 0))} -> Pigeon River | B17: =AVERAGEIF(Master_datasheet!$A20:$A174,Master_Average_Stream_Grade!$A17,Master_datasheet!E20:E174) -> 21.823529 | C17: =AVERAGEIF(Master_datasheet!$A20:$A174,Master_Average_Stream_Grade!$A17,Master_datasheet!F20:F174) -> 11.117647 | D17: =AVERAGEIF(Master_datasheet!$A20:$A174,Master_Average_Stream_Grade!$A17,Master_datasheet!G20:G174) -> 6.8823529 | E17: =IF(B17<5,0,IF(B17<9,3,IF(B17<13,6,IF(B17<17,9,IF(B17<21,12,IF(B17>=21,15,99)))))) -> 15 | F17: =IF(C17=0,0,IF(C17<2,5,IF(C17<4,10,IF(C17<6,15,IF(C17<8,20,IF(C17>=8,25,99)))))) -> 25 | G17: =IF(D17=0,0,IF(D17<2,10,IF(D17<3,20,IF(D17<4,30,IF(D17<5,40,IF(D17>=5,50,99)))))) -> 50 | H17: =SUM(E17:G17) -> 90 | I17: =IF(H17<10,"F",IF(AND(H17<19,H17>10),"E",IF(AND(H17<=29,H17>20),"D",IF(AND(H17<=49,H17>30),"C",IF(AND(H17<=69,H17>50),"B",IF(H17>=70,"A",99)))))) -> A
A18: {=INDEX(Master_datasheet!$A$2:$A$160, MATCH(0, COUNTIF($A$1:A17,Master_datasheet!$A$2:$A$160), 0))} -> Russian Creek | B18: =AVERAGEIF(Master_datasheet!$A21:$A175,Master_Average_Stream_Grade!$A18,Master_datasheet!E21:E175) -> 15.4 | C18: =AVERAGEIF(Master_datasheet!$A21:$A175,Master_Average_Stream_Grade!$A18,Master_datasheet!F21:F175) -> 4 | D18: =AVERAGEIF(Master_datasheet!$A21:$A175,Master_Average_Stream_Grade!$A18,Master_datasheet!G21:G175) -> 2 | E18: =IF(B18<5,0,IF(B18<9,3,IF(B18<13,6,IF(B18<17,9,IF(B18<21,12,IF(B18>=21,15,99)))))) -> 9 | F18: =IF(C18=0,0,IF(C18<2,5,IF(C18<4,10,IF(C18<6,15,IF(C18<8,20,IF(C18>=8,25,99)))))) -> 15 | G18: =IF(D18=0,0,IF(D18<2,10,IF(D18<3,20,IF(D18<4,30,IF(D18<5,40,IF(D18>=5,50,99)))))) -> 20 | H18: =SUM(E18:G18) -> 44 | I18: =IF(H18<10,"F",IF(AND(H18<19,H18>10),"E",IF(AND(H18<=29,H18>20),"D",IF(AND(H18<=49,H18>30),"C",IF(AND(H18<=69,H18>50),"B",IF(H18>=70,"A",99)))))) -> C
A19: {=INDEX(Master_datasheet!$A$2:$A$160, MATCH(0, COUNTIF($A$1:A18,Master_datasheet!$A$2:$A$160), 0))} -> Schoofs Creek | B19: =AVERAGEIF(Master_datasheet!$A22:$A176,Master_Average_Stream_Grade!$A19,Master_datasheet!E22:E176) -> 13.25 | C19: =AVERAGEIF(Master_datasheet!$A22:$A176,Master_Average_Stream_Grade!$A19,Master_datasheet!F22:F176) -> 5.5 | D19: =AVERAGEIF(Master_datasheet!$A22:$A176,Master_Average_Stream_Grade!$A19,Master_datasheet!G22:G176) -> 2.25 | E19: =IF(B19<5,0,IF(B19<9,3,IF(B19<13,6,IF(B19<17,9,IF(B19<21,12,IF(B19>=21,15,99)))))) -> 9 | F19: =IF(C19=0,0,IF(C19<2,5,IF(C19<4,10,IF(C19<6,15,IF(C19<8,20,IF(C19>=8,25,99)))))) -> 15 | G19: =IF(D19=0,0,IF(D19<2,10,IF(D19<3,20,IF(D19<4,30,IF(D19<5,40,IF(D19>=5,50,99)))))) -> 20 | H19: =SUM(E19:G19) -> 44 | I19: =IF(H19<10,"F",IF(AND(H19<19,H19>10),"E",IF(AND(H19<=29,H19>20),"D",IF(AND(H19<=49,H19>30),"C",IF(AND(H19<=69,H19>50),"B",IF(H19>=70,"A",99)))))) -> C
A20: {=INDEX(Master_datasheet!$A$2:$A$160, MATCH(0, COUNTIF($A$1:A19,Master_datasheet!$A$2:$A$160), 0))} -> Springbrook Creek | B20: =AVERAGEIF(Master_datasheet!$A23:$A177,Master_Average_Stream_Grade!$A20,Master_datasheet!E23:E177) -> 20.8 | C20: =AVERAGEIF(Master_datasheet!$A23:$A177,Master_Average_Stream_Grade!$A20,Master_datasheet!F23:F177) -> 10.266667 | D20: =AVERAGEIF(Master_datasheet!$A23:$A177,Master_Average_Stream_Grade!$A20,Master_datasheet!G23:G177) -> 5.2 | E20: =IF(B20<5,0,IF(B20<9,3,IF(B20<13,6,IF(B20<17,9,IF(B20<21,12,IF(B20>=21,15,99)))))) -> 12 | F20: =IF(C20=0,0,IF(C20<2,5,IF(C20<4,10,IF(C20<6,15,IF(C20<8,20,IF(C20>=8,25,99)))))) -> 25 | G20: =IF(D20=0,0,IF(D20<2,10,IF(D20<3,20,IF(D20<4,30,IF(D20<5,40,IF(D20>=5,50,99)))))) -> 50 | H20: =SUM(E20:G20) -> 87 | I20: =IF(H20<10,"F",IF(AND(H20<19,H20>10),"E",IF(AND(H20<=29,H20>20),"D",IF(AND(H20<=49,H20>30),"C",IF(AND(H20<=69,H20>50),"B",IF(H20>=70,"A",99)))))) -> A
A21: {=INDEX(Master_datasheet!$A$2:$A$160, MATCH(0, COUNTIF($A$1:A20,Master_datasheet!$A$2:$A$160), 0))} -> Stover Creek | B21: =AVERAGEIF(Master_datasheet!$A24:$A178,Master_Average_Stream_Grade!$A21,Master_datasheet!E24:E178) -> 14.241379 | C21: =AVERAGEIF(Master_datasheet!$A24:$A178,Master_Average_Stream_Grade!$A21,Master_datasheet!F24:F178) -> 4.5923645 | D21: =AVERAGEIF(Master_datasheet!$A24:$A178,Master_Average_Stream_Grade!$A21,Master_datasheet!G24:G178) -> 1.6705665 | E21: =IF(B21<5,0,IF(B21<9,3,IF(B21<13,6,IF(B21<17,9,IF(B21<21,12,IF(B21>=21,15,99)))))) -> 9 | F21: =IF(C21=0,0,IF(C21<2,5,IF(C21<4,10,IF(C21<6,15,IF(C21<8,20,IF(C21>=8,25,99)))))) -> 15 | G21: =IF(D21=0,0,IF(D21<2,10,IF(D21<3,20,IF(D21<4,30,IF(D21<5,40,IF(D21>=5,50,99)))))) -> 10 | H21: =SUM(E21:G21) -> 34 | I21: =IF(H21<10,"F",IF(AND(H21<19,H21>10),"E",IF(AND(H21<=29,H21>20),"D",IF(AND(H21<=49,H21>30),"C",IF(AND(H21<=69,H21>50),"B",IF(H21>=70,"A",99)))))) -> C
A22: Sturgeon River | B22: =AVERAGEIF(Master_datasheet!$A25:$A179,Master_Average_Stream_Grade!$A22,Master_datasheet!E25:E179) -> 20.680659 | C22: =AVERAGEIF(Master_datasheet!$A25:$A179,Master_Average_Stream_Grade!$A22,Master_datasheet!F25:F179) -> 10.63304 | D22: =AVERAGEIF(Master_datasheet!$A25:$A179,Master_Average_Stream_Grade!$A22,Master_datasheet!G25:G179) -> 6.8372161 | E22: =IF(B22<5,0,IF(B22<9,3,IF(B22<13,6,IF(B22<17,9,IF(B22<21,12,IF(B22>=21,15,99)))))) -> 12 | F22: =IF(C22=0,0,IF(C22<2,5,IF(C22<4,10,IF(C22<6,15,IF(C22<8,20,IF(C22>=8,25,99)))))) -> 25 | G22: =IF(D22=0,0,IF(D22<2,10,IF(D22<3,20,IF(D22<4,30,IF(D22<5,40,IF(D22>=5,50,99)))))) -> 50 | H22: =SUM(E22:G22) -> 87 | I22: =IF(H22<10,"F",IF(AND(H22<19,H22>10),"E",IF(AND(H22<=29,H22>20),"D",IF(AND(H22<=49,H22>30),"C",IF(AND(H22<=69,H22>50),"B",IF(H22>=70,"A",99)))))) -> A
A23: Tannery Creek | B23: =AVERAGEIF(Master_datasheet!$A26:$A180,Master_Average_Stream_Grade!$A23,Master_datasheet!E26:E180) -> 14.887927 | C23: =AVERAGEIF(Master_datasheet!$A26:$A180,Master_Average_Stream_Grade!$A23,Master_datasheet!F26:F180) -> 6.6329966 | D23: =AVERAGEIF(Master_datasheet!$A26:$A180,Master_Average_Stream_Grade!$A23,Master_datasheet!G26:G180) -> 2.4223184 | E23: =IF(B23<5,0,IF(B23<9,3,IF(B23<13,6,IF(B23<17,9,IF(B23<21,12,IF(B23>=21,15,99)))))) -> 9 | F23: =IF(C23=0,0,IF(C23<2,5,IF(C23<4,10,IF(C23<6,15,IF(C23<8,20,IF(C23>=8,25,99)))))) -> 20 | G23: =IF(D23=0,0,IF(D23<2,10,IF(D23<3,20,IF(D23<4,30,IF(D23<5,40,IF(D23>=5,50,99)))))) -> 20 | H23: =SUM(E23:G23) -> 49 | I23: =IF(H23<10,"F",IF(AND(H23<19,H23>10),"E",IF(AND(H23<=29,H23>20),"D",IF(AND(H23<=49,H23>30),"C",IF(AND(H23<=69,H23>50),"B",IF(H23>=70,"A",99)))))) -> C
A24: Stover Creek | B24: =AVERAGEIF(Master_datasheet!$A27:$A181,Master_Average_Stream_Grade!$A24,Master_datasheet!E27:E181) -> 14.241379 | C24: =AVERAGEIF(Master_datasheet!$A27:$A181,Master_Average_Stream_Grade!$A24,Master_datasheet!F27:F181) -> 4.5923645 | D24: =AVERAGEIF(Master_datasheet!$A27:$A181,Master_Average_Stream_Grade!$A24,Master_datasheet!G27:G181) -> 1.6705665 | E24: =IF(B24<5,0,IF(B24<9,3,IF(B24<13,6,IF(B24<17,9,IF(B24<21,12,IF(B24>=21,15,99)))))) -> 9 | F24: =IF(C24=0,0,IF(C24<2,5,IF(C24<4,10,IF(C24<6,15,IF(C24<8,20,IF(C24>=8,25,99)))))) -> 15 | G24: =IF(D24=0,0,IF(D24<2,10,IF(D24<3,20,IF(D24<4,30,IF(D24<5,40,IF(D24>=5,50,99)))))) -> 10 | H24: =SUM(E24:G24) -> 34 | I24: =IF(H24<10,"F",IF(AND(H24<19,H24>10),"E",IF(AND(H24<=29,H24>20),"D",IF(AND(H24<=49,H24>30),"C",IF(AND(H24<=69,H24>50),"B",IF(H24>=70,"A",99)))))) -> C

Sheet Specific_Annual_Report
D1: =NOW() -> 44320.622
A2: Site ID - ALL | B2: Stream ID - ALL | D2: Site ID - UNIQUE | E2: Grade | F2: Total Taxa Avg | G2: EPT Avg | H2: Sens Avg | I2: Total Score | J2: EPT Score | K2: Sensitive Score | L2: Yearly Score | N2: Stream | O2: Total Taxa Avg | P2: EPT Avg | Q2: Sens Avg | R2: Taxa Score | S2: EPT Score | T2: Sens Score | U2: Year Score | V2: Grade | X2: Historical Average Grade | Y2: Historical Average Score
A3: =Report_from_Debbie!A4 -> Boyne River-Dobleski Rd | B3: =Report_from_Debbie!B4 -> Boyne River | D3: {=INDEX($A$3:$A$154, MATCH(0, COUNTIF($D$2:D2,$A$3:A$154), 0))} -> Boyne River-Dobleski Rd | E3: =IF(L3<10,"F",IF(AND(L3<19,L3>10),"E",IF(AND(L3<=29,L3>20),"D",IF(AND(L3<=49,L3>30),"C",IF(AND(L3<=69,L3>50),"B",IF(L3>=70,"A",99)))))) -> A | F3: =AVERAGEIF(Report_from_Debbie!$A4:$A160,$D3,Report_from_Debbie!E4:E160) -> 24 | G3: =AVERAGEIF(Report_from_Debbie!$A4:$A160,$D3,Report_from_Debbie!F4:F160) -> 12 | H3: =AVERAGEIF(Report_from_Debbie!$A4:$A160,$D3,Report_from_Debbie!G4:G160) -> 7 | I3: =IF(F3<5,0,IF(F3<9,3,IF(F3<13,6,IF(F3<17,9,IF(F3<21,12,IF(F3>=21,15,99)))))) -> 15 | J3: =IF(G3=0,0,IF(G3<2,5,IF(G3<4,10,IF(G3<6,15,IF(G3<8,20,IF(G3>=8,25,99)))))) -> 25 | K3: =IF(H3=0,0,IF(H3<2,10,IF(H3<3,20,IF(H3<4,30,IF(H3<5,40,IF(H3>=5,50,99)))))) -> 50 | L3: =SUM(I3:K3) -> 90 | N3: {=INDEX($B$3:$B$154, MATCH(0, COUNTIF($N$2:N2,$B$3:B$154), 0))} -> Boyne River | O3: =AVERAGEIF(Report_from_Debbie!$B4:$B160,$N3,Report_from_Debbie!E4:E160) -> 19 | P3: =AVERAGEIF(Report_from_Debbie!$B4:$B160,$N3,Report_from_Debbie!F4:F160) -> 10 | Q3: =AVERAGEIF(Report_from_Debbie!$B4:$B160,$N3,Report_from_Debbie!G4:G160) -> 6 | R3: =IF(O3<5,0,IF(O3<9,3,IF(O3<13,6,IF(O3<17,9,IF(O3<21,12,IF(O3>=21,15,99)))))) -> 12 | S3: =IF(P3=0,0,IF(P3<2,5,IF(P3<4,10,IF(P3<6,15,IF(P3<8,20,IF(P3>=8,25,99)))))) -> 25 | T3: =IF(Q3=0,0,IF(Q3<2,10,IF(Q3<3,20,IF(Q3<4,30,IF(Q3<5,40,IF(Q3>=5,50,99)))))) -> 50 | U3: =SUM(R3:T3) -> 87 | V3: =IF(U3<10,"F",IF(AND(U3<19,U3>10),"E",IF(AND(U3<=29,U3>20),"D",IF(AND(U3<=49,U3>30),"C",IF(AND(U3<=69,U3>50),"B",IF(U3>=70,"A",99)))))) -> A | X3: =VLOOKUP(N3,Master_Average_Stream_Grade!A:J,9,FALSE) -> A | Y3: =VLOOKUP(N3,Master_Average_Stream_Grade!A:I,8,FALSE) -> 74
A4: =Report_from_Debbie!A5 -> Eastport Creek-Farrell Rd | B4: =Report_from_Debbie!B5 -> Eastport Creek | D4: {=INDEX($A$3:$A$154, MATCH(0, COUNTIF($D$2:D3,$A$3:A$154), 0))} -> Eastport Creek-Farrell Rd | E4: =IF(L4<10,"F",IF(AND(L4<19,L4>10),"E",IF(AND(L4<=29,L4>20),"D",IF(AND(L4<=49,L4>30),"C",IF(AND(L4<=69,L4>50),"B",IF(L4>=70,"A",99)))))) -> B | F4: =AVERAGEIF(Report_from_Debbie!$A5:$A161,$D4,Report_from_Debbie!E5:E161) -> 20 | G4: =AVERAGEIF(Report_from_Debbie!$A5:$A161,$D4,Report_from_Debbie!F5:F161) -> 7 | H4: =AVERAGEIF(Report_from_Debbie!$A5:$A161,$D4,Report_from_Debbie!G5:G161) -> 2 | I4: =IF(F4<5,0,IF(F4<9,3,IF(F4<13,6,IF(F4<17,9,IF(F4<21,12,IF(F4>=21,15,99)))))) -> 12 | J4: =IF(G4=0,0,IF(G4<2,5,IF(G4<4,10,IF(G4<6,15,IF(G4<8,20,IF(G4>=8,25,99)))))) -> 20 | K4: =IF(H4=0,0,IF(H4<2,10,IF(H4<3,20,IF(H4<4,30,IF(H4<5,40,IF(H4>=5,50,99)))))) -> 20 | L4: =SUM(I4:K4) -> 52 | N4: {=INDEX($B$3:$B$154, MATCH(0, COUNTIF($N$2:N3,$B$3:B$154), 0))} -> Eastport Creek | O4: =AVERAGEIF(Report_from_Debbie!$B5:$B161,$N4,Report_from_Debbie!E5:E161) -> 16.5 | P4: =AVERAGEIF(Report_from_Debbie!$B5:$B161,$N4,Report_from_Debbie!F5:F161) -> 6 | Q4: =AVERAGEIF(Report_from_Debbie!$B5:$B161,$N4,Report_from_Debbie!G5:G161) -> 2 | R4: =IF(O4<5,0,IF(O4<9,3,IF(O4<13,6,IF(O4<17,9,IF(O4<21,12,IF(O4>=21,15,99)))))) -> 9 | S4: =IF(P4=0,0,IF(P4<2,5,IF(P4<4,10,IF(P4<6,15,IF(P4<8,20,IF(P4>=8,25,99)))))) -> 20 | T4: =IF(Q4=0,0,IF(Q4<2,10,IF(Q4<3,20,IF(Q4<4,30,IF(Q4<5,40,IF(Q4>=5,50,99)))))) -> 20 | U4: =SUM(R4:T4) -> 49 | V4: =IF(U4<10,"F",IF(AND(U4<19,U4>10),"E",IF(AND(U4<=29,U4>20),"D",IF(AND(U4<=49,U4>30),"C",IF(AND(U4<=69,U4>50),"B",IF(U4>=70,"A",99)))))) -> C | X4: =VLOOKUP(N4,Master_Average_Stream_Grade!A:J,9,FALSE) -> B | Y4: =VLOOKUP(N4,Master_Average_Stream_Grade!A:I,8,FALSE) -> 52
A5: =Report_from_Debbie!A6 -> Eastport Creek-M-88 | B5: =Report_from_Debbie!B6 -> Eastport Creek | D5: {=INDEX($A$3:$A$154, MATCH(0, COUNTIF($D$2:D4,$A$3:A$154), 0))} -> Eastport Creek-M-88 | E5: =IF(L5<10,"F",IF(AND(L5<19,L5>10),"E",IF(AND(L5<=29,L5>20),"D",IF(AND(L5<=49,L5>30),"C",IF(AND(L5<=69,L5>50),"B",IF(L5>=70,"A",99)))))) -> C | F5: =AVERAGEIF(Report_from_Debbie!$A6:$A162,$D5,Report_from_Debbie!E6:E162) -> 13 | G5: =AVERAGEIF(Report_from_Debbie!$A6:$A162,$D5,Report_from_Debbie!F6:F162) -> 5 | H5: =AVERAGEIF(Report_from_Debbie!$A6:$A162,$D5,Report_from_Debbie!G6:G162) -> 2 | I5: =IF(F5<5,0,IF(F5<9,3,IF(F5<13,6,IF(F5<17,9,IF(F5<21,12,IF(F5>=21,15,99)))))) -> 9 | J5: =IF(G5=0,0,IF(G5<2,5,IF(G5<4,10,IF(G5<6,15,IF(G5<8,20,IF(G5>=8,25,99)))))) -> 15 | K5: =IF(H5=0,0,IF(H5<2,10,IF(H5<3,20,IF(H5<4,30,IF(H5<5,40,IF(H5>=5,50,99)))))) -> 20 | L5: =SUM(I5:K5) -> 44 | N5: {=INDEX($B$3:$B$154, MATCH(0, COUNTIF($N$2:N4,$B$3:B$154), 0))} -> Pigeon River | O5: =AVERAGEIF(Report_from_Debbie!$B6:$B162,$N5,Report_from_Debbie!E6:E162) -> 24.5 | P5: =AVERAGEIF(Report_from_Debbie!$B6:$B162,$N5,Report_from_Debbie!F6:F162) -> 14.5 | Q5: =AVERAGEIF(Report_from_Debbie!$B6:$B162,$N5,Report_from_Debbie!G6:G162) -> 10 | R5: =IF(O5<5,0,IF(O5<9,3,IF(O5<13,6,IF(O5<17,9,IF(O5<21,12,IF(O5>=21,15,99)))))) -> 15 | S5: =IF(P5=0,0,IF(P5<2,5,IF(P5<4,10,IF(P5<6,15,IF(P5<8,20,IF(P5>=8,25,99)))))) -> 25 | T5: =IF(Q5=0,0,IF(Q5<2,10,IF(Q5<3,20,IF(Q5<4,30,IF(Q5<5,40,IF(Q5>=5,50,99)))))) -> 50 | U5: =SUM(R5:T5) -> 90 | V5: =IF(U5<10,"F",IF(AND(U5<19,U5>10),"E",IF(AND(U5<=29,U5>20),"D",IF(AND(U5<=49,U5>30),"C",IF(AND(U5<=69,U5>50),"B",IF(U5>=70,"A",99)))))) -> A | X5: =VLOOKUP(N5,Master_Average_Stream_Grade!A:J,9,FALSE) -> A | Y5: =VLOOKUP(N5,Master_Average_Stream_Grade!A:I,8,FALSE) -> 90
A6: =Report_from_Debbie!A7 -> Pigeon River-Sturgeon Valley Rd | B6: =Report_from_Debbie!B7 -> Pigeon River | D6: {=INDEX($A$3:$A$154, MATCH(0, COUNTIF($D$2:D5,$A$3:A$154), 0))} -> Pigeon River-Sturgeon Valley Rd | E6: =IF(L6<10,"F",IF(AND(L6<19,L6>10),"E",IF(AND(L6<=29,L6>20),"D",IF(AND(L6<=49,L6>30),"C",IF(AND(L6<=69,L6>50),"B",IF(L6>=70,"A",99)))))) -> A | F6: =AVERAGEIF(Report_from_Debbie!$A7:$A163,$D6,Report_from_Debbie!E7:E163) -> 26 | G6: =AVERAGEIF(Report_from_Debbie!$A7:$A163,$D6,Report_from_Debbie!F7:F163) -> 15 | H6: =AVERAGEIF(Report_from_Debbie!$A7:$A163,$D6,Report_from_Debbie!G7:G163) -> 11 | I6: =IF(F6<5,0,IF(F6<9,3,IF(F6<13,6,IF(F6<17,9,IF(F6<21,12,IF(F6>=21,15,99)))))) -> 15 | J6: =IF(G6=0,0,IF(G6<2,5,IF(G6<4,10,IF(G6<6,15,IF(G6<8,20,IF(G6>=8,25,99)))))) -> 25 | K6: =IF(H6=0,0,IF(H6<2,10,IF(H6<3,20,IF(H6<4,30,IF(H6<5,40,IF(H6>=5,50,99)))))) -> 50 | L6: =SUM(I6:K6) -> 90 | N6: {=INDEX($B$3:$B$154, MATCH(0, COUNTIF($N$2:N5,$B$3:B$154), 0))} -> Bear River | O6: =AVERAGEIF(Report_from_Debbie!$B7:$B163,$N6,Report_from_Debbie!E7:E163) -> 4 | P6: =AVERAGEIF(Report_from_Debbie!$B7:$B163,$N6,Report_from_Debbie!F7:F163) -> 2 | Q6: =AVERAGEIF(Report_from_Debbie!$B7:$B163,$N6,Report_from_Debbie!G7:G163) -> 0 | R6: =IF(O6<5,0,IF(O6<9,3,IF(O6<13,6,IF(O6<17,9,IF(O6<21,12,IF(O6>=21,15,99)))))) -> 0 | S6: =IF(P6=0,0,IF(P6<2,5,IF(P6<4,10,IF(P6<6,15,IF(P6<8,20,IF(P6>=8,25,99)))))) -> 10 | T6: =IF(Q6=0,0,IF(Q6<2,10,IF(Q6<3,20,IF(Q6<4,30,IF(Q6<5,40,IF(Q6>=5,50,99)))))) -> 0 | U6: =SUM(R6:T6) -> 10 | V6: =IF(U6<10,"F",IF(AND(U6<19,U6>10),"E",IF(AND(U6<=29,U6>20),"D",IF(AND(U6<=49,U6>30),"C",IF(AND(U6<=69,U6>50),"B",IF(U6>=70,"A",99)))))) -> 99 | X6: =VLOOKUP(N6,Master_Average_Stream_Grade!A:J,9,FALSE) -> C | Y6: =VLOOKUP(N6,Master_Average_Stream_Grade!A:I,8,FALSE) -> 44
A7: =Report_from_Debbie!A8 -> Bear River-Walloon Lake Village | B7: =Report_from_Debbie!B8 -> Bear River | D7: {=INDEX($A$3:$A$154, MATCH(0, COUNTIF($D$2:D6,$A$3:A$154), 0))} -> Bear River-Walloon Lake Village | E7: F | F7: =AVERAGEIF(Report_from_Debbie!$A8:$A164,$D7,Report_from_Debbie!E8:E164) -> 4 | G7: =AVERAGEIF(Report_from_Debbie!$A8:$A164,$D7,Report_from_Debbie!F8:F164) -> 2 | H7: =AVERAGEIF(Report_from_Debbie!$A8:$A164,$D7,Report_from_Debbie!G8:G164) -> 0 | I7: =IF(F7<5,0,IF(F7<9,3,IF(F7<13,6,IF(F7<17,9,IF(F7<21,12,IF(F7>=21,15,99)))))) -> 0 | J7: =IF(G7=0,0,IF(G7<2,5,IF(G7<4,10,IF(G7<6,15,IF(G7<8,20,IF(G7>=8,25,99)))))) -> 10 | K7: =IF(H7=0,0,IF(H7<2,10,IF(H7<3,20,IF(H7<4,30,IF(H7<5,40,IF(H7>=5,50,99)))))) -> 0 | L7: =SUM(I7:K7) -> 10 | N7: {=INDEX($B$3:$B$154, MATCH(0, COUNTIF($N$2:N6,$B$3:B$154), 0))} -> Springbrook Creek | O7: =AVERAGEIF(Report_from_Debbie!$B8:$B164,$N7,Report_from_Debbie!E8:E164) -> 9 | P7: =AVERAGEIF(Report_from_Debbie!$B8:$B164,$N7,Report_from_Debbie!F8:F164) -> 6 | Q7: =AVERAGEIF(Report_from_Debbie!$B8:$B164,$N7,Report_from_Debbie!G8:G164) -> 2 | R7: =IF(O7<5,0,IF(O7<9,3,IF(O7<13,6,IF(O7<17,9,IF(O7<21,12,IF(O7>=21,15,99)))))) -> 6 | S7: =IF(P7=0,0,IF(P7<2,5,IF(P7<4,10,IF(P7<6,15,IF(P7<8,20,IF(P7>=8,25,99)))))) -> 20 | T7: =IF(Q7=0,0,IF(Q7<2,10,IF(Q7<3,20,IF(Q7<4,30,IF(Q7<5,40,IF(Q7>=5,50,99)))))) -> 20 | U7: =SUM(R7:T7) -> 46 | V7: =IF(U7<10,"F",IF(AND(U7<19,U7>10),"E",IF(AND(U7<=29,U7>20),"D",IF(AND(U7<=49,U7>30),"C",IF(AND(U7<=69,U7>50),"B",IF(U7>=70,"A",99)))))) -> C | X7: =VLOOKUP(N7,Master_Average_Stream_Grade!A:J,9,FALSE) -> A | Y7: =VLOOKUP(N7,Master_Average_Stream_Grade!A:I,8,FALSE) -> 87
A8: =Report_from_Debbie!A9 -> Springbrook Creek-Springbrook Rd | B8: =Report_from_Debbie!B9 -> Springbrook Creek | D8: {=INDEX($A$3:$A$154, MATCH(0, COUNTIF($D$2:D7,$A$3:A$154), 0))} -> Springbrook Creek-Springbrook Rd | E8: =IF(L8<10,"F",IF(AND(L8<19,L8>10),"E",IF(AND(L8<=29,L8>20),"D",IF(AND(L8<=49,L8>30),"C",IF(AND(L8<=69,L8>50),"B",IF(L8>=70,"A",99)))))) -> C | F8: =AVERAGEIF(Report_from_Debbie!$A9:$A165,$D8,Report_from_Debbie!E9:E165) -> 9 | G8: =AVERAGEIF(Report_from_Debbie!$A9:$A165,$D8,Report_from_Debbie!F9:F165) -> 6 | H8: =AVERAGEIF(Report_from_Debbie!$A9:$A165,$D8,Report_from_Debbie!G9:G165) -> 2 | I8: =IF(F8<5,0,IF(F8<9,3,IF(F8<13,6,IF(F8<17,9,IF(F8<21,12,IF(F8>=21,15,99)))))) -> 6 | J8: =IF(G8=0,0,IF(G8<2,5,IF(G8<4,10,IF(G8<6,15,IF(G8<8,20,IF(G8>=8,25,99)))))) -> 20 | K8: =IF(H8=0,0,IF(H8<2,10,IF(H8<3,20,IF(H8<4,30,IF(H8<5,40,IF(H8>=5,50,99)))))) -> 20 | L8: =SUM(I8:K8) -> 46 | N8: {=INDEX($B$3:$B$154, MATCH(0, COUNTIF($N$2:N7,$B$3:B$154), 0))} -> Stover Creek | O8: =AVERAGEIF(Report_from_Debbie!$B9:$B165,$N8,Report_from_Debbie!E9:E165) -> 11 | P8: =AVERAGEIF(Report_from_Debbie!$B9:$B165,$N8,Report_from_Debbie!F9:F165) -> 4 | Q8: =AVERAGEIF(Report_from_Debbie!$B9:$B165,$N8,Report_from_Debbie!G9:G165) -> 1.5 | R8: =IF(O8<5,0,IF(O8<9,3,IF(O8<13,6,IF(O8<17,9,IF(O8<21,12,IF(O8>=21,15,99)))))) -> 6 | S8: =IF(P8=0,0,IF(P8<2,5,IF(P8<4,10,IF(P8<6,15,IF(P8<8,20,IF(P8>=8,25,99)))))) -> 15 | T8: =IF(Q8=0,0,IF(Q8<2,10,IF(Q8<3,20,IF(Q8<4,30,IF(Q8<5,40,IF(Q8>=5,50,99)))))) -> 10 | U8: =SUM(R8:T8) -> 31 | V8: =IF(U8<10,"F",IF(AND(U8<19,U8>10),"E",IF(AND(U8<=29,U8>20),"D",IF(AND(U8<=49,U8>30),"C",IF(AND(U8<=69,U8>50),"B",IF(U8>=70,"A",99)))))) -> C | X8: =VLOOKUP(N8,Master_Average_Stream_Grade!A:J,9,FALSE) -> C | Y8: =VLOOKUP(N8,Master_Average_Stream_Grade!A:I,8,FALSE) -> 34
A9: =Report_from_Debbie!A10 -> Stover Creek-Irish Boat Yard | B9: =Report_from_Debbie!B10 -> Stover Creek | D9: {=INDEX($A$3:$A$154, MATCH(0, COUNTIF($D$2:D8,$A$3:A$154), 0))} -> Stover Creek-Irish Boat Yard | E9: =IF(L9<10,"F",IF(AND(L9<19,L9>10),"E",IF(AND(L9<=29,L9>20),"D",IF(AND(L9<=49,L9>30),"C",IF(AND(L9<=69,L9>50),"B",IF(L9>=70,"A",99)))))) -> D | F9: =AVERAGEIF(Report_from_Debbie!$A10:$A166,$D9,Report_from_Debbie!E10:E166) -> 7 | G9: =AVERAGEIF(Report_from_Debbie!$A10:$A166,$D9,Report_from_Debbie!F10:F166) -> 2 | H9: =AVERAGEIF(Report_from_Debbie!$A10:$A166,$D9,Report_from_Debbie!G10:G166) -> 1 | I9: =IF(F9<5,0,IF(F9<9,3,IF(F9<13,6,IF(F9<17,9,IF(F9<21,12,IF(F9>=21,15,99)))))) -> 3 | J9: =IF(G9=0,0,IF(G9<2,5,IF(G9<4,10,IF(G9<6,15,IF(G9<8,20,IF(G9>=8,25,99)))))) -> 10 | K9: =IF(H9=0,0,IF(H9<2,10,IF(H9<3,20,IF(H9<4,30,IF(H9<5,40,IF(H9>=5,50,99)))))) -> 10 | L9: =SUM(I9:K9) -> 23 | N9: {=INDEX($B$3:$B$154, MATCH(0, COUNTIF($N$2:N8,$B$3:B$154), 0))} -> 0 | O9: =AVERAGEIF(Report_from_Debbie!$B10:$B166,$N9,Report_from_Debbie!E10:E166) -> #DIV/0! | P9: =AVERAGEIF(Report_from_Debbie!$B10:$B166,$N9,Report_from_Debbie!F10:F166) -> #DIV/0! | Q9: =AVERAGEIF(Report_from_Debbie!$B10:$B166,$N9,Report_from_Debbie!G10:G166) -> #DIV/0! | R9: =IF(O9<5,0,IF(O9<9,3,IF(O9<13,6,IF(O9<17,9,IF(O9<21,12,IF(O9>=21,15,99)))))) -> #DIV/0! | S9: =IF(P9=0,0,IF(P9<2,5,IF(P9<4,10,IF(P9<6,15,IF(P9<8,20,IF(P9>=8,25,99)))))) -> #DIV/0! | T9: =IF(Q9=0,0,IF(Q9<2,10,IF(Q9<3,20,IF(Q9<4,30,IF(Q9<5,40,IF(Q9>=5,50,99)))))) -> #DIV/0! | U9: =SUM(R9:T9) -> #DIV/0! | V9: =IF(U9<10,"F",IF(AND(U9<19,U9>10),"E",IF(AND(U9<=29,U9>20),"D",IF(AND(U9<=49,U9>30),"C",IF(AND(U9<=69,U9>50),"B",IF(U9>=70,"A",99)))))) -> #DIV/0! | X9: =VLOOKUP(N9,Master_Average_Stream_Grade!A:J,9,FALSE) -> #N/A | Y9: =VLOOKUP(N9,Master_Average_Stream_Grade!A:I,8,FALSE) -> #N/A
A10: =Report_from_Debbie!A11 -> Stover Creek-Brookside Cemetary | B10: =Report_from_Debbie!B11 -> Stover Creek | D10: {=INDEX($A$3:$A$154, MATCH(0, COUNTIF($D$2:D9,$A$3:A$154), 0))} -> Stover Creek-Brookside Cemetary | E10: =IF(L10<10,"F",IF(AND(L10<19,L10>10),"E",IF(AND(L10<=29,L10>20),"D",IF(AND(L10<=49,L10>30),"C",IF(AND(L10<=69,L10>50),"B",IF(L10>=70,"A",99)))))) -> C | F10: =AVERAGEIF(Report_from_Debbie!$A11:$A167,$D10,Report_from_Debbie!E11:E167) -> 15 | G10: =AVERAGEIF(Report_from_Debbie!$A11:$A167,$D10,Report_from_Debbie!F11:F167) -> 6 | H10: =AVERAGEIF(Report_from_Debbie!$A11:$A167,$D10,Report_from_Debbie!G11:G167) -> 2 | I10: =IF(F10<5,0,IF(F10<9,3,IF(F10<13,6,IF(F10<17,9,IF(F10<21,12,IF(F10>=21,15,99)))))) -> 9 | J10: =IF(G10=0,0,IF(G10<2,5,IF(G10<4,10,IF(G10<6,15,IF(G10<8,20,IF(G10>=8,25,99)))))) -> 20 | K10: =IF(H10=0,0,IF(H10<2,10,IF(H10<3,20,IF(H10<4,30,IF(H10<5,40,IF(H10>=5,50,99)))))) -> 20 | L10: =SUM(I10:K10) -> 49 | N10: {=INDEX($B$3:$B$154, MATCH(0, COUNTIF($N$2:N9,$B$3:B$154), 0))} -> #REF! | O10: =AVERAGEIF(Report_from_Debbie!$B11:$B167,$N10,Report_from_Debbie!E11:E167) -> #DIV/0! | P10: =AVERAGEIF(Report_from_Debbie!$B11:$B167,$N10,Report_from_Debbie!F11:F167) -> #DIV/0! | Q10: =AVERAGEIF(Report_from_Debbie!$B11:$B167,$N10,Report_from_Debbie!G11:G167) -> #DIV/0! | R10: =IF(O10<5,0,IF(O10<9,3,IF(O10<13,6,IF(O10<17,9,IF(O10<21,12,IF(O10>=21,15,99)))))) -> #DIV/0! | S10: =IF(P10=0,0,IF(P10<2,5,IF(P10<4,10,IF(P10<6,15,IF(P10<8,20,IF(P10>=8,25,99)))))) -> #DIV/0! | T10: =IF(Q10=0,0,IF(Q10<2,10,IF(Q10<3,20,IF(Q10<4,30,IF(Q10<5,40,IF(Q10>=5,50,99)))))) -> #DIV/0! | U10: =SUM(R10:T10) -> #DIV/0! | V10: =IF(U10<10,"F",IF(AND(U10<19,U10>10),"E",IF(AND(U10<=29,U10>20),"D",IF(AND(U10<=49,U10>30),"C",IF(AND(U10<=69,U10>50),"B",IF(U10>=70,"A",99)))))) -> #DIV/0! | X10: =VLOOKUP(N10,Master_Average_Stream_Grade!A:J,9,FALSE) -> #REF! | Y10: =VLOOKUP(N10,Master_Average_Stream_Grade!A:I,8,FALSE) -> #REF!
A11: =Report_from_Debbie!A12 -> Pigeon River-Webb Rd | B11: =Report_from_Debbie!B12 -> Pigeon River | D11: {=INDEX($A$3:$A$154, MATCH(0, COUNTIF($D$2:D10,$A$3:A$154), 0))} -> Pigeon River-Webb Rd | E11: =IF(L11<10,"F",IF(AND(L11<19,L11>10),"E",IF(AND(L11<=29,L11>20),"D",IF(AND(L11<=49,L11>30),"C",IF(AND(L11<=69,L11>50),"B",IF(L11>=70,"A",99)))))) -> A | F11: =AVERAGEIF(Report_from_Debbie!$A12:$A168,$D11,Report_from_Debbie!E12:E168) -> 23 | G11: =AVERAGEIF(Report_from_Debbie!$A12:$A168,$D11,Report_from_Debbie!F12:F168) -> 14 | H11: =AVERAGEIF(Report_from_Debbie!$A12:$A168,$D11,Report_from_Debbie!G12:G168) -> 9 | I11: =IF(F11<5,0,IF(F11<9,3,IF(F11<13,6,IF(F11<17,9,IF(F11<21,12,IF(F11>=21,15,99)))))) -> 15 | J11: =IF(G11=0,0,IF(G11<2,5,IF(G11<4,10,IF(G11<6,15,IF(G11<8,20,IF(G11>=8,25,99)))))) -> 25 | K11: =IF(H11=0,0,IF(H11<2,10,IF(H11<3,20,IF(H11<4,30,IF(H11<5,40,IF(H11>=5,50,99)))))) -> 50 | L11: =SUM(I11:K11) -> 90 | N11: {=INDEX($B$3:$B$154, MATCH(0, COUNTIF($N$2:N10,$B$3:B$154), 0))} -> #N/A | O11: =AVERAGEIF(Report_from_Debbie!$B12:$B168,$N11,Report_from_Debbie!E12:E168) -> #DIV/0! | P11: =AVERAGEIF(Report_from_Debbie!$B12:$B168,$N11,Report_from_Debbie!F12:F168) -> #DIV/0! | Q11: =AVERAGEIF(Report_from_Debbie!$B12:$B168,$N11,Report_from_Debbie!G12:G168) -> #DIV/0! | R11: =IF(O11<5,0,IF(O11<9,3,IF(O11<13,6,IF(O11<17,9,IF(O11<21,12,IF(O11>=21,15,99)))))) -> #DIV/0! | S11: =IF(P11=0,0,IF(P11<2,5,IF(P11<4,10,IF(P11<6,15,IF(P11<8,20,IF(P11>=8,25,99)))))) -> #DIV/0! | T11: =IF(Q11=0,0,IF(Q11<2,10,IF(Q11<3,20,IF(Q11<4,30,IF(Q11<5,40,IF(Q11>=5,50,99)))))) -> #DIV/0! | U11: =SUM(R11:T11) -> #DIV/0! | V11: =IF(U11<10,"F",IF(AND(U11<19,U11>10),"E",IF(AND(U11<=29,U11>20),"D",IF(AND(U11<=49,U11>30),"C",IF(AND(U11<=69,U11>50),"B",IF(U11>=70,"A",99)))))) -> #DIV/0! | X11: =VLOOKUP(N11,Master_Average_Stream_Grade!A:J,9,FALSE) -> #N/A | Y11: =VLOOKUP(N11,Master_Average_Stream_Grade!A:I,8,FALSE) -> #N/A
A12: =Report_from_Debbie!A13 -> Boyne River-Thumb Lake Rd | B12: =Report_from_Debbie!B13 -> Boyne River | D12: {=INDEX($A$3:$A$154, MATCH(0, COUNTIF($D$2:D11,$A$3:A$154), 0))} -> Boyne River-Thumb Lake Rd | E12: =IF(L12<10,"F",IF(AND(L12<19,L12>10),"E",IF(AND(L12<=29,L12>20),"D",IF(AND(L12<=49,L12>30),"C",IF(AND(L12<=69,L12>50),"B",IF(L12>=70,"A",99)))))) -> A | F12: =AVERAGEIF(Report_from_Debbie!$A13:$A169,$D12,Report_from_Debbie!E13:E169) -> 14 | G12: =AVERAGEIF(Report_from_Debbie!$A13:$A169,$D12,Report_from_Debbie!F13:F169) -> 8 | H12: =AVERAGEIF(Report_from_Debbie!$A13:$A169,$D12,Report_from_Debbie!G13:G169) -> 5 | I12: =IF(F12<5,0,IF(F12<9,3,IF(F12<13,6,IF(F12<17,9,IF(F12<21,12,IF(F12>=21,15,99)))))) -> 9 | J12: =IF(G12=0,0,IF(G12<2,5,IF(G12<4,10,IF(G12<6,15,IF(G12<8,20,IF(G12>=8,25,99)))))) -> 25 | K12: =IF(H12=0,0,IF(H12<2,10,IF(H12<3,20,IF(H12<4,30,IF(H12<5,40,IF(H12>=5,50,99)))))) -> 50 | L12: =SUM(I12:K12) -> 84 | N12: {=INDEX($B$3:$B$154, MATCH(0, COUNTIF($N$2:N11,$B$3:B$154), 0))} -> #N/A | O12: =AVERAGEIF(Report_from_Debbie!$B13:$B169,$N12,Report_from_Debbie!E13:E169) -> #DIV/0! | P12: =AVERAGEIF(Report_from_Debbie!$B13:$B169,$N12,Report_from_Debbie!F13:F169) -> #DIV/0! | Q12: =AVERAGEIF(Report_from_Debbie!$B13:$B169,$N12,Report_from_Debbie!G13:G169) -> #DIV/0! | R12: =IF(O12<5,0,IF(O12<9,3,IF(O12<13,6,IF(O12<17,9,IF(O12<21,12,IF(O12>=21,15,99)))))) -> #DIV/0! | S12: =IF(P12=0,0,IF(P12<2,5,IF(P12<4,10,IF(P12<6,15,IF(P12<8,20,IF(P12>=8,25,99)))))) -> #DIV/0! | T12: =IF(Q12=0,0,IF(Q12<2,10,IF(Q12<3,20,IF(Q12<4,30,IF(Q12<5,40,IF(Q12>=5,50,99)))))) -> #DIV/0! | U12: =SUM(R12:T12) -> #DIV/0! | V12: =IF(U12<10,"F",IF(AND(U12<19,U12>10),"E",IF(AND(U12<=29,U12>20),"D",IF(AND(U12<=49,U12>30),"C",IF(AND(U12<=69,U12>50),"B",IF(U12>=70,"A",99)))))) -> #DIV/0! | X12: =VLOOKUP(N12,Master_Average_Stream_Grade!A:J,9,FALSE) -> #N/A | Y12: =VLOOKUP(N12,Master_Average_Stream_Grade!A:I,8,FALSE) -> #N/A
A13: =Report_from_Debbie!A14 -> - | B13: =Report_from_Debbie!B14 -> 0 | D13: {=INDEX($A$3:$A$154, MATCH(0, COUNTIF($D$2:D12,$A$3:A$154), 0))} -> - | E13: =IF(L13<10,"F",IF(AND(L13<19,L13>10),"E",IF(AND(L13<=29,L13>20),"D",IF(AND(L13<=49,L13>30),"C",IF(AND(L13<=69,L13>50),"B",IF(L13>=70,"A",99)))))) -> #DIV/0! | F13: =AVERAGEIF(Report_from_Debbie!$A14:$A170,$D13,Report_from_Debbie!E14:E170) -> #DIV/0! | G13: =AVERAGEIF(Report_from_Debbie!$A14:$A170,$D13,Report_from_Debbie!F14:F170) -> #DIV/0! | H13: =AVERAGEIF(Report_from_Debbie!$A14:$A170,$D13,Report_from_Debbie!G14:G170) -> #DIV/0! | I13: =IF(F13<5,0,IF(F13<9,3,IF(F13<13,6,IF(F13<17,9,IF(F13<21,12,IF(F13>=21,15,99)))))) -> #DIV/0! | J13: =IF(G13=0,0,IF(G13<2,5,IF(G13<4,10,IF(G13<6,15,IF(G13<8,20,IF(G13>=8,25,99)))))) -> #DIV/0! | K13: =IF(H13=0,0,IF(H13<2,10,IF(H13<3,20,IF(H13<4,30,IF(H13<5,40,IF(H13>=5,50,99)))))) -> #DIV/0! | L13: =SUM(I13:K13) -> #DIV/0! | N13: {=INDEX($B$3:$B$154, MATCH(0, COUNTIF($N$2:N12,$B$3:B$154), 0))} -> #N/A | O13: =AVERAGEIF(Report_from_Debbie!$B14:$B170,$N13,Report_from_Debbie!E14:E170) -> #DIV/0! | P13: =AVERAGEIF(Report_from_Debbie!$B14:$B170,$N13,Report_from_Debbie!F14:F170) -> #DIV/0! | Q13: =AVERAGEIF(Report_from_Debbie!$B14:$B170,$N13,Report_from_Debbie!G14:G170) -> #DIV/0! | R13: =IF(O13<5,0,IF(O13<9,3,IF(O13<13,6,IF(O13<17,9,IF(O13<21,12,IF(O13>=21,15,99)))))) -> #DIV/0! | S13: =IF(P13=0,0,IF(P13<2,5,IF(P13<4,10,IF(P13<6,15,IF(P13<8,20,IF(P13>=8,25,99)))))) -> #DIV/0! | T13: =IF(Q13=0,0,IF(Q13<2,10,IF(Q13<3,20,IF(Q13<4,30,IF(Q13<5,40,IF(Q13>=5,50,99)))))) -> #DIV/0! | U13: =SUM(R13:T13) -> #DIV/0! | V13: =IF(U13<10,"F",IF(AND(U13<19,U13>10),"E",IF(AND(U13<=29,U13>20),"D",IF(AND(U13<=49,U13>30),"C",IF(AND(U13<=69,U13>50),"B",IF(U13>=70,"A",99)))))) -> #DIV/0! | X13: =VLOOKUP(N13,Master_Average_Stream_Grade!A:J,9,FALSE) -> #N/A | Y13: =VLOOKUP(N13,Master_Average_Stream_Grade!A:I,8,FALSE) -> #N/A
A14: =Report_from_Debbie!A15 -> - | B14: =Report_from_Debbie!B15 -> 0 | D14: {=INDEX($A$3:$A$154, MATCH(0, COUNTIF($D$2:D13,$A$3:A$154), 0))} -> #REF! | E14: =IF(L14<10,"F",IF(AND(L14<19,L14>10),"E",IF(AND(L14<=29,L14>20),"D",IF(AND(L14<=49,L14>30),"C",IF(AND(L14<=69,L14>50),"B",IF(L14>=70,"A",99)))))) -> #DIV/0! | F14: =AVERAGEIF(Report_from_Debbie!$A15:$A171,$D14,Report_from_Debbie!E15:E171) -> #DIV/0! | G14: =AVERAGEIF(Report_from_Debbie!$A15:$A171,$D14,Report_from_Debbie!F15:F171) -> #DIV/0! | H14: =AVERAGEIF(Report_from_Debbie!$A15:$A171,$D14,Report_from_Debbie!G15:G171) -> #DIV/0! | I14: =IF(F14<5,0,IF(F14<9,3,IF(F14<13,6,IF(F14<17,9,IF(F14<21,12,IF(F14>=21,15,99)))))) -> #DIV/0! | J14: =IF(G14=0,0,IF(G14<2,5,IF(G14<4,10,IF(G14<6,15,IF(G14<8,20,IF(G14>=8,25,99)))))) -> #DIV/0! | K14: =IF(H14=0,0,IF(H14<2,10,IF(H14<3,20,IF(H14<4,30,IF(H14<5,40,IF(H14>=5,50,99)))))) -> #DIV/0! | L14: =SUM(I14:K14) -> #DIV/0! | N14: {=INDEX($B$3:$B$154, MATCH(0, COUNTIF($N$2:N13,$B$3:B$154), 0))} -> #N/A | O14: =AVERAGEIF(Report_from_Debbie!$B15:$B171,$N14,Report_from_Debbie!E15:E171) -> #DIV/0! | P14: =AVERAGEIF(Report_from_Debbie!$B15:$B171,$N14,Report_from_Debbie!F15:F171) -> #DIV/0! | Q14: =AVERAGEIF(Report_from_Debbie!$B15:$B171,$N14,Report_from_Debbie!G15:G171) -> #DIV/0! | R14: =IF(O14<5,0,IF(O14<9,3,IF(O14<13,6,IF(O14<17,9,IF(O14<21,12,IF(O14>=21,15,99)))))) -> #DIV/0! | S14: =IF(P14=0,0,IF(P14<2,5,IF(P14<4,10,IF(P14<6,15,IF(P14<8,20,IF(P14>=8,25,99)))))) -> #DIV/0! | T14: =IF(Q14=0,0,IF(Q14<2,10,IF(Q14<3,20,IF(Q14<4,30,IF(Q14<5,40,IF(Q14>=5,50,99)))))) -> #DIV/0! | U14: =SUM(R14:T14) -> #DIV/0! | V14: =IF(U14<10,"F",IF(AND(U14<19,U14>10),"E",IF(AND(U14<=29,U14>20),"D",IF(AND(U14<=49,U14>30),"C",IF(AND(U14<=69,U14>50),"B",IF(U14>=70,"A",99)))))) -> #DIV/0! | X14: =VLOOKUP(N14,Master_Average_Stream_Grade!A:J,9,FALSE) -> #N/A | Y14: =VLOOKUP(N14,Master_Average_Stream_Grade!A:I,8,FALSE) -> #N/A
A15: =Report_from_Debbie!A16 -> - | B15: =Report_from_Debbie!B16 -> 0 | D15: {=INDEX($A$3:$A$154, MATCH(0, COUNTIF($D$2:D14,$A$3:A$154), 0))} -> 0 | E15: =IF(L15<10,"F",IF(AND(L15<19,L15>10),"E",IF(AND(L15<=29,L15>20),"D",IF(AND(L15<=49,L15>30),"C",IF(AND(L15<=69,L15>50),"B",IF(L15>=70,"A",99)))))) -> #DIV/0! | F15: =AVERAGEIF(Report_from_Debbie!$A16:$A172,$D15,Report_from_Debbie!E16:E172) -> #DIV/0! | G15: =AVERAGEIF(Report_from_Debbie!$A16:$A172,$D15,Report_from_Debbie!F16:F172) -> #DIV/0! | H15: =AVERAGEIF(Report_from_Debbie!$A16:$A172,$D15,Report_from_Debbie!G16:G172) -> #DIV/0! | I15: =IF(F15<5,0,IF(F15<9,3,IF(F15<13,6,IF(F15<17,9,IF(F15<21,12,IF(F15>=21,15,99)))))) -> #DIV/0! | J15: =IF(G15=0,0,IF(G15<2,5,IF(G15<4,10,IF(G15<6,15,IF(G15<8,20,IF(G15>=8,25,99)))))) -> #DIV/0! | K15: =IF(H15=0,0,IF(H15<2,10,IF(H15<3,20,IF(H15<4,30,IF(H15<5,40,IF(H15>=5,50,99)))))) -> #DIV/0! | L15: =SUM(I15:K15) -> #DIV/0! | N15: {=INDEX($B$3:$B$154, MATCH(0, COUNTIF($N$2:N14,$B$3:B$154), 0))} -> #N/A | O15: =AVERAGEIF(Report_from_Debbie!$B16:$B172,$N15,Report_from_Debbie!E16:E172) -> #DIV/0! | P15: =AVERAGEIF(Report_from_Debbie!$B16:$B172,$N15,Report_from_Debbie!F16:F172) -> #DIV/0! | Q15: =AVERAGEIF(Report_from_Debbie!$B16:$B172,$N15,Report_from_Debbie!G16:G172) -> #DIV/0! | R15: =IF(O15<5,0,IF(O15<9,3,IF(O15<13,6,IF(O15<17,9,IF(O15<21,12,IF(O15>=21,15,99)))))) -> #DIV/0! | S15: =IF(P15=0,0,IF(P15<2,5,IF(P15<4,10,IF(P15<6,15,IF(P15<8,20,IF(P15>=8,25,99)))))) -> #DIV/0! | T15: =IF(Q15=0,0,IF(Q15<2,10,IF(Q15<3,20,IF(Q15<4,30,IF(Q15<5,40,IF(Q15>=5,50,99)))))) -> #DIV/0! | U15: =SUM(R15:T15) -> #DIV/0! | V15: =IF(U15<10,"F",IF(AND(U15<19,U15>10),"E",IF(AND(U15<=29,U15>20),"D",IF(AND(U15<=49,U15>30),"C",IF(AND(U15<=69,U15>50),"B",IF(U15>=70,"A",99)))))) -> #DIV/0! | X15: =VLOOKUP(N15,Master_Average_Stream_Grade!A:J,9,FALSE) -> #N/A | Y15: =VLOOKUP(N15,Master_Average_Stream_Grade!A:I,8,FALSE) -> #N/A
A16: =Report_from_Debbie!A17 -> - | B16: =Report_from_Debbie!B17 -> 0 | D16: {=INDEX($A$3:$A$154, MATCH(0, COUNTIF($D$2:D15,$A$3:A$154), 0))} -> #N/A | E16: =IF(L16<10,"F",IF(AND(L16<19,L16>10),"E",IF(AND(L16<=29,L16>20),"D",IF(AND(L16<=49,L16>30),"C",IF(AND(L16<=69,L16>50),"B",IF(L16>=70,"A",99)))))) -> #DIV/0! | F16: =AVERAGEIF(Report_from_Debbie!$A17:$A173,$D16,Report_from_Debbie!E17:E173) -> #DIV/0! | G16: =AVERAGEIF(Report_from_Debbie!$A17:$A173,$D16,Report_from_Debbie!F17:F173) -> #DIV/0! | H16: =AVERAGEIF(Report_from_Debbie!$A17:$A173,$D16,Report_from_Debbie!G17:G173) -> #DIV/0! | I16: =IF(F16<5,0,IF(F16<9,3,IF(F16<13,6,IF(F16<17,9,IF(F16<21,12,IF(F16>=21,15,99)))))) -> #DIV/0! | J16: =IF(G16=0,0,IF(G16<2,5,IF(G16<4,10,IF(G16<6,15,IF(G16<8,20,IF(G16>=8,25,99)))))) -> #DIV/0! | K16: =IF(H16=0,0,IF(H16<2,10,IF(H16<3,20,IF(H16<4,30,IF(H16<5,40,IF(H16>=5,50,99)))))) -> #DIV/0! | L16: =SUM(I16:K16) -> #DIV/0! | N16: {=INDEX($B$3:$B$154, MATCH(0, COUNTIF($N$2:N15,$B$3:B$154), 0))} -> #N/A | O16: =AVERAGEIF(Report_from_Debbie!$B17:$B173,$N16,Report_from_Debbie!E17:E173) -> #DIV/0! | P16: =AVERAGEIF(Report_from_Debbie!$B17:$B173,$N16,Report_from_Debbie!F17:F173) -> #DIV/0! | Q16: =AVERAGEIF(Report_from_Debbie!$B17:$B173,$N16,Report_from_Debbie!G17:G173) -> #DIV/0! | R16: =IF(O16<5,0,IF(O16<9,3,IF(O16<13,6,IF(O16<17,9,IF(O16<21,12,IF(O16>=21,15,99)))))) -> #DIV/0! | S16: =IF(P16=0,0,IF(P16<2,5,IF(P16<4,10,IF(P16<6,15,IF(P16<8,20,IF(P16>=8,25,99)))))) -> #DIV/0! | T16: =IF(Q16=0,0,IF(Q16<2,10,IF(Q16<3,20,IF(Q16<4,30,IF(Q16<5,40,IF(Q16>=5,50,99)))))) -> #DIV/0! | U16: =SUM(R16:T16) -> #DIV/0! | V16: =IF(U16<10,"F",IF(AND(U16<19,U16>10),"E",IF(AND(U16<=29,U16>20),"D",IF(AND(U16<=49,U16>30),"C",IF(AND(U16<=69,U16>50),"B",IF(U16>=70,"A",99)))))) -> #DIV/0! | X16: =VLOOKUP(N16,Master_Average_Stream_Grade!A:J,9,FALSE) -> #N/A | Y16: =VLOOKUP(N16,Master_Average_Stream_Grade!A:I,8,FALSE) -> #N/A
A17: =Report_from_Debbie!A18 -> - | B17: =Report_from_Debbie!B18 -> 0 | D17: {=INDEX($A$3:$A$154, MATCH(0, COUNTIF($D$2:D16,$A$3:A$154), 0))} -> #N/A | E17: =IF(L17<10,"F",IF(AND(L17<19,L17>10),"E",IF(AND(L17<=29,L17>20),"D",IF(AND(L17<=49,L17>30),"C",IF(AND(L17<=69,L17>50),"B",IF(L17>=70,"A",99)))))) -> #DIV/0! | F17: =AVERAGEIF(Report_from_Debbie!$A18:$A174,$D17,Report_from_Debbie!E18:E174) -> #DIV/0! | G17: =AVERAGEIF(Report_from_Debbie!$A18:$A174,$D17,Report_from_Debbie!F18:F174) -> #DIV/0! | H17: =AVERAGEIF(Report_from_Debbie!$A18:$A174,$D17,Report_from_Debbie!G18:G174) -> #DIV/0! | I17: =IF(F17<5,0,IF(F17<9,3,IF(F17<13,6,IF(F17<17,9,IF(F17<21,12,IF(F17>=21,15,99)))))) -> #DIV/0! | J17: =IF(G17=0,0,IF(G17<2,5,IF(G17<4,10,IF(G17<6,15,IF(G17<8,20,IF(G17>=8,25,99)))))) -> #DIV/0! | K17: =IF(H17=0,0,IF(H17<2,10,IF(H17<3,20,IF(H17<4,30,IF(H17<5,40,IF(H17>=5,50,99)))))) -> #DIV/0! | L17: =SUM(I17:K17) -> #DIV/0! | N17: {=INDEX($B$3:$B$154, MATCH(0, COUNTIF($N$2:N16,$B$3:B$154), 0))} -> #N/A | O17: =AVERAGEIF(Report_from_Debbie!$B18:$B174,$N17,Report_from_Debbie!E18:E174) -> #DIV/0! | P17: =AVERAGEIF(Report_from_Debbie!$B18:$B174,$N17,Report_from_Debbie!F18:F174) -> #DIV/0! | Q17: =AVERAGEIF(Report_from_Debbie!$B18:$B174,$N17,Report_from_Debbie!G18:G174) -> #DIV/0! | R17: =IF(O17<5,0,IF(O17<9,3,IF(O17<13,6,IF(O17<17,9,IF(O17<21,12,IF(O17>=21,15,99)))))) -> #DIV/0! | S17: =IF(P17=0,0,IF(P17<2,5,IF(P17<4,10,IF(P17<6,15,IF(P17<8,20,IF(P17>=8,25,99)))))) -> #DIV/0! | T17: =IF(Q17=0,0,IF(Q17<2,10,IF(Q17<3,20,IF(Q17<4,30,IF(Q17<5,40,IF(Q17>=5,50,99)))))) -> #DIV/0! | U17: =SUM(R17:T17) -> #DIV/0! | V17: =IF(U17<10,"F",IF(AND(U17<19,U17>10),"E",IF(AND(U17<=29,U17>20),"D",IF(AND(U17<=49,U17>30),"C",IF(AND(U17<=69,U17>50),"B",IF(U17>=70,"A",99)))))) -> #DIV/0! | X17: =VLOOKUP(N17,Master_Average_Stream_Grade!A:J,9,FALSE) -> #N/A | Y17: =VLOOKUP(N17,Master_Average_Stream_Grade!A:I,8,FALSE) -> #N/A
A18: =Report_from_Debbie!A19 -> - | B18: =Report_from_Debbie!B19 -> 0 | D18: {=INDEX($A$3:$A$154, MATCH(0, COUNTIF($D$2:D17,$A$3:A$154), 0))} -> #N/A | E18: =IF(L18<10,"F",IF(AND(L18<19,L18>10),"E",IF(AND(L18<=29,L18>20),"D",IF(AND(L18<=49,L18>30),"C",IF(AND(L18<=69,L18>50),"B",IF(L18>=70,"A",99)))))) -> #DIV/0! | F18: =AVERAGEIF(Report_from_Debbie!$A19:$A175,$D18,Report_from_Debbie!E19:E175) -> #DIV/0! | G18: =AVERAGEIF(Report_from_Debbie!$A19:$A175,$D18,Report_from_Debbie!F19:F175) -> #DIV/0! | H18: =AVERAGEIF(Report_from_Debbie!$A19:$A175,$D18,Report_from_Debbie!G19:G175) -> #DIV/0! | I18: =IF(F18<5,0,IF(F18<9,3,IF(F18<13,6,IF(F18<17,9,IF(F18<21,12,IF(F18>=21,15,99)))))) -> #DIV/0! | J18: =IF(G18=0,0,IF(G18<2,5,IF(G18<4,10,IF(G18<6,15,IF(G18<8,20,IF(G18>=8,25,99)))))) -> #DIV/0! | K18: =IF(H18=0,0,IF(H18<2,10,IF(H18<3,20,IF(H18<4,30,IF(H18<5,40,IF(H18>=5,50,99)))))) -> #DIV/0! | L18: =SUM(I18:K18) -> #DIV/0! | N18: {=INDEX($B$3:$B$154, MATCH(0, COUNTIF($N$2:N17,$B$3:B$154), 0))} -> #N/A | O18: =AVERAGEIF(Report_from_Debbie!$B19:$B175,$N18,Report_from_Debbie!E19:E175) -> #DIV/0! | P18: =AVERAGEIF(Report_from_Debbie!$B19:$B175,$N18,Report_from_Debbie!F19:F175) -> #DIV/0! | Q18: =AVERAGEIF(Report_from_Debbie!$B19:$B175,$N18,Report_from_Debbie!G19:G175) -> #DIV/0! | R18: =IF(O18<5,0,IF(O18<9,3,IF(O18<13,6,IF(O18<17,9,IF(O18<21,12,IF(O18>=21,15,99)))))) -> #DIV/0! | S18: =IF(P18=0,0,IF(P18<2,5,IF(P18<4,10,IF(P18<6,15,IF(P18<8,20,IF(P18>=8,25,99)))))) -> #DIV/0! | T18: =IF(Q18=0,0,IF(Q18<2,10,IF(Q18<3,20,IF(Q18<4,30,IF(Q18<5,40,IF(Q18>=5,50,99)))))) -> #DIV/0! | U18: =SUM(R18:T18) -> #DIV/0! | V18: =IF(U18<10,"F",IF(AND(U18<19,U18>10),"E",IF(AND(U18<=29,U18>20),"D",IF(AND(U18<=49,U18>30),"C",IF(AND(U18<=69,U18>50),"B",IF(U18>=70,"A",99)))))) -> #DIV/0! | X18: =VLOOKUP(N18,Master_Average_Stream_Grade!A:J,9,FALSE) -> #N/A | Y18: =VLOOKUP(N18,Master_Average_Stream_Grade!A:I,8,FALSE) -> #N/A
A19: =Report_from_Debbie!A20 -> - | B19: =Report_from_Debbie!B20 -> 0 | D19: {=INDEX($A$3:$A$154, MATCH(0, COUNTIF($D$2:D18,$A$3:A$154), 0))} -> #N/A | E19: =IF(L19<10,"F",IF(AND(L19<19,L19>10),"E",IF(AND(L19<=29,L19>20),"D",IF(AND(L19<=49,L19>30),"C",IF(AND(L19<=69,L19>50),"B",IF(L19>=70,"A",99)))))) -> #DIV/0! | F19: =AVERAGEIF(Report_from_Debbie!$A20:$A176,$D19,Report_from_Debbie!E20:E176) -> #DIV/0! | G19: =AVERAGEIF(Report_from_Debbie!$A20:$A176,$D19,Report_from_Debbie!F20:F176) -> #DIV/0! | H19: =AVERAGEIF(Report_from_Debbie!$A20:$A176,$D19,Report_from_Debbie!G20:G176) -> #DIV/0! | I19: =IF(F19<5,0,IF(F19<9,3,IF(F19<13,6,IF(F19<17,9,IF(F19<21,12,IF(F19>=21,15,99)))))) -> #DIV/0! | J19: =IF(G19=0,0,IF(G19<2,5,IF(G19<4,10,IF(G19<6,15,IF(G19<8,20,IF(G19>=8,25,99)))))) -> #DIV/0! | K19: =IF(H19=0,0,IF(H19<2,10,IF(H19<3,20,IF(H19<4,30,IF(H19<5,40,IF(H19>=5,50,99)))))) -> #DIV/0! | L19: =SUM(I19:K19) -> #DIV/0! | N19: {=INDEX($B$3:$B$154, MATCH(0, COUNTIF($N$2:N18,$B$3:B$154), 0))} -> #N/A | O19: =AVERAGEIF(Report_from_Debbie!$B20:$B176,$N19,Report_from_Debbie!E20:E176) -> #DIV/0! | P19: =AVERAGEIF(Report_from_Debbie!$B20:$B176,$N19,Report_from_Debbie!F20:F176) -> #DIV/0! | Q19: =AVERAGEIF(Report_from_Debbie!$B20:$B176,$N19,Report_from_Debbie!G20:G176) -> #DIV/0! | R19: =IF(O19<5,0,IF(O19<9,3,IF(O19<13,6,IF(O19<17,9,IF(O19<21,12,IF(O19>=21,15,99)))))) -> #DIV/0! | S19: =IF(P19=0,0,IF(P19<2,5,IF(P19<4,10,IF(P19<6,15,IF(P19<8,20,IF(P19>=8,25,99)))))) -> #DIV/0! | T19: =IF(Q19=0,0,IF(Q19<2,10,IF(Q19<3,20,IF(Q19<4,30,IF(Q19<5,40,IF(Q19>=5,50,99)))))) -> #DIV/0! | U19: =SUM(R19:T19) -> #DIV/0! | V19: =IF(U19<10,"F",IF(AND(U19<19,U19>10),"E",IF(AND(U19<=29,U19>20),"D",IF(AND(U19<=49,U19>30),"C",IF(AND(U19<=69,U19>50),"B",IF(U19>=70,"A",99)))))) -> #DIV/0! | X19: =VLOOKUP(N19,Master_Average_Stream_Grade!A:J,9,FALSE) -> #N/A | Y19: =VLOOKUP(N19,Master_Average_Stream_Grade!A:I,8,FALSE) -> #N/A
A20: =Report_from_Debbie!A21 -> - | B20: =Report_from_Debbie!B21 -> 0 | D20: {=INDEX($A$3:$A$154, MATCH(0, COUNTIF($D$2:D19,$A$3:A$154), 0))} -> #N/A | E20: =IF(L20<10,"F",IF(AND(L20<19,L20>10),"E",IF(AND(L20<=29,L20>20),"D",IF(AND(L20<=49,L20>30),"C",IF(AND(L20<=69,L20>50),"B",IF(L20>=70,"A",99)))))) -> #DIV/0! | F20: =AVERAGEIF(Report_from_Debbie!$A21:$A177,$D20,Report_from_Debbie!E21:E177) -> #DIV/0! | G20: =AVERAGEIF(Report_from_Debbie!$A21:$A177,$D20,Report_from_Debbie!F21:F177) -> #DIV/0! | H20: =AVERAGEIF(Report_from_Debbie!$A21:$A177,$D20,Report_from_Debbie!G21:G177) -> #DIV/0! | I20: =IF(F20<5,0,IF(F20<9,3,IF(F20<13,6,IF(F20<17,9,IF(F20<21,12,IF(F20>=21,15,99)))))) -> #DIV/0! | J20: =IF(G20=0,0,IF(G20<2,5,IF(G20<4,10,IF(G20<6,15,IF(G20<8,20,IF(G20>=8,25,99)))))) -> #DIV/0! | K20: =IF(H20=0,0,IF(H20<2,10,IF(H20<3,20,IF(H20<4,30,IF(H20<5,40,IF(H20>=5,50,99)))))) -> #DIV/0! | L20: =SUM(I20:K20) -> #DIV/0! | N20: {=INDEX($B$3:$B$154, MATCH(0, COUNTIF($N$2:N19,$B$3:B$154), 0))} -> #N/A | O20: =AVERAGEIF(Report_from_Debbie!$B21:$B177,$N20,Report_from_Debbie!E21:E177) -> #DIV/0! | P20: =AVERAGEIF(Report_from_Debbie!$B21:$B177,$N20,Report_from_Debbie!F21:F177) -> #DIV/0! | Q20: =AVERAGEIF(Report_from_Debbie!$B21:$B177,$N20,Report_from_Debbie!G21:G177) -> #DIV/0! | R20: =IF(O20<5,0,IF(O20<9,3,IF(O20<13,6,IF(O20<17,9,IF(O20<21,12,IF(O20>=21,15,99)))))) -> #DIV/0! | S20: =IF(P20=0,0,IF(P20<2,5,IF(P20<4,10,IF(P20<6,15,IF(P20<8,20,IF(P20>=8,25,99)))))) -> #DIV/0! | T20: =IF(Q20=0,0,IF(Q20<2,10,IF(Q20<3,20,IF(Q20<4,30,IF(Q20<5,40,IF(Q20>=5,50,99)))))) -> #DIV/0! | U20: =SUM(R20:T20) -> #DIV/0! | V20: =IF(U20<10,"F",IF(AND(U20<19,U20>10),"E",IF(AND(U20<=29,U20>20),"D",IF(AND(U20<=49,U20>30),"C",IF(AND(U20<=69,U20>50),"B",IF(U20>=70,"A",99)))))) -> #DIV/0! | X20: =VLOOKUP(N20,Master_Average_Stream_Grade!A:J,9,FALSE) -> #N/A | Y20: =VLOOKUP(N20,Master_Average_Stream_Grade!A:I,8,FALSE) -> #N/A
A21: =Report_from_Debbie!#REF! -> #REF! | B21: =Report_from_Debbie!#REF! -> #REF! | D21: {=INDEX($A$3:$A$154, MATCH(0, COUNTIF($D$2:D20,$A$3:A$154), 0))} -> #N/A | E21: =IF(L21<10,"F",IF(AND(L21<19,L21>10),"E",IF(AND(L21<=29,L21>20),"D",IF(AND(L21<=49,L21>30),"C",IF(AND(L21<=69,L21>50),"B",IF(L21>=70,"A",99)))))) -> #DIV/0! | F21: =AVERAGEIF(Report_from_Debbie!$A22:$A178,$D21,Report_from_Debbie!E22:E178) -> #DIV/0! | G21: =AVERAGEIF(Report_from_Debbie!$A22:$A178,$D21,Report_from_Debbie!F22:F178) -> #DIV/0! | H21: =AVERAGEIF(Report_from_Debbie!$A22:$A178,$D21,Report_from_Debbie!G22:G178) -> #DIV/0! | I21: =IF(F21<5,0,IF(F21<9,3,IF(F21<13,6,IF(F21<17,9,IF(F21<21,12,IF(F21>=21,15,99)))))) -> #DIV/0! | J21: =IF(G21=0,0,IF(G21<2,5,IF(G21<4,10,IF(G21<6,15,IF(G21<8,20,IF(G21>=8,25,99)))))) -> #DIV/0! | K21: =IF(H21=0,0,IF(H21<2,10,IF(H21<3,20,IF(H21<4,30,IF(H21<5,40,IF(H21>=5,50,99)))))) -> #DIV/0! | L21: =SUM(I21:K21) -> #DIV/0! | N21: {=INDEX($B$3:$B$154, MATCH(0, COUNTIF($N$2:N20,$B$3:B$154), 0))} -> #N/A | O21: =AVERAGEIF(Report_from_Debbie!$B22:$B178,$N21,Report_from_Debbie!E22:E178) -> #DIV/0! | P21: =AVERAGEIF(Report_from_Debbie!$B22:$B178,$N21,Report_from_Debbie!F22:F178) -> #DIV/0! | Q21: =AVERAGEIF(Report_from_Debbie!$B22:$B178,$N21,Report_from_Debbie!G22:G178) -> #DIV/0! | R21: =IF(O21<5,0,IF(O21<9,3,IF(O21<13,6,IF(O21<17,9,IF(O21<21,12,IF(O21>=21,15,99)))))) -> #DIV/0! | S21: =IF(P21=0,0,IF(P21<2,5,IF(P21<4,10,IF(P21<6,15,IF(P21<8,20,IF(P21>=8,25,99)))))) -> #DIV/0! | T21: =IF(Q21=0,0,IF(Q21<2,10,IF(Q21<3,20,IF(Q21<4,30,IF(Q21<5,40,IF(Q21>=5,50,99)))))) -> #DIV/0! | U21: =SUM(R21:T21) -> #DIV/0! | V21: =IF(U21<10,"F",IF(AND(U21<19,U21>10),"E",IF(AND(U21<=29,U21>20),"D",IF(AND(U21<=49,U21>30),"C",IF(AND(U21<=69,U21>50),"B",IF(U21>=70,"A",99)))))) -> #DIV/0! | X21: =VLOOKUP(N21,Master_Average_Stream_Grade!A:J,9,FALSE) -> #N/A | Y21: =VLOOKUP(N21,Master_Average_Stream_Grade!A:I,8,FALSE) -> #N/A
A22: =Report_from_Debbie!#REF! -> #REF! | B22: =Report_from_Debbie!#REF! -> #REF! | D22: {=INDEX($A$3:$A$154, MATCH(0, COUNTIF($D$2:D21,$A$3:A$154), 0))} -> #N/A | E22: =IF(L22<10,"F",IF(AND(L22<19,L22>10),"E",IF(AND(L22<=29,L22>20),"D",IF(AND(L22<=49,L22>30),"C",IF(AND(L22<=69,L22>50),"B",IF(L22>=70,"A",99)))))) -> #DIV/0! | F22: =AVERAGEIF(Report_from_Debbie!$A22:$A179,$D22,Report_from_Debbie!E22:E179) -> #DIV/0! | G22: =AVERAGEIF(Report_from_Debbie!$A22:$A179,$D22,Report_from_Debbie!F22:F179) -> #DIV/0! | H22: =AVERAGEIF(Report_from_Debbie!$A22:$A179,$D22,Report_from_Debbie!G22:G179) -> #DIV/0! | I22: =IF(F22<5,0,IF(F22<9,3,IF(F22<13,6,IF(F22<17,9,IF(F22<21,12,IF(F22>=21,15,99)))))) -> #DIV/0! | J22: =IF(G22=0,0,IF(G22<2,5,IF(G22<4,10,IF(G22<6,15,IF(G22<8,20,IF(G22>=8,25,99)))))) -> #DIV/0! | K22: =IF(H22=0,0,IF(H22<2,10,IF(H22<3,20,IF(H22<4,30,IF(H22<5,40,IF(H22>=5,50,99)))))) -> #DIV/0! | L22: =SUM(I22:K22) -> #DIV/0! | N22: {=INDEX($B$3:$B$154, MATCH(0, COUNTIF($N$2:N21,$B$3:B$154), 0))} -> #N/A | O22: =AVERAGEIF(Report_from_Debbie!$B22:$B179,$N22,Report_from_Debbie!E22:E179) -> #DIV/0! | P22: =AVERAGEIF(Report_from_Debbie!$B22:$B179,$N22,Report_from_Debbie!F22:F179) -> #DIV/0! | Q22: =AVERAGEIF(Report_from_Debbie!$B22:$B179,$N22,Report_from_Debbie!G22:G179) -> #DIV/0! | R22: =IF(O22<5,0,IF(O22<9,3,IF(O22<13,6,IF(O22<17,9,IF(O22<21,12,IF(O22>=21,15,99)))))) -> #DIV/0! | S22: =IF(P22=0,0,IF(P22<2,5,IF(P22<4,10,IF(P22<6,15,IF(P22<8,20,IF(P22>=8,25,99)))))) -> #DIV/0! | T22: =IF(Q22=0,0,IF(Q22<2,10,IF(Q22<3,20,IF(Q22<4,30,IF(Q22<5,40,IF(Q22>=5,50,99)))))) -> #DIV/0! | U22: =SUM(R22:T22) -> #DIV/0! | V22: =IF(U22<10,"F",IF(AND(U22<19,U22>10),"E",IF(AND(U22<=29,U22>20),"D",IF(AND(U22<=49,U22>30),"C",IF(AND(U22<=69,U22>50),"B",IF(U22>=70,"A",99)))))) -> #DIV/0!
A23: =Report_from_Debbie!A22 -> - | B23: =Report_from_Debbie!B22 -> 0 | D23: {=INDEX($A$3:$A$154, MATCH(0, COUNTIF($D$2:D22,$A$3:A$154), 0))} -> #N/A | E23: =IF(L23<10,"F",IF(AND(L23<19,L23>10),"E",IF(AND(L23<=29,L23>20),"D",IF(AND(L23<=49,L23>30),"C",IF(AND(L23<=69,L23>50),"B",IF(L23>=70,"A",99)))))) -> #DIV/0! | F23: =AVERAGEIF(Report_from_Debbie!$A22:$A180,$D23,Report_from_Debbie!E22:E180) -> #DIV/0! | G23: =AVERAGEIF(Report_from_Debbie!$A22:$A180,$D23,Report_from_Debbie!F22:F180) -> #DIV/0! | H23: =AVERAGEIF(Report_from_Debbie!$A22:$A180,$D23,Report_from_Debbie!G22:G180) -> #DIV/0! | I23: =IF(F23<5,0,IF(F23<9,3,IF(F23<13,6,IF(F23<17,9,IF(F23<21,12,IF(F23>=21,15,99)))))) -> #DIV/0! | J23: =IF(G23=0,0,IF(G23<2,5,IF(G23<4,10,IF(G23<6,15,IF(G23<8,20,IF(G23>=8,25,99)))))) -> #DIV/0! | K23: =IF(H23=0,0,IF(H23<2,10,IF(H23<3,20,IF(H23<4,30,IF(H23<5,40,IF(H23>=5,50,99)))))) -> #DIV/0! | L23: =SUM(I23:K23) -> #DIV/0! | N23: {=INDEX($B$3:$B$154, MATCH(0, COUNTIF($N$2:N22,$B$3:B$154), 0))} -> #N/A | O23: =AVERAGEIF(Report_from_Debbie!$B22:$B180,$N23,Report_from_Debbie!E22:E180) -> #DIV/0! | P23: =AVERAGEIF(Report_from_Debbie!$B22:$B180,$N23,Report_from_Debbie!F22:F180) -> #DIV/0! | Q23: =AVERAGEIF(Report_from_Debbie!$B22:$B180,$N23,Report_from_Debbie!G22:G180) -> #DIV/0! | R23: =IF(O23<5,0,IF(O23<9,3,IF(O23<13,6,IF(O23<17,9,IF(O23<21,12,IF(O23>=21,15,99)))))) -> #DIV/0! | S23: =IF(P23=0,0,IF(P23<2,5,IF(P23<4,10,IF(P23<6,15,IF(P23<8,20,IF(P23>=8,25,99)))))) -> #DIV/0! | T23: =IF(Q23=0,0,IF(Q23<2,10,IF(Q23<3,20,IF(Q23<4,30,IF(Q23<5,40,IF(Q23>=5,50,99)))))) -> #DIV/0! | U23: =SUM(R23:T23) -> #DIV/0! | V23: =IF(U23<10,"F",IF(AND(U23<19,U23>10),"E",IF(AND(U23<=29,U23>20),"D",IF(AND(U23<=49,U23>30),"C",IF(AND(U23<=69,U23>50),"B",IF(U23>=70,"A",99)))))) -> #DIV/0!
A24: =Report_from_Debbie!#REF! -> #REF! | B24: =Report_from_Debbie!#REF! -> #REF! | D24: {=INDEX($A$3:$A$154, MATCH(0, COUNTIF($D$2:D23,$A$3:A$154), 0))} -> #N/A | E24: =IF(L24<10,"F",IF(AND(L24<19,L24>10),"E",IF(AND(L24<=29,L24>20),"D",IF(AND(L24<=49,L24>30),"C",IF(AND(L24<=69,L24>50),"B",IF(L24>=70,"A",99)))))) -> #DIV/0! | F24: =AVERAGEIF(Report_from_Debbie!$A23:$A181,$D24,Report_from_Debbie!E23:E181) -> #DIV/0! | G24: =AVERAGEIF(Report_from_Debbie!$A23:$A181,$D24,Report_from_Debbie!F23:F181) -> #DIV/0! | H24: =AVERAGEIF(Report_from_Debbie!$A23:$A181,$D24,Report_from_Debbie!G23:G181) -> #DIV/0! | I24: =IF(F24<5,0,IF(F24<9,3,IF(F24<13,6,IF(F24<17,9,IF(F24<21,12,IF(F24>=21,15,99)))))) -> #DIV/0! | J24: =IF(G24=0,0,IF(G24<2,5,IF(G24<4,10,IF(G24<6,15,IF(G24<8,20,IF(G24>=8,25,99)))))) -> #DIV/0! | K24: =IF(H24=0,0,IF(H24<2,10,IF(H24<3,20,IF(H24<4,30,IF(H24<5,40,IF(H24>=5,50,99)))))) -> #DIV/0! | L24: =SUM(I24:K24) -> #DIV/0! | N24: {=INDEX($B$3:$B$154, MATCH(0, COUNTIF($N$2:N23,$B$3:B$154), 0))} -> #N/A | O24: =AVERAGEIF(Report_from_Debbie!$B23:$B181,$N24,Report_from_Debbie!E23:E181) -> #DIV/0! | P24: =AVERAGEIF(Report_from_Debbie!$B23:$B181,$N24,Report_from_Debbie!F23:F181) -> #DIV/0! | Q24: =AVERAGEIF(Report_from_Debbie!$B23:$B181,$N24,Report_from_Debbie!G23:G181) -> #DIV/0! | R24: =IF(O24<5,0,IF(O24<9,3,IF(O24<13,6,IF(O24<17,9,IF(O24<21,12,IF(O24>=21,15,99)))))) -> #DIV/0! | S24: =IF(P24=0,0,IF(P24<2,5,IF(P24<4,10,IF(P24<6,15,IF(P24<8,20,IF(P24>=8,25,99)))))) -> #DIV/0! | T24: =IF(Q24=0,0,IF(Q24<2,10,IF(Q24<3,20,IF(Q24<4,30,IF(Q24<5,40,IF(Q24>=5,50,99)))))) -> #DIV/0! | U24: =SUM(R24:T24) -> #DIV/0! | V24: =IF(U24<10,"F",IF(AND(U24<19,U24>10),"E",IF(AND(U24<=29,U24>20),"D",IF(AND(U24<=49,U24>30),"C",IF(AND(U24<=69,U24>50),"B",IF(U24>=70,"A",99)))))) -> #DIV/0!
A25: =Report_from_Debbie!A23 -> - | B25: =Report_from_Debbie!B23 -> 0 | D25: {=INDEX($A$3:$A$154, MATCH(0, COUNTIF($D$2:D24,$A$3:A$154), 0))} -> #N/A | E25: =IF(L25<10,"F",IF(AND(L25<19,L25>10),"E",IF(AND(L25<=29,L25>20),"D",IF(AND(L25<=49,L25>30),"C",IF(AND(L25<=69,L25>50),"B",IF(L25>=70,"A",99)))))) -> #DIV/0! | F25: =AVERAGEIF(Report_from_Debbie!$A23:$A182,$D25,Report_from_Debbie!E23:E182) -> #DIV/0! | G25: =AVERAGEIF(Report_from_Debbie!$A23:$A182,$D25,Report_from_Debbie!F23:F182) -> #DIV/0! | H25: =AVERAGEIF(Report_from_Debbie!$A23:$A182,$D25,Report_from_Debbie!G23:G182) -> #DIV/0! | I25: =IF(F25<5,0,IF(F25<9,3,IF(F25<13,6,IF(F25<17,9,IF(F25<21,12,IF(F25>=21,15,99)))))) -> #DIV/0! | J25: =IF(G25=0,0,IF(G25<2,5,IF(G25<4,10,IF(G25<6,15,IF(G25<8,20,IF(G25>=8,25,99)))))) -> #DIV/0! | K25: =IF(H25=0,0,IF(H25<2,10,IF(H25<3,20,IF(H25<4,30,IF(H25<5,40,IF(H25>=5,50,99)))))) -> #DIV/0! | L25: =SUM(I25:K25) -> #DIV/0! | N25: {=INDEX($B$3:$B$154, MATCH(0, COUNTIF($N$2:N24,$B$3:B$154), 0))} -> #N/A | O25: =AVERAGEIF(Report_from_Debbie!$B23:$B182,$N25,Report_from_Debbie!E23:E182) -> #DIV/0! | P25: =AVERAGEIF(Report_from_Debbie!$B23:$B182,$N25,Report_from_Debbie!F23:F182) -> #DIV/0! | Q25: =AVERAGEIF(Report_from_Debbie!$B23:$B182,$N25,Report_from_Debbie!G23:G182) -> #DIV/0! | R25: =IF(O25<5,0,IF(O25<9,3,IF(O25<13,6,IF(O25<17,9,IF(O25<21,12,IF(O25>=21,15,99)))))) -> #DIV/0! | S25: =IF(P25=0,0,IF(P25<2,5,IF(P25<4,10,IF(P25<6,15,IF(P25<8,20,IF(P25>=8,25,99)))))) -> #DIV/0! | T25: =IF(Q25=0,0,IF(Q25<2,10,IF(Q25<3,20,IF(Q25<4,30,IF(Q25<5,40,IF(Q25>=5,50,99)))))) -> #DIV/0! | U25: =SUM(R25:T25) -> #DIV/0! | V25: =IF(U25<10,"F",IF(AND(U25<19,U25>10),"E",IF(AND(U25<=29,U25>20),"D",IF(AND(U25<=49,U25>30),"C",IF(AND(U25<=69,U25>50),"B",IF(U25>=70,"A",99)))))) -> #DIV/0!
A26: =Report_from_Debbie!A24 -> - | B26: =Report_from_Debbie!B24 -> 0 | D26: {=INDEX($A$3:$A$154, MATCH(0, COUNTIF($D$2:D25,$A$3:A$154), 0))} -> #N/A | E26: =IF(L26<10,"F",IF(AND(L26<19,L26>10),"E",IF(AND(L26<=29,L26>20),"D",IF(AND(L26<=49,L26>30),"C",IF(AND(L26<=69,L26>50),"B",IF(L26>=70,"A",99)))))) -> #DIV/0! | F26: =AVERAGEIF(Report_from_Debbie!$A24:$A183,$D26,Report_from_Debbie!E24:E183) -> #DIV/0! | G26: =AVERAGEIF(Report_from_Debbie!$A24:$A183,$D26,Report_from_Debbie!F24:F183) -> #DIV/0! | H26: =AVERAGEIF(Report_from_Debbie!$A24:$A183,$D26,Report_from_Debbie!G24:G183) -> #DIV/0! | I26: =IF(F26<5,0,IF(F26<9,3,IF(F26<13,6,IF(F26<17,9,IF(F26<21,12,IF(F26>=21,15,99)))))) -> #DIV/0! | J26: =IF(G26=0,0,IF(G26<2,5,IF(G26<4,10,IF(G26<6,15,IF(G26<8,20,IF(G26>=8,25,99)))))) -> #DIV/0! | K26: =IF(H26=0,0,IF(H26<2,10,IF(H26<3,20,IF(H26<4,30,IF(H26<5,40,IF(H26>=5,50,99)))))) -> #DIV/0! | L26: =SUM(I26:K26) -> #DIV/0! | N26: {=INDEX($B$3:$B$154, MATCH(0, COUNTIF($N$2:N25,$B$3:B$154), 0))} -> #N/A | O26: =AVERAGEIF(Report_from_Debbie!$B24:$B183,$N26,Report_from_Debbie!E24:E183) -> #DIV/0! | P26: =AVERAGEIF(Report_from_Debbie!$B24:$B183,$N26,Report_from_Debbie!F24:F183) -> #DIV/0! | Q26: =AVERAGEIF(Report_from_Debbie!$B24:$B183,$N26,Report_from_Debbie!G24:G183) -> #DIV/0! | R26: =IF(O26<5,0,IF(O26<9,3,IF(O26<13,6,IF(O26<17,9,IF(O26<21,12,IF(O26>=21,15,99)))))) -> #DIV/0! | S26: =IF(P26=0,0,IF(P26<2,5,IF(P26<4,10,IF(P26<6,15,IF(P26<8,20,IF(P26>=8,25,99)))))) -> #DIV/0! | T26: =IF(Q26=0,0,IF(Q26<2,10,IF(Q26<3,20,IF(Q26<4,30,IF(Q26<5,40,IF(Q26>=5,50,99)))))) -> #DIV/0! | U26: =SUM(R26:T26) -> #DIV/0! | V26: =IF(U26<10,"F",IF(AND(U26<19,U26>10),"E",IF(AND(U26<=29,U26>20),"D",IF(AND(U26<=49,U26>30),"C",IF(AND(U26<=69,U26>50),"B",IF(U26>=70,"A",99)))))) -> #DIV/0!
A27: =Report_from_Debbie!A25 -> - | B27: =Report_from_Debbie!B25 -> 0 | D27: {=INDEX($A$3:$A$154, MATCH(0, COUNTIF($D$2:D26,$A$3:A$154), 0))} -> #N/A | E27: =IF(L27<10,"F",IF(AND(L27<19,L27>10),"E",IF(AND(L27<=29,L27>20),"D",IF(AND(L27<=49,L27>30),"C",IF(AND(L27<=69,L27>50),"B",IF(L27>=70,"A",99)))))) -> #DIV/0! | F27: =AVERAGEIF(Report_from_Debbie!$A25:$A184,$D27,Report_from_Debbie!E25:E184) -> #DIV/0! | G27: =AVERAGEIF(Report_from_Debbie!$A25:$A184,$D27,Report_from_Debbie!F25:F184) -> #DIV/0! | H27: =AVERAGEIF(Report_from_Debbie!$A25:$A184,$D27,Report_from_Debbie!G25:G184) -> #DIV/0! | I27: =IF(F27<5,0,IF(F27<9,3,IF(F27<13,6,IF(F27<17,9,IF(F27<21,12,IF(F27>=21,15,99)))))) -> #DIV/0! | J27: =IF(G27=0,0,IF(G27<2,5,IF(G27<4,10,IF(G27<6,15,IF(G27<8,20,IF(G27>=8,25,99)))))) -> #DIV/0! | K27: =IF(H27=0,0,IF(H27<2,10,IF(H27<3,20,IF(H27<4,30,IF(H27<5,40,IF(H27>=5,50,99)))))) -> #DIV/0! | L27: =SUM(I27:K27) -> #DIV/0! | N27: {=INDEX($B$3:$B$154, MATCH(0, COUNTIF($N$2:N26,$B$3:B$154), 0))} -> #N/A | O27: =AVERAGEIF(Report_from_Debbie!$B25:$B184,$N27,Report_from_Debbie!E25:E184) -> #DIV/0! | P27: =AVERAGEIF(Report_from_Debbie!$B25:$B184,$N27,Report_from_Debbie!F25:F184) -> #DIV/0! | Q27: =AVERAGEIF(Report_from_Debbie!$B25:$B184,$N27,Report_from_Debbie!G25:G184) -> #DIV/0! | R27: =IF(O27<5,0,IF(O27<9,3,IF(O27<13,6,IF(O27<17,9,IF(O27<21,12,IF(O27>=21,15,99)))))) -> #DIV/0! | S27: =IF(P27=0,0,IF(P27<2,5,IF(P27<4,10,IF(P27<6,15,IF(P27<8,20,IF(P27>=8,25,99)))))) -> #DIV/0! | T27: =IF(Q27=0,0,IF(Q27<2,10,IF(Q27<3,20,IF(Q27<4,30,IF(Q27<5,40,IF(Q27>=5,50,99)))))) -> #DIV/0! | U27: =SUM(R27:T27) -> #DIV/0! | V27: =IF(U27<10,"F",IF(AND(U27<19,U27>10),"E",IF(AND(U27<=29,U27>20),"D",IF(AND(U27<=49,U27>30),"C",IF(AND(U27<=69,U27>50),"B",IF(U27>=70,"A",99)))))) -> #DIV/0!
A28: =Report_from_Debbie!A26 -> - | B28: =Report_from_Debbie!B26 -> 0 | D28: {=INDEX($A$3:$A$154, MATCH(0, COUNTIF($D$2:D27,$A$3:A$154), 0))} -> #N/A | E28: =IF(L28<10,"F",IF(AND(L28<19,L28>10),"E",IF(AND(L28<=29,L28>20),"D",IF(AND(L28<=49,L28>30),"C",IF(AND(L28<=69,L28>50),"B",IF(L28>=70,"A",99)))))) -> #DIV/0! | F28: =AVERAGEIF(Report_from_Debbie!$A26:$A185,$D28,Report_from_Debbie!E26:E185) -> #DIV/0! | G28: =AVERAGEIF(Report_from_Debbie!$A26:$A185,$D28,Report_from_Debbie!F26:F185) -> #DIV/0! | H28: =AVERAGEIF(Report_from_Debbie!$A26:$A185,$D28,Report_from_Debbie!G26:G185) -> #DIV/0! | I28: =IF(F28<5,0,IF(F28<9,3,IF(F28<13,6,IF(F28<17,9,IF(F28<21,12,IF(F28>=21,15,99)))))) -> #DIV/0! | J28: =IF(G28=0,0,IF(G28<2,5,IF(G28<4,10,IF(G28<6,15,IF(G28<8,20,IF(G28>=8,25,99)))))) -> #DIV/0! | K28: =IF(H28=0,0,IF(H28<2,10,IF(H28<3,20,IF(H28<4,30,IF(H28<5,40,IF(H28>=5,50,99)))))) -> #DIV/0! | L28: =SUM(I28:K28) -> #DIV/0! | N28: {=INDEX($B$3:$B$154, MATCH(0, COUNTIF($N$2:N27,$B$3:B$154), 0))} -> #N/A | O28: =AVERAGEIF(Report_from_Debbie!$B26:$B185,$N28,Report_from_Debbie!E26:E185) -> #DIV/0! | P28: =AVERAGEIF(Report_from_Debbie!$B26:$B185,$N28,Report_from_Debbie!F26:F185) -> #DIV/0! | Q28: =AVERAGEIF(Report_from_Debbie!$B26:$B185,$N28,Report_from_Debbie!G26:G185) -> #DIV/0! | R28: =IF(O28<5,0,IF(O28<9,3,IF(O28<13,6,IF(O28<17,9,IF(O28<21,12,IF(O28>=21,15,99)))))) -> #DIV/0! | S28: =IF(P28=0,0,IF(P28<2,5,IF(P28<4,10,IF(P28<6,15,IF(P28<8,20,IF(P28>=8,25,99)))))) -> #DIV/0! | T28: =IF(Q28=0,0,IF(Q28<2,10,IF(Q28<3,20,IF(Q28<4,30,IF(Q28<5,40,IF(Q28>=5,50,99)))))) -> #DIV/0! | U28: =SUM(R28:T28) -> #DIV/0! | V28: =IF(U28<10,"F",IF(AND(U28<19,U28>10),"E",IF(AND(U28<=29,U28>20),"D",IF(AND(U28<=49,U28>30),"C",IF(AND(U28<=69,U28>50),"B",IF(U28>=70,"A",99)))))) -> #DIV/0!
A29: =Report_from_Debbie!A27 -> - | B29: =Report_from_Debbie!B27 -> 0 | D29: {=INDEX($A$3:$A$154, MATCH(0, COUNTIF($D$2:D28,$A$3:A$154), 0))} -> #N/A | E29: =IF(L29<10,"F",IF(AND(L29<19,L29>10),"E",IF(AND(L29<=29,L29>20),"D",IF(AND(L29<=49,L29>30),"C",IF(AND(L29<=69,L29>50),"B",IF(L29>=70,"A",99)))))) -> #DIV/0! | F29: =AVERAGEIF(Report_from_Debbie!$A27:$A186,$D29,Report_from_Debbie!E27:E186) -> #DIV/0! | G29: =AVERAGEIF(Report_from_Debbie!$A27:$A186,$D29,Report_from_Debbie!F27:F186) -> #DIV/0! | H29: =AVERAGEIF(Report_from_Debbie!$A27:$A186,$D29,Report_from_Debbie!G27:G186) -> #DIV/0! | I29: =IF(F29<5,0,IF(F29<9,3,IF(F29<13,6,IF(F29<17,9,IF(F29<21,12,IF(F29>=21,15,99)))))) -> #DIV/0! | J29: =IF(G29=0,0,IF(G29<2,5,IF(G29<4,10,IF(G29<6,15,IF(G29<8,20,IF(G29>=8,25,99)))))) -> #DIV/0! | K29: =IF(H29=0,0,IF(H29<2,10,IF(H29<3,20,IF(H29<4,30,IF(H29<5,40,IF(H29>=5,50,99)))))) -> #DIV/0! | L29: =SUM(I29:K29) -> #DIV/0! | N29: {=INDEX($B$3:$B$154, MATCH(0, COUNTIF($N$2:N28,$B$3:B$154), 0))} -> #N/A | O29: =AVERAGEIF(Report_from_Debbie!$B27:$B186,$N29,Report_from_Debbie!E27:E186) -> #DIV/0! | P29: =AVERAGEIF(Report_from_Debbie!$B27:$B186,$N29,Report_from_Debbie!F27:F186) -> #DIV/0! | Q29: =AVERAGEIF(Report_from_Debbie!$B27:$B186,$N29,Report_from_Debbie!G27:G186) -> #DIV/0! | R29: =IF(O29<5,0,IF(O29<9,3,IF(O29<13,6,IF(O29<17,9,IF(O29<21,12,IF(O29>=21,15,99)))))) -> #DIV/0! | S29: =IF(P29=0,0,IF(P29<2,5,IF(P29<4,10,IF(P29<6,15,IF(P29<8,20,IF(P29>=8,25,99)))))) -> #DIV/0! | T29: =IF(Q29=0,0,IF(Q29<2,10,IF(Q29<3,20,IF(Q29<4,30,IF(Q29<5,40,IF(Q29>=5,50,99)))))) -> #DIV/0! | U29: =SUM(R29:T29) -> #DIV/0! | V29: =IF(U29<10,"F",IF(AND(U29<19,U29>10),"E",IF(AND(U29<=29,U29>20),"D",IF(AND(U29<=49,U29>30),"C",IF(AND(U29<=69,U29>50),"B",IF(U29>=70,"A",99)))))) -> #DIV/0!
A30: =Report_from_Debbie!A28 -> - | B30: =Report_from_Debbie!B28 -> 0 | D30: {=INDEX($A$3:$A$154, MATCH(0, COUNTIF($D$2:D29,$A$3:A$154), 0))} -> #N/A | E30: =IF(L30<10,"F",IF(AND(L30<19,L30>10),"E",IF(AND(L30<=29,L30>20),"D",IF(AND(L30<=49,L30>30),"C",IF(AND(L30<=69,L30>50),"B",IF(L30>=70,"A",99)))))) -> #DIV/0! | F30: =AVERAGEIF(Report_from_Debbie!$A28:$A187,$D30,Report_from_Debbie!E28:E187) -> #DIV/0! | G30: =AVERAGEIF(Report_from_Debbie!$A28:$A187,$D30,Report_from_Debbie!F28:F187) -> #DIV/0! | H30: =AVERAGEIF(Report_from_Debbie!$A28:$A187,$D30,Report_from_Debbie!G28:G187) -> #DIV/0! | I30: =IF(F30<5,0,IF(F30<9,3,IF(F30<13,6,IF(F30<17,9,IF(F30<21,12,IF(F30>=21,15,99)))))) -> #DIV/0! | J30: =IF(G30=0,0,IF(G30<2,5,IF(G30<4,10,IF(G30<6,15,IF(G30<8,20,IF(G30>=8,25,99)))))) -> #DIV/0! | K30: =IF(H30=0,0,IF(H30<2,10,IF(H30<3,20,IF(H30<4,30,IF(H30<5,40,IF(H30>=5,50,99)))))) -> #DIV/0! | L30: =SUM(I30:K30) -> #DIV/0! | N30: {=INDEX($B$3:$B$154, MATCH(0, COUNTIF($N$2:N29,$B$3:B$154), 0))} -> #N/A | O30: =AVERAGEIF(Report_from_Debbie!$B28:$B187,$N30,Report_from_Debbie!E28:E187) -> #DIV/0! | P30: =AVERAGEIF(Report_from_Debbie!$B28:$B187,$N30,Report_from_Debbie!F28:F187) -> #DIV/0! | Q30: =AVERAGEIF(Report_from_Debbie!$B28:$B187,$N30,Report_from_Debbie!G28:G187) -> #DIV/0! | R30: =IF(O30<5,0,IF(O30<9,3,IF(O30<13,6,IF(O30<17,9,IF(O30<21,12,IF(O30>=21,15,99)))))) -> #DIV/0! | S30: =IF(P30=0,0,IF(P30<2,5,IF(P30<4,10,IF(P30<6,15,IF(P30<8,20,IF(P30>=8,25,99)))))) -> #DIV/0! | T30: =IF(Q30=0,0,IF(Q30<2,10,IF(Q30<3,20,IF(Q30<4,30,IF(Q30<5,40,IF(Q30>=5,50,99)))))) -> #DIV/0! | U30: =SUM(R30:T30) -> #DIV/0! | V30: =IF(U30<10,"F",IF(AND(U30<19,U30>10),"E",IF(AND(U30<=29,U30>20),"D",IF(AND(U30<=49,U30>30),"C",IF(AND(U30<=69,U30>50),"B",IF(U30>=70,"A",99)))))) -> #DIV/0!
A31: =Report_from_Debbie!A29 -> - | B31: =Report_from_Debbie!B29 -> 0 | D31: {=INDEX($A$3:$A$154, MATCH(0, COUNTIF($D$2:D30,$A$3:A$154), 0))} -> #N/A | E31: =IF(L31<10,"F",IF(AND(L31<19,L31>10),"E",IF(AND(L31<=29,L31>20),"D",IF(AND(L31<=49,L31>30),"C",IF(AND(L31<=69,L31>50),"B",IF(L31>=70,"A",99)))))) -> #DIV/0! | F31: =AVERAGEIF(Report_from_Debbie!$A29:$A188,$D31,Report_from_Debbie!E29:E188) -> #DIV/0! | G31: =AVERAGEIF(Report_from_Debbie!$A29:$A188,$D31,Report_from_Debbie!F29:F188) -> #DIV/0! | H31: =AVERAGEIF(Report_from_Debbie!$A29:$A188,$D31,Report_from_Debbie!G29:G188) -> #DIV/0! | I31: =IF(F31<5,0,IF(F31<9,3,IF(F31<13,6,IF(F31<17,9,IF(F31<21,12,IF(F31>=21,15,99)))))) -> #DIV/0! | J31: =IF(G31=0,0,IF(G31<2,5,IF(G31<4,10,IF(G31<6,15,IF(G31<8,20,IF(G31>=8,25,99)))))) -> #DIV/0! | K31: =IF(H31=0,0,IF(H31<2,10,IF(H31<3,20,IF(H31<4,30,IF(H31<5,40,IF(H31>=5,50,99)))))) -> #DIV/0! | L31: =SUM(I31:K31) -> #DIV/0! | N31: {=INDEX($B$3:$B$154, MATCH(0, COUNTIF($N$2:N30,$B$3:B$154), 0))} -> #N/A | O31: =AVERAGEIF(Report_from_Debbie!$B29:$B188,$N31,Report_from_Debbie!E29:E188) -> #DIV/0! | P31: =AVERAGEIF(Report_from_Debbie!$B29:$B188,$N31,Report_from_Debbie!F29:F188) -> #DIV/0! | Q31: =AVERAGEIF(Report_from_Debbie!$B29:$B188,$N31,Report_from_Debbie!G29:G188) -> #DIV/0! | R31: =IF(O31<5,0,IF(O31<9,3,IF(O31<13,6,IF(O31<17,9,IF(O31<21,12,IF(O31>=21,15,99)))))) -> #DIV/0! | S31: =IF(P31=0,0,IF(P31<2,5,IF(P31<4,10,IF(P31<6,15,IF(P31<8,20,IF(P31>=8,25,99)))))) -> #DIV/0! | T31: =IF(Q31=0,0,IF(Q31<2,10,IF(Q31<3,20,IF(Q31<4,30,IF(Q31<5,40,IF(Q31>=5,50,99)))))) -> #DIV/0! | U31: =SUM(R31:T31) -> #DIV/0! | V31: =IF(U31<10,"F",IF(AND(U31<19,U31>10),"E",IF(AND(U31<=29,U31>20),"D",IF(AND(U31<=49,U31>30),"C",IF(AND(U31<=69,U31>50),"B",IF(U31>=70,"A",99)))))) -> #DIV/0!
A32: =Report_from_Debbie!A30 -> - | B32: =Report_from_Debbie!B30 -> 0 | D32: {=INDEX($A$3:$A$154, MATCH(0, COUNTIF($D$2:D31,$A$3:A$154), 0))} -> #N/A | E32: =IF(L32<10,"F",IF(AND(L32<19,L32>10),"E",IF(AND(L32<=29,L32>20),"D",IF(AND(L32<=49,L32>30),"C",IF(AND(L32<=69,L32>50),"B",IF(L32>=70,"A",99)))))) -> #DIV/0! | F32: =AVERAGEIF(Report_from_Debbie!$A30:$A189,$D32,Report_from_Debbie!E30:E189) -> #DIV/0! | G32: =AVERAGEIF(Report_from_Debbie!$A30:$A189,$D32,Report_from_Debbie!F30:F189) -> #DIV/0! | H32: =AVERAGEIF(Report_from_Debbie!$A30:$A189,$D32,Report_from_Debbie!G30:G189) -> #DIV/0! | I32: =IF(F32<5,0,IF(F32<9,3,IF(F32<13,6,IF(F32<17,9,IF(F32<21,12,IF(F32>=21,15,99)))))) -> #DIV/0! | J32: =IF(G32=0,0,IF(G32<2,5,IF(G32<4,10,IF(G32<6,15,IF(G32<8,20,IF(G32>=8,25,99)))))) -> #DIV/0! | K32: =IF(H32=0,0,IF(H32<2,10,IF(H32<3,20,IF(H32<4,30,IF(H32<5,40,IF(H32>=5,50,99)))))) -> #DIV/0! | L32: =SUM(I32:K32) -> #DIV/0! | N32: {=INDEX($B$3:$B$154, MATCH(0, COUNTIF($N$2:N31,$B$3:B$154), 0))} -> #N/A | O32: =AVERAGEIF(Report_from_Debbie!$B30:$B189,$N32,Report_from_Debbie!E30:E189) -> #DIV/0! | P32: =AVERAGEIF(Report_from_Debbie!$B30:$B189,$N32,Report_from_Debbie!F30:F189) -> #DIV/0! | Q32: =AVERAGEIF(Report_from_Debbie!$B30:$B189,$N32,Report_from_Debbie!G30:G189) -> #DIV/0! | R32: =IF(O32<5,0,IF(O32<9,3,IF(O32<13,6,IF(O32<17,9,IF(O32<21,12,IF(O32>=21,15,99)))))) -> #DIV/0! | S32: =IF(P32=0,0,IF(P32<2,5,IF(P32<4,10,IF(P32<6,15,IF(P32<8,20,IF(P32>=8,25,99)))))) -> #DIV/0! | T32: =IF(Q32=0,0,IF(Q32<2,10,IF(Q32<3,20,IF(Q32<4,30,IF(Q32<5,40,IF(Q32>=5,50,99)))))) -> #DIV/0! | U32: =SUM(R32:T32) -> #DIV/0! | V32: =IF(U32<10,"F",IF(AND(U32<19,U32>10),"E",IF(AND(U32<=29,U32>20),"D",IF(AND(U32<=49,U32>30),"C",IF(AND(U32<=69,U32>50),"B",IF(U32>=70,"A",99)))))) -> #DIV/0!
A33: =Report_from_Debbie!A31 -> - | B33: =Report_from_Debbie!B31 -> 0 | D33: {=INDEX($A$3:$A$154, MATCH(0, COUNTIF($D$2:D32,$A$3:A$154), 0))} -> #N/A | E33: =IF(L33<10,"F",IF(AND(L33<19,L33>10),"E",IF(AND(L33<=29,L33>20),"D",IF(AND(L33<=49,L33>30),"C",IF(AND(L33<=69,L33>50),"B",IF(L33>=70,"A",99)))))) -> #DIV/0! | F33: =AVERAGEIF(Report_from_Debbie!$A31:$A190,$D33,Report_from_Debbie!E31:E190) -> #DIV/0! | G33: =AVERAGEIF(Report_from_Debbie!$A31:$A190,$D33,Report_from_Debbie!F31:F190) -> #DIV/0! | H33: =AVERAGEIF(Report_from_Debbie!$A31:$A190,$D33,Report_from_Debbie!G31:G190) -> #DIV/0! | I33: =IF(F33<5,0,IF(F33<9,3,IF(F33<13,6,IF(F33<17,9,IF(F33<21,12,IF(F33>=21,15,99)))))) -> #DIV/0! | J33: =IF(G33=0,0,IF(G33<2,5,IF(G33<4,10,IF(G33<6,15,IF(G33<8,20,IF(G33>=8,25,99)))))) -> #DIV/0! | K33: =IF(H33=0,0,IF(H33<2,10,IF(H33<3,20,IF(H33<4,30,IF(H33<5,40,IF(H33>=5,50,99)))))) -> #DIV/0! | L33: =SUM(I33:K33) -> #DIV/0! | N33: {=INDEX($B$3:$B$154, MATCH(0, COUNTIF($N$2:N32,$B$3:B$154), 0))} -> #N/A | O33: =AVERAGEIF(Report_from_Debbie!$B31:$B190,$N33,Report_from_Debbie!E31:E190) -> #DIV/0! | P33: =AVERAGEIF(Report_from_Debbie!$B31:$B190,$N33,Report_from_Debbie!F31:F190) -> #DIV/0! | Q33: =AVERAGEIF(Report_from_Debbie!$B31:$B190,$N33,Report_from_Debbie!G31:G190) -> #DIV/0! | R33: =IF(O33<5,0,IF(O33<9,3,IF(O33<13,6,IF(O33<17,9,IF(O33<21,12,IF(O33>=21,15,99)))))) -> #DIV/0! | S33: =IF(P33=0,0,IF(P33<2,5,IF(P33<4,10,IF(P33<6,15,IF(P33<8,20,IF(P33>=8,25,99)))))) -> #DIV/0! | T33: =IF(Q33=0,0,IF(Q33<2,10,IF(Q33<3,20,IF(Q33<4,30,IF(Q33<5,40,IF(Q33>=5,50,99)))))) -> #DIV/0! | U33: =SUM(R33:T33) -> #DIV/0! | V33: =IF(U33<10,"F",IF(AND(U33<19,U33>10),"E",IF(AND(U33<=29,U33>20),"D",IF(AND(U33<=49,U33>30),"C",IF(AND(U33<=69,U33>50),"B",IF(U33>=70,"A",99)))))) -> #DIV/0!
A34: =Report_from_Debbie!A32 -> - | B34: =Report_from_Debbie!B32 -> 0 | D34: {=INDEX($A$3:$A$154, MATCH(0, COUNTIF($D$2:D33,$A$3:A$154), 0))} -> #N/A | E34: =IF(L34<10,"F",IF(AND(L34<19,L34>10),"E",IF(AND(L34<=29,L34>20),"D",IF(AND(L34<=49,L34>30),"C",IF(AND(L34<=69,L34>50),"B",IF(L34>=70,"A",99)))))) -> #DIV/0! | F34: =AVERAGEIF(Report_from_Debbie!$A32:$A191,$D34,Report_from_Debbie!E32:E191) -> #DIV/0! | G34: =AVERAGEIF(Report_from_Debbie!$A32:$A191,$D34,Report_from_Debbie!F32:F191) -> #DIV/0! | H34: =AVERAGEIF(Report_from_Debbie!$A32:$A191,$D34,Report_from_Debbie!G32:G191) -> #DIV/0! | I34: =IF(F34<5,0,IF(F34<9,3,IF(F34<13,6,IF(F34<17,9,IF(F34<21,12,IF(F34>=21,15,99)))))) -> #DIV/0! | J34: =IF(G34=0,0,IF(G34<2,5,IF(G34<4,10,IF(G34<6,15,IF(G34<8,20,IF(G34>=8,25,99)))))) -> #DIV/0! | K34: =IF(H34=0,0,IF(H34<2,10,IF(H34<3,20,IF(H34<4,30,IF(H34<5,40,IF(H34>=5,50,99)))))) -> #DIV/0! | L34: =SUM(I34:K34) -> #DIV/0! | N34: {=INDEX($B$3:$B$154, MATCH(0, COUNTIF($N$2:N33,$B$3:B$154), 0))} -> #N/A | O34: =AVERAGEIF(Report_from_Debbie!$B32:$B191,$N34,Report_from_Debbie!E32:E191) -> #DIV/0! | P34: =AVERAGEIF(Report_from_Debbie!$B32:$B191,$N34,Report_from_Debbie!F32:F191) -> #DIV/0! | Q34: =AVERAGEIF(Report_from_Debbie!$B32:$B191,$N34,Report_from_Debbie!G32:G191) -> #DIV/0! | R34: =IF(O34<5,0,IF(O34<9,3,IF(O34<13,6,IF(O34<17,9,IF(O34<21,12,IF(O34>=21,15,99)))))) -> #DIV/0! | S34: =IF(P34=0,0,IF(P34<2,5,IF(P34<4,10,IF(P34<6,15,IF(P34<8,20,IF(P34>=8,25,99)))))) -> #DIV/0! | T34: =IF(Q34=0,0,IF(Q34<2,10,IF(Q34<3,20,IF(Q34<4,30,IF(Q34<5,40,IF(Q34>=5,50,99)))))) -> #DIV/0! | U34: =SUM(R34:T34) -> #DIV/0! | V34: =IF(U34<10,"F",IF(AND(U34<19,U34>10),"E",IF(AND(U34<=29,U34>20),"D",IF(AND(U34<=49,U34>30),"C",IF(AND(U34<=69,U34>50),"B",IF(U34>=70,"A",99)))))) -> #DIV/0!
A35: =Report_from_Debbie!A33 -> - | B35: =Report_from_Debbie!B33 -> 0 | D35: {=INDEX($A$3:$A$154, MATCH(0, COUNTIF($D$2:D34,$A$3:A$154), 0))} -> #N/A | E35: =IF(L35<10,"F",IF(AND(L35<19,L35>10),"E",IF(AND(L35<=29,L35>20),"D",IF(AND(L35<=49,L35>30),"C",IF(AND(L35<=69,L35>50),"B",IF(L35>=70,"A",99)))))) -> #DIV/0! | F35: =AVERAGEIF(Report_from_Debbie!$A33:$A192,$D35,Report_from_Debbie!E33:E192) -> #DIV/0! | G35: =AVERAGEIF(Report_from_Debbie!$A33:$A192,$D35,Report_from_Debbie!F33:F192) -> #DIV/0! | H35: =AVERAGEIF(Report_from_Debbie!$A33:$A192,$D35,Report_from_Debbie!G33:G192) -> #DIV/0! | I35: =IF(F35<5,0,IF(F35<9,3,IF(F35<13,6,IF(F35<17,9,IF(F35<21,12,IF(F35>=21,15,99)))))) -> #DIV/0! | J35: =IF(G35=0,0,IF(G35<2,5,IF(G35<4,10,IF(G35<6,15,IF(G35<8,20,IF(G35>=8,25,99)))))) -> #DIV/0! | K35: =IF(H35=0,0,IF(H35<2,10,IF(H35<3,20,IF(H35<4,30,IF(H35<5,40,IF(H35>=5,50,99)))))) -> #DIV/0! | L35: =SUM(I35:K35) -> #DIV/0! | N35: {=INDEX($B$3:$B$154, MATCH(0, COUNTIF($N$2:N34,$B$3:B$154), 0))} -> #N/A | O35: =AVERAGEIF(Report_from_Debbie!$B33:$B192,$N35,Report_from_Debbie!E33:E192) -> #DIV/0! | P35: =AVERAGEIF(Report_from_Debbie!$B33:$B192,$N35,Report_from_Debbie!F33:F192) -> #DIV/0! | Q35: =AVERAGEIF(Report_from_Debbie!$B33:$B192,$N35,Report_from_Debbie!G33:G192) -> #DIV/0! | R35: =IF(O35<5,0,IF(O35<9,3,IF(O35<13,6,IF(O35<17,9,IF(O35<21,12,IF(O35>=21,15,99)))))) -> #DIV/0! | S35: =IF(P35=0,0,IF(P35<2,5,IF(P35<4,10,IF(P35<6,15,IF(P35<8,20,IF(P35>=8,25,99)))))) -> #DIV/0! | T35: =IF(Q35=0,0,IF(Q35<2,10,IF(Q35<3,20,IF(Q35<4,30,IF(Q35<5,40,IF(Q35>=5,50,99)))))) -> #DIV/0! | U35: =SUM(R35:T35) -> #DIV/0! | V35: =IF(U35<10,"F",IF(AND(U35<19,U35>10),"E",IF(AND(U35<=29,U35>20),"D",IF(AND(U35<=49,U35>30),"C",IF(AND(U35<=69,U35>50),"B",IF(U35>=70,"A",99)))))) -> #DIV/0!
A36: =Report_from_Debbie!A34 -> - | B36: =Report_from_Debbie!B34 -> 0 | D36: {=INDEX($A$3:$A$154, MATCH(0, COUNTIF($D$2:D35,$A$3:A$154), 0))} -> #N/A | E36: =IF(L36<10,"F",IF(AND(L36<19,L36>10),"E",IF(AND(L36<=29,L36>20),"D",IF(AND(L36<=49,L36>30),"C",IF(AND(L36<=69,L36>50),"B",IF(L36>=70,"A",99)))))) -> #DIV/0! | F36: =AVERAGEIF(Report_from_Debbie!$A34:$A193,$D36,Report_from_Debbie!E34:E193) -> #DIV/0! | G36: =AVERAGEIF(Report_from_Debbie!$A34:$A193,$D36,Report_from_Debbie!F34:F193) -> #DIV/0! | H36: =AVERAGEIF(Report_from_Debbie!$A34:$A193,$D36,Report_from_Debbie!G34:G193) -> #DIV/0! | I36: =IF(F36<5,0,IF(F36<9,3,IF(F36<13,6,IF(F36<17,9,IF(F36<21,12,IF(F36>=21,15,99)))))) -> #DIV/0! | J36: =IF(G36=0,0,IF(G36<2,5,IF(G36<4,10,IF(G36<6,15,IF(G36<8,20,IF(G36>=8,25,99)))))) -> #DIV/0! | K36: =IF(H36=0,0,IF(H36<2,10,IF(H36<3,20,IF(H36<4,30,IF(H36<5,40,IF(H36>=5,50,99)))))) -> #DIV/0! | L36: =SUM(I36:K36) -> #DIV/0! | N36: {=INDEX($B$3:$B$154, MATCH(0, COUNTIF($N$2:N35,$B$3:B$154), 0))} -> #N/A | O36: =AVERAGEIF(Report_from_Debbie!$B34:$B193,$N36,Report_from_Debbie!E34:E193) -> #DIV/0! | P36: =AVERAGEIF(Report_from_Debbie!$B34:$B193,$N36,Report_from_Debbie!F34:F193) -> #DIV/0! | Q36: =AVERAGEIF(Report_from_Debbie!$B34:$B193,$N36,Report_from_Debbie!G34:G193) -> #DIV/0! | R36: =IF(O36<5,0,IF(O36<9,3,IF(O36<13,6,IF(O36<17,9,IF(O36<21,12,IF(O36>=21,15,99)))))) -> #DIV/0! | S36: =IF(P36=0,0,IF(P36<2,5,IF(P36<4,10,IF(P36<6,15,IF(P36<8,20,IF(P36>=8,25,99)))))) -> #DIV/0! | T36: =IF(Q36=0,0,IF(Q36<2,10,IF(Q36<3,20,IF(Q36<4,30,IF(Q36<5,40,IF(Q36>=5,50,99)))))) -> #DIV/0! | U36: =SUM(R36:T36) -> #DIV/0! | V36: =IF(U36<10,"F",IF(AND(U36<19,U36>10),"E",IF(AND(U36<=29,U36>20),"D",IF(AND(U36<=49,U36>30),"C",IF(AND(U36<=69,U36>50),"B",IF(U36>=70,"A",99)))))) -> #DIV/0!
... A40: =Report_from_Debbie!A38 -> - | B40: =Report_from_Debbie!B38 -> 0 | D40: {=INDEX($A$3:$A$154, MATCH(0, COUNTIF($D$2:D39,$A$3:A$154), 0))} -> #N/A | E40: =IF(L40<10,"F",IF(AND(L40<19,L40>10),"E",IF(AND(L40<=29,L40>20),"D",IF(AND(L40<=49,L40>30),"C",IF(AND(L40<=69,L40>50),"B",IF(L40>=70,"A",99)))))) -> #DIV/0! | F40: =AVERAGEIF(Report_from_Debbie!$A38:$A197,$D40,Report_from_Debbie!E38:E197) -> #DIV/0! | G40: =AVERAGEIF(Report_from_Debbie!$A38:$A197,$D40,Report_from_Debbie!F38:F197) -> #DIV/0! | H40: =AVERAGEIF(Report_from_Debbie!$A38:$A197,$D40,Report_from_Debbie!G38:G197) -> #DIV/0! | I40: =IF(F40<5,0,IF(F40<9,3,IF(F40<13,6,IF(F40<17,9,IF(F40<21,12,IF(F40>=21,15,99)))))) -> #DIV/0! | J40: =IF(G40=0,0,IF(G40<2,5,IF(G40<4,10,IF(G40<6,15,IF(G40<8,20,IF(G40>=8,25,99)))))) -> #DIV/0! | K40: =IF(H40=0,0,IF(H40<2,10,IF(H40<3,20,IF(H40<4,30,IF(H40<5,40,IF(H40>=5,50,99)))))) -> #DIV/0! | L40: =SUM(I40:K40) -> #DIV/0! | N40: {=INDEX($B$3:$B$154, MATCH(0, COUNTIF($N$2:N39,$B$3:B$154), 0))} -> #N/A | O40: =AVERAGEIF(Report_from_Debbie!$B38:$B197,$N40,Report_from_Debbie!E38:E197) -> #DIV/0! | P40: =AVERAGEIF(Report_from_Debbie!$B38:$B197,$N40,Report_from_Debbie!F38:F197) -> #DIV/0! | Q40: =AVERAGEIF(Report_from_Debbie!$B38:$B197,$N40,Report_from_Debbie!G38:G197) -> #DIV/0! | R40: =IF(O40<5,0,IF(O40<9,3,IF(O40<13,6,IF(O40<17,9,IF(O40<21,12,IF(O40>=21,15,99)))))) -> #DIV/0! | S40: =IF(P40=0,0,IF(P40<2,5,IF(P40<4,10,IF(P40<6,15,IF(P40<8,20,IF(P40>=8,25,99)))))) -> #DIV/0! | T40: =IF(Q40=0,0,IF(Q40<2,10,IF(Q40<3,20,IF(Q40<4,30,IF(Q40<5,40,IF(Q40>=5,50,99)))))) -> #DIV/0! | U40: =SUM(R40:T40) -> #DIV/0! | V40: =IF(U40<10,"F",IF(AND(U40<19,U40>10),"E",IF(AND(U40<=29,U40>20),"D",IF(AND(U40<=49,U40>30),"C",IF(AND(U40<=69,U40>50),"B",IF(U40>=70,"A",99)))))) -> #DIV/0!
A41: =Report_from_Debbie!A39 -> - | B41: =Report_from_Debbie!B39 -> 0 | D41: {=INDEX($A$3:$A$154, MATCH(0, COUNTIF($D$2:D40,$A$3:A$154), 0))} -> #N/A | E41: =IF(L41<10,"F",IF(AND(L41<19,L41>10),"E",IF(AND(L41<=29,L41>20),"D",IF(AND(L41<=49,L41>30),"C",IF(AND(L41<=69,L41>50),"B",IF(L41>=70,"A",99)))))) -> F | F41: =AVERAGEIF(Report_from_Debbie!$A39:$A198,$D41,Report_from_Debbie!E39:E198) -> #DIV/0! | G41: =AVERAGEIF(Report_from_Debbie!$A39:$A198,$D41,Report_from_Debbie!F39:F198) -> #DIV/0! | H41: =AVERAGEIF(Report_from_Debbie!$A39:$A198,$D41,Report_from_Debbie!G39:G198) -> #DIV/0! | N41: {=INDEX($B$3:$B$154, MATCH(0, COUNTIF($N$2:N40,$B$3:B$154), 0))} -> #N/A | O41: =AVERAGEIF(Report_from_Debbie!$B39:$B198,$N41,Report_from_Debbie!E39:E198) -> #DIV/0! | P41: =AVERAGEIF(Report_from_Debbie!$B39:$B198,$N41,Report_from_Debbie!F39:F198) -> #DIV/0! | Q41: =AVERAGEIF(Report_from_Debbie!$B39:$B198,$N41,Report_from_Debbie!G39:G198) -> #DIV/0! | R41: =IF(O41<5,0,IF(O41<9,3,IF(O41<13,6,IF(O41<17,9,IF(O41<21,12,IF(O41>=21,15,99)))))) -> #DIV/0! | S41: =IF(P41=0,0,IF(P41<2,5,IF(P41<4,10,IF(P41<6,15,IF(P41<8,20,IF(P41>=8,25,99)))))) -> #DIV/0! | T41: =IF(Q41=0,0,IF(Q41<2,10,IF(Q41<3,20,IF(Q41<4,30,IF(Q41<5,40,IF(Q41>=5,50,99)))))) -> #DIV/0! | U41: =SUM(R41:T41) -> #DIV/0! | V41: =IF(U41<10,"F",IF(AND(U41<19,U41>10),"E",IF(AND(U41<=29,U41>20),"D",IF(AND(U41<=49,U41>30),"C",IF(AND(U41<=69,U41>50),"B",IF(U41>=70,"A",99)))))) -> #DIV/0!
A42: =Report_from_Debbie!A40 -> - | B42: =Report_from_Debbie!B40 -> 0 | D42: {=INDEX($A$3:$A$154, MATCH(0, COUNTIF($D$2:D41,$A$3:A$154), 0))} -> #N/A | F42: =AVERAGEIF(Report_from_Debbie!$A40:$A199,$D42,Report_from_Debbie!E40:E199) -> #DIV/0! | G42: =AVERAGEIF(Report_from_Debbie!$A40:$A199,$D42,Report_from_Debbie!F40:F199) -> #DIV/0! | H42: =AVERAGEIF(Report_from_Debbie!$A40:$A199,$D42,Report_from_Debbie!G40:G199) -> #DIV/0! | N42: {=INDEX($B$3:$B$154, MATCH(0, COUNTIF($N$2:N41,$B$3:B$154), 0))} -> #N/A | O42: =AVERAGEIF(Report_from_Debbie!$B40:$B199,$N42,Report_from_Debbie!E40:E199) -> #DIV/0! | P42: =AVERAGEIF(Report_from_Debbie!$B40:$B199,$N42,Report_from_Debbie!F40:F199) -> #DIV/0! | Q42: =AVERAGEIF(Report_from_Debbie!$B40:$B199,$N42,Report_from_Debbie!G40:G199) -> #DIV/0! | R42: =IF(O42<5,0,IF(O42<9,3,IF(O42<13,6,IF(O42<17,9,IF(O42<21,12,IF(O42>=21,15,99)))))) -> #DIV/0! | S42: =IF(P42=0,0,IF(P42<2,5,IF(P42<4,10,IF(P42<6,15,IF(P42<8,20,IF(P42>=8,25,99)))))) -> #DIV/0! | T42: =IF(Q42=0,0,IF(Q42<2,10,IF(Q42<3,20,IF(Q42<4,30,IF(Q42<5,40,IF(Q42>=5,50,99)))))) -> #DIV/0! | U42: =SUM(R42:T42) -> #DIV/0! | V42: =IF(U42<10,"F",IF(AND(U42<19,U42>10),"E",IF(AND(U42<=29,U42>20),"D",IF(AND(U42<=49,U42>30),"C",IF(AND(U42<=69,U42>50),"B",IF(U42>=70,"A",99)))))) -> #DIV/0!
A43: =Report_from_Debbie!A41 -> - | B43: =Report_from_Debbie!B41 -> 0 | D43: {=INDEX($A$3:$A$154, MATCH(0, COUNTIF($D$2:D42,$A$3:A$154), 0))} -> #N/A | F43: =AVERAGEIF(Report_from_Debbie!$A41:$A200,$D43,Report_from_Debbie!E41:E200) -> #DIV/0! | G43: =AVERAGEIF(Report_from_Debbie!$A41:$A200,$D43,Report_from_Debbie!F41:F200) -> #DIV/0! | H43: =AVERAGEIF(Report_from_Debbie!$A41:$A200,$D43,Report_from_Debbie!G41:G200) -> #DIV/0! | N43: {=INDEX($B$3:$B$154, MATCH(0, COUNTIF($N$2:N42,$B$3:B$154), 0))} -> #N/A | O43: =AVERAGEIF(Report_from_Debbie!$B41:$B200,$N43,Report_from_Debbie!E41:E200) -> #DIV/0! | P43: =AVERAGEIF(Report_from_Debbie!$B41:$B200,$N43,Report_from_Debbie!F41:F200) -> #DIV/0! | Q43: =AVERAGEIF(Report_from_Debbie!$B41:$B200,$N43,Report_from_Debbie!G41:G200) -> #DIV/0! | R43: =IF(O43<5,0,IF(O43<9,3,IF(O43<13,6,IF(O43<17,9,IF(O43<21,12,IF(O43>=21,15,99)))))) -> #DIV/0! | S43: =IF(P43=0,0,IF(P43<2,5,IF(P43<4,10,IF(P43<6,15,IF(P43<8,20,IF(P43>=8,25,99)))))) -> #DIV/0! | T43: =IF(Q43=0,0,IF(Q43<2,10,IF(Q43<3,20,IF(Q43<4,30,IF(Q43<5,40,IF(Q43>=5,50,99)))))) -> #DIV/0! | U43: =SUM(R43:T43) -> #DIV/0! | V43: =IF(U43<10,"F",IF(AND(U43<19,U43>10),"E",IF(AND(U43<=29,U43>20),"D",IF(AND(U43<=49,U43>30),"C",IF(AND(U43<=69,U43>50),"B",IF(U43>=70,"A",99)))))) -> #DIV/0!
A44: =Report_from_Debbie!A42 -> - | B44: =Report_from_Debbie!B42 -> 0 | D44: {=INDEX($A$3:$A$154, MATCH(0, COUNTIF($D$2:D43,$A$3:A$154), 0))} -> #N/A | F44: =AVERAGEIF(Report_from_Debbie!$A42:$A201,$D44,Report_from_Debbie!E42:E201) -> #DIV/0! | G44: =AVERAGEIF(Report_from_Debbie!$A42:$A201,$D44,Report_from_Debbie!F42:F201) -> #DIV/0! | H44: =AVERAGEIF(Report_from_Debbie!$A42:$A201,$D44,Report_from_Debbie!G42:G201) -> #DIV/0! | N44: {=INDEX($B$3:$B$154, MATCH(0, COUNTIF($N$2:N43,$B$3:B$154), 0))} -> #N/A | O44: =AVERAGEIF(Report_from_Debbie!$B42:$B201,$N44,Report_from_Debbie!E42:E201) -> #DIV/0! | P44: =AVERAGEIF(Report_from_Debbie!$B42:$B201,$N44,Report_from_Debbie!F42:F201) -> #DIV/0! | Q44: =AVERAGEIF(Report_from_Debbie!$B42:$B201,$N44,Report_from_Debbie!G42:G201) -> #DIV/0! | R44: =IF(O44<5,0,IF(O44<9,3,IF(O44<13,6,IF(O44<17,9,IF(O44<21,12,IF(O44>=21,15,99)))))) -> #DIV/0! | S44: =IF(P44=0,0,IF(P44<2,5,IF(P44<4,10,IF(P44<6,15,IF(P44<8,20,IF(P44>=8,25,99)))))) -> #DIV/0! | T44: =IF(Q44=0,0,IF(Q44<2,10,IF(Q44<3,20,IF(Q44<4,30,IF(Q44<5,40,IF(Q44>=5,50,99)))))) -> #DIV/0! | U44: =SUM(R44:T44) -> #DIV/0! | V44: =IF(U44<10,"F",IF(AND(U44<19,U44>10),"E",IF(AND(U44<=29,U44>20),"D",IF(AND(U44<=49,U44>30),"C",IF(AND(U44<=69,U44>50),"B",IF(U44>=70,"A",99)))))) -> #DIV/0!
A45: =Report_from_Debbie!A43 -> - | B45: =Report_from_Debbie!B43 -> 0 | D45: {=INDEX($A$3:$A$154, MATCH(0, COUNTIF($D$2:D44,$A$3:A$154), 0))} -> #N/A | F45: =AVERAGEIF(Report_from_Debbie!$A43:$A202,$D45,Report_from_Debbie!E43:E202) -> #DIV/0! | G45: =AVERAGEIF(Report_from_Debbie!$A43:$A202,$D45,Report_from_Debbie!F43:F202) -> #DIV/0! | H45: =AVERAGEIF(Report_from_Debbie!$A43:$A202,$D45,Report_from_Debbie!G43:G202) -> #DIV/0! | N45: {=INDEX($B$3:$B$154, MATCH(0, COUNTIF($N$2:N44,$B$3:B$154), 0))} -> #N/A | O45: =AVERAGEIF(Report_from_Debbie!$B43:$B202,$N45,Report_from_Debbie!E43:E202) -> #DIV/0! | P45: =AVERAGEIF(Report_from_Debbie!$B43:$B202,$N45,Report_from_Debbie!F43:F202) -> #DIV/0! | Q45: =AVERAGEIF(Report_from_Debbie!$B43:$B202,$N45,Report_from_Debbie!G43:G202) -> #DIV/0! | R45: =IF(O45<5,0,IF(O45<9,3,IF(O45<13,6,IF(O45<17,9,IF(O45<21,12,IF(O45>=21,15,99)))))) -> #DIV/0! | S45: =IF(P45=0,0,IF(P45<2,5,IF(P45<4,10,IF(P45<6,15,IF(P45<8,20,IF(P45>=8,25,99)))))) -> #DIV/0! | T45: =IF(Q45=0,0,IF(Q45<2,10,IF(Q45<3,20,IF(Q45<4,30,IF(Q45<5,40,IF(Q45>=5,50,99)))))) -> #DIV/0! | U45: =SUM(R45:T45) -> #DIV/0! | V45: =IF(U45<10,"F",IF(AND(U45<19,U45>10),"E",IF(AND(U45<=29,U45>20),"D",IF(AND(U45<=49,U45>30),"C",IF(AND(U45<=69,U45>50),"B",IF(U45>=70,"A",99)))))) -> #DIV/0!
A46: =Report_from_Debbie!A44 -> - | B46: =Report_from_Debbie!B44 -> 0 | D46: {=INDEX($A$3:$A$154, MATCH(0, COUNTIF($D$2:D45,$A$3:A$154), 0))} -> #N/A | F46: =AVERAGEIF(Report_from_Debbie!$A44:$A203,$D46,Report_from_Debbie!E44:E203) -> #DIV/0! | G46: =AVERAGEIF(Report_from_Debbie!$A44:$A203,$D46,Report_from_Debbie!F44:F203) -> #DIV/0! | H46: =AVERAGEIF(Report_from_Debbie!$A44:$A203,$D46,Report_from_Debbie!G44:G203) -> #DIV/0! | N46: {=INDEX($B$3:$B$154, MATCH(0, COUNTIF($N$2:N45,$B$3:B$154), 0))} -> #N/A | O46: =AVERAGEIF(Report_from_Debbie!$B44:$B203,$N46,Report_from_Debbie!E44:E203) -> #DIV/0! | P46: =AVERAGEIF(Report_from_Debbie!$B44:$B203,$N46,Report_from_Debbie!F44:F203) -> #DIV/0! | Q46: =AVERAGEIF(Report_from_Debbie!$B44:$B203,$N46,Report_from_Debbie!G44:G203) -> #DIV/0! | R46: =IF(O46<5,0,IF(O46<9,3,IF(O46<13,6,IF(O46<17,9,IF(O46<21,12,IF(O46>=21,15,99)))))) -> #DIV/0! | S46: =IF(P46=0,0,IF(P46<2,5,IF(P46<4,10,IF(P46<6,15,IF(P46<8,20,IF(P46>=8,25,99)))))) -> #DIV/0! | T46: =IF(Q46=0,0,IF(Q46<2,10,IF(Q46<3,20,IF(Q46<4,30,IF(Q46<5,40,IF(Q46>=5,50,99)))))) -> #DIV/0! | U46: =SUM(R46:T46) -> #DIV/0! | V46: =IF(U46<10,"F",IF(AND(U46<19,U46>10),"E",IF(AND(U46<=29,U46>20),"D",IF(AND(U46<=49,U46>30),"C",IF(AND(U46<=69,U46>50),"B",IF(U46>=70,"A",99)))))) -> #DIV/0!
A47: =Report_from_Debbie!A45 -> - | B47: =Report_from_Debbie!B45 -> 0 | D47: {=INDEX($A$3:$A$154, MATCH(0, COUNTIF($D$2:D46,$A$3:A$154), 0))} -> #N/A | F47: =AVERAGEIF(Report_from_Debbie!$A45:$A204,$D47,Report_from_Debbie!E45:E204) -> #DIV/0! | G47: =AVERAGEIF(Report_from_Debbie!$A45:$A204,$D47,Report_from_Debbie!F45:F204) -> #DIV/0! | H47: =AVERAGEIF(Report_from_Debbie!$A45:$A204,$D47,Report_from_Debbie!G45:G204) -> #DIV/0! | N47: {=INDEX($B$3:$B$154, MATCH(0, COUNTIF($N$2:N46,$B$3:B$154), 0))} -> #N/A | O47: =AVERAGEIF(Report_from_Debbie!$B45:$B204,$N47,Report_from_Debbie!E45:E204) -> #DIV/0! | P47: =AVERAGEIF(Report_from_Debbie!$B45:$B204,$N47,Report_from_Debbie!F45:F204) -> #DIV/0! | Q47: =AVERAGEIF(Report_from_Debbie!$B45:$B204,$N47,Report_from_Debbie!G45:G204) -> #DIV/0! | R47: =IF(O47<5,0,IF(O47<9,3,IF(O47<13,6,IF(O47<17,9,IF(O47<21,12,IF(O47>=21,15,99)))))) -> #DIV/0! | S47: =IF(P47=0,0,IF(P47<2,5,IF(P47<4,10,IF(P47<6,15,IF(P47<8,20,IF(P47>=8,25,99)))))) -> #DIV/0! | T47: =IF(Q47=0,0,IF(Q47<2,10,IF(Q47<3,20,IF(Q47<4,30,IF(Q47<5,40,IF(Q47>=5,50,99)))))) -> #DIV/0! | U47: =SUM(R47:T47) -> #DIV/0! | V47: =IF(U47<10,"F",IF(AND(U47<19,U47>10),"E",IF(AND(U47<=29,U47>20),"D",IF(AND(U47<=49,U47>30),"C",IF(AND(U47<=69,U47>50),"B",IF(U47>=70,"A",99)))))) -> #DIV/0!
A48: =Report_from_Debbie!A46 -> - | B48: =Report_from_Debbie!B46 -> 0 | D48: {=INDEX($A$3:$A$154, MATCH(0, COUNTIF($D$2:D47,$A$3:A$154), 0))} -> #N/A | F48: =AVERAGEIF(Report_from_Debbie!$A46:$A205,$D48,Report_from_Debbie!E46:E205) -> #DIV/0! | G48: =AVERAGEIF(Report_from_Debbie!$A46:$A205,$D48,Report_from_Debbie!F46:F205) -> #DIV/0! | H48: =AVERAGEIF(Report_from_Debbie!$A46:$A205,$D48,Report_from_Debbie!G46:G205) -> #DIV/0! | N48: {=INDEX($B$3:$B$154, MATCH(0, COUNTIF($N$2:N47,$B$3:B$154), 0))} -> #N/A | O48: =AVERAGEIF(Report_from_Debbie!$B46:$B205,$N48,Report_from_Debbie!E46:E205) -> #DIV/0! | P48: =AVERAGEIF(Report_from_Debbie!$B46:$B205,$N48,Report_from_Debbie!F46:F205) -> #DIV/0! | Q48: =AVERAGEIF(Report_from_Debbie!$B46:$B205,$N48,Report_from_Debbie!G46:G205) -> #DIV/0! | R48: =IF(O48<5,0,IF(O48<9,3,IF(O48<13,6,IF(O48<17,9,IF(O48<21,12,IF(O48>=21,15,99)))))) -> #DIV/0! | S48: =IF(P48=0,0,IF(P48<2,5,IF(P48<4,10,IF(P48<6,15,IF(P48<8,20,IF(P48>=8,25,99)))))) -> #DIV/0! | T48: =IF(Q48=0,0,IF(Q48<2,10,IF(Q48<3,20,IF(Q48<4,30,IF(Q48<5,40,IF(Q48>=5,50,99)))))) -> #DIV/0! | U48: =SUM(R48:T48) -> #DIV/0! | V48: =IF(U48<10,"F",IF(AND(U48<19,U48>10),"E",IF(AND(U48<=29,U48>20),"D",IF(AND(U48<=49,U48>30),"C",IF(AND(U48<=69,U48>50),"B",IF(U48>=70,"A",99)))))) -> #DIV/0!
A49: =Report_from_Debbie!A47 -> - | B49: =Report_from_Debbie!B47 -> 0 | D49: {=INDEX($A$3:$A$154, MATCH(0, COUNTIF($D$2:D48,$A$3:A$154), 0))} -> #N/A | F49: =AVERAGEIF(Report_from_Debbie!$A47:$A206,$D49,Report_from_Debbie!E47:E206) -> #DIV/0! | G49: =AVERAGEIF(Report_from_Debbie!$A47:$A206,$D49,Report_from_Debbie!F47:F206) -> #DIV/0! | H49: =AVERAGEIF(Report_from_Debbie!$A47:$A206,$D49,Report_from_Debbie!G47:G206) -> #DIV/0! | N49: {=INDEX($B$3:$B$154, MATCH(0, COUNTIF($N$2:N48,$B$3:B$154), 0))} -> #N/A | O49: =AVERAGEIF(Report_from_Debbie!$B47:$B206,$N49,Report_from_Debbie!E47:E206) -> #DIV/0! | P49: =AVERAGEIF(Report_from_Debbie!$B47:$B206,$N49,Report_from_Debbie!F47:F206) -> #DIV/0! | Q49: =AVERAGEIF(Report_from_Debbie!$B47:$B206,$N49,Report_from_Debbie!G47:G206) -> #DIV/0! | R49: =IF(O49<5,0,IF(O49<9,3,IF(O49<13,6,IF(O49<17,9,IF(O49<21,12,IF(O49>=21,15,99)))))) -> #DIV/0! | S49: =IF(P49=0,0,IF(P49<2,5,IF(P49<4,10,IF(P49<6,15,IF(P49<8,20,IF(P49>=8,25,99)))))) -> #DIV/0! | T49: =IF(Q49=0,0,IF(Q49<2,10,IF(Q49<3,20,IF(Q49<4,30,IF(Q49<5,40,IF(Q49>=5,50,99)))))) -> #DIV/0! | U49: =SUM(R49:T49) -> #DIV/0! | V49: =IF(U49<10,"F",IF(AND(U49<19,U49>10),"E",IF(AND(U49<=29,U49>20),"D",IF(AND(U49<=49,U49>30),"C",IF(AND(U49<=69,U49>50),"B",IF(U49>=70,"A",99)))))) -> #DIV/0!
A50: =Report_from_Debbie!A48 -> - | B50: =Report_from_Debbie!B48 -> 0 | D50: {=INDEX($A$3:$A$154, MATCH(0, COUNTIF($D$2:D49,$A$3:A$154), 0))} -> #N/A | F50: =AVERAGEIF(Report_from_Debbie!$A48:$A207,$D50,Report_from_Debbie!E48:E207) -> #DIV/0! | G50: =AVERAGEIF(Report_from_Debbie!$A48:$A207,$D50,Report_from_Debbie!F48:F207) -> #DIV/0! | H50: =AVERAGEIF(Report_from_Debbie!$A48:$A207,$D50,Report_from_Debbie!G48:G207) -> #DIV/0! | N50: {=INDEX($B$3:$B$154, MATCH(0, COUNTIF($N$2:N49,$B$3:B$154), 0))} -> #N/A | O50: =AVERAGEIF(Report_from_Debbie!$B48:$B207,$N50,Report_from_Debbie!E48:E207) -> #DIV/0! | P50: =AVERAGEIF(Report_from_Debbie!$B48:$B207,$N50,Report_from_Debbie!F48:F207) -> #DIV/0! | Q50: =AVERAGEIF(Report_from_Debbie!$B48:$B207,$N50,Report_from_Debbie!G48:G207) -> #DIV/0! | R50: =IF(O50<5,0,IF(O50<9,3,IF(O50<13,6,IF(O50<17,9,IF(O50<21,12,IF(O50>=21,15,99)))))) -> #DIV/0! | S50: =IF(P50=0,0,IF(P50<2,5,IF(P50<4,10,IF(P50<6,15,IF(P50<8,20,IF(P50>=8,25,99)))))) -> #DIV/0! | T50: =IF(Q50=0,0,IF(Q50<2,10,IF(Q50<3,20,IF(Q50<4,30,IF(Q50<5,40,IF(Q50>=5,50,99)))))) -> #DIV/0! | U50: =SUM(R50:T50) -> #DIV/0! | V50: =IF(U50<10,"F",IF(AND(U50<19,U50>10),"E",IF(AND(U50<=29,U50>20),"D",IF(AND(U50<=49,U50>30),"C",IF(AND(U50<=69,U50>50),"B",IF(U50>=70,"A",99)))))) -> #DIV/0!
A51: =Report_from_Debbie!#REF! -> #REF! | B51: =Report_from_Debbie!#REF! -> #REF! | D51: {=INDEX($A$3:$A$154, MATCH(0, COUNTIF($D$2:D50,$A$3:A$154), 0))} -> #N/A | F51: =AVERAGEIF(Report_from_Debbie!$A49:$A208,$D51,Report_from_Debbie!E49:E208) -> #DIV/0! | G51: =AVERAGEIF(Report_from_Debbie!$A49:$A208,$D51,Report_from_Debbie!F49:F208) -> #DIV/0! | H51: =AVERAGEIF(Report_from_Debbie!$A49:$A208,$D51,Report_from_Debbie!G49:G208) -> #DIV/0! | N51: {=INDEX($B$3:$B$154, MATCH(0, COUNTIF($N$2:N50,$B$3:B$154), 0))} -> #N/A | O51: =AVERAGEIF(Report_from_Debbie!$B49:$B208,$N51,Report_from_Debbie!E49:E208) -> #DIV/0! | P51: =AVERAGEIF(Report_from_Debbie!$B49:$B208,$N51,Report_from_Debbie!F49:F208) -> #DIV/0! | Q51: =AVERAGEIF(Report_from_Debbie!$B49:$B208,$N51,Report_from_Debbie!G49:G208) -> #DIV/0! | R51: =IF(O51<5,0,IF(O51<9,3,IF(O51<13,6,IF(O51<17,9,IF(O51<21,12,IF(O51>=21,15,99)))))) -> #DIV/0! | S51: =IF(P51=0,0,IF(P51<2,5,IF(P51<4,10,IF(P51<6,15,IF(P51<8,20,IF(P51>=8,25,99)))))) -> #DIV/0! | T51: =IF(Q51=0,0,IF(Q51<2,10,IF(Q51<3,20,IF(Q51<4,30,IF(Q51<5,40,IF(Q51>=5,50,99)))))) -> #DIV/0! | U51: =SUM(R51:T51) -> #DIV/0! | V51: =IF(U51<10,"F",IF(AND(U51<19,U51>10),"E",IF(AND(U51<=29,U51>20),"D",IF(AND(U51<=49,U51>30),"C",IF(AND(U51<=69,U51>50),"B",IF(U51>=70,"A",99)))))) -> #DIV/0!
A52: =Report_from_Debbie!A49 -> - | B52: =Report_from_Debbie!B49 -> 0 | D52: {=INDEX($A$3:$A$154, MATCH(0, COUNTIF($D$2:D51,$A$3:A$154), 0))} -> #N/A | F52: =AVERAGEIF(Report_from_Debbie!$A49:$A209,$D52,Report_from_Debbie!E49:E209) -> #DIV/0! | G52: =AVERAGEIF(Report_from_Debbie!$A49:$A209,$D52,Report_from_Debbie!F49:F209) -> #DIV/0! | H52: =AVERAGEIF(Report_from_Debbie!$A49:$A209,$D52,Report_from_Debbie!G49:G209) -> #DIV/0! | N52: {=INDEX($B$3:$B$154, MATCH(0, COUNTIF($N$2:N51,$B$3:B$154), 0))} -> #N/A | O52: =AVERAGEIF(Report_from_Debbie!$B49:$B209,$N52,Report_from_Debbie!E49:E209) -> #DIV/0! | P52: =AVERAGEIF(Report_from_Debbie!$B49:$B209,$N52,Report_from_Debbie!F49:F209) -> #DIV/0! | Q52: =AVERAGEIF(Report_from_Debbie!$B49:$B209,$N52,Report_from_Debbie!G49:G209) -> #DIV/0! | R52: =IF(O52<5,0,IF(O52<9,3,IF(O52<13,6,IF(O52<17,9,IF(O52<21,12,IF(O52>=21,15,99)))))) -> #DIV/0! | S52: =IF(P52=0,0,IF(P52<2,5,IF(P52<4,10,IF(P52<6,15,IF(P52<8,20,IF(P52>=8,25,99)))))) -> #DIV/0! | T52: =IF(Q52=0,0,IF(Q52<2,10,IF(Q52<3,20,IF(Q52<4,30,IF(Q52<5,40,IF(Q52>=5,50,99)))))) -> #DIV/0! | U52: =SUM(R52:T52) -> #DIV/0! | V52: =IF(U52<10,"F",IF(AND(U52<19,U52>10),"E",IF(AND(U52<=29,U52>20),"D",IF(AND(U52<=49,U52>30),"C",IF(AND(U52<=69,U52>50),"B",IF(U52>=70,"A",99)))))) -> #DIV/0!
A53: =Report_from_Debbie!A50 -> - | B53: =Report_from_Debbie!B50 -> 0 | D53: {=INDEX($A$3:$A$154, MATCH(0, COUNTIF($D$2:D52,$A$3:A$154), 0))} -> #N/A | F53: =AVERAGEIF(Report_from_Debbie!$A50:$A210,$D53,Report_from_Debbie!E50:E210) -> #DIV/0! | G53: =AVERAGEIF(Report_from_Debbie!$A50:$A210,$D53,Report_from_Debbie!F50:F210) -> #DIV/0! | H53: =AVERAGEIF(Report_from_Debbie!$A50:$A210,$D53,Report_from_Debbie!G50:G210) -> #DIV/0! | N53: {=INDEX($B$3:$B$154, MATCH(0, COUNTIF($N$2:N52,$B$3:B$154), 0))} -> #N/A | O53: =AVERAGEIF(Report_from_Debbie!$B50:$B210,$N53,Report_from_Debbie!E50:E210) -> #DIV/0! | P53: =AVERAGEIF(Report_from_Debbie!$B50:$B210,$N53,Report_from_Debbie!F50:F210) -> #DIV/0! | Q53: =AVERAGEIF(Report_from_Debbie!$B50:$B210,$N53,Report_from_Debbie!G50:G210) -> #DIV/0! | R53: =IF(O53<5,0,IF(O53<9,3,IF(O53<13,6,IF(O53<17,9,IF(O53<21,12,IF(O53>=21,15,99)))))) -> #DIV/0! | S53: =IF(P53=0,0,IF(P53<2,5,IF(P53<4,10,IF(P53<6,15,IF(P53<8,20,IF(P53>=8,25,99)))))) -> #DIV/0! | T53: =IF(Q53=0,0,IF(Q53<2,10,IF(Q53<3,20,IF(Q53<4,30,IF(Q53<5,40,IF(Q53>=5,50,99)))))) -> #DIV/0! | U53: =SUM(R53:T53) -> #DIV/0! | V53: =IF(U53<10,"F",IF(AND(U53<19,U53>10),"E",IF(AND(U53<=29,U53>20),"D",IF(AND(U53<=49,U53>30),"C",IF(AND(U53<=69,U53>50),"B",IF(U53>=70,"A",99)))))) -> #DIV/0!
A54: =Report_from_Debbie!A51 -> - | B54: =Report_from_Debbie!B51 -> 0 | D54: {=INDEX($A$3:$A$154, MATCH(0, COUNTIF($D$2:D53,$A$3:A$154), 0))} -> #N/A | F54: =AVERAGEIF(Report_from_Debbie!$A51:$A211,$D54,Report_from_Debbie!E51:E211) -> #DIV/0! | G54: =AVERAGEIF(Report_from_Debbie!$A51:$A211,$D54,Report_from_Debbie!F51:F211) -> #DIV/0! | H54: =AVERAGEIF(Report_from_Debbie!$A51:$A211,$D54,Report_from_Debbie!G51:G211) -> #DIV/0! | N54: {=INDEX($B$3:$B$154, MATCH(0, COUNTIF($N$2:N53,$B$3:B$154), 0))} -> #N/A | O54: =AVERAGEIF(Report_from_Debbie!$B51:$B211,$N54,Report_from_Debbie!E51:E211) -> #DIV/0! | P54: =AVERAGEIF(Report_from_Debbie!$B51:$B211,$N54,Report_from_Debbie!F51:F211) -> #DIV/0! | Q54: =AVERAGEIF(Report_from_Debbie!$B51:$B211,$N54,Report_from_Debbie!G51:G211) -> #DIV/0! | R54: =IF(O54<5,0,IF(O54<9,3,IF(O54<13,6,IF(O54<17,9,IF(O54<21,12,IF(O54>=21,15,99)))))) -> #DIV/0! | S54: =IF(P54=0,0,IF(P54<2,5,IF(P54<4,10,IF(P54<6,15,IF(P54<8,20,IF(P54>=8,25,99)))))) -> #DIV/0! | T54: =IF(Q54=0,0,IF(Q54<2,10,IF(Q54<3,20,IF(Q54<4,30,IF(Q54<5,40,IF(Q54>=5,50,99)))))) -> #DIV/0! | U54: =SUM(R54:T54) -> #DIV/0! | V54: =IF(U54<10,"F",IF(AND(U54<19,U54>10),"E",IF(AND(U54<=29,U54>20),"D",IF(AND(U54<=49,U54>30),"C",IF(AND(U54<=69,U54>50),"B",IF(U54>=70,"A",99)))))) -> #DIV/0!
A55: =Report_from_Debbie!A52 -> - | B55: =Report_from_Debbie!B52 -> 0 | D55: {=INDEX($A$3:$A$154, MATCH(0, COUNTIF($D$2:D54,$A$3:A$154), 0))} -> #N/A | F55: =AVERAGEIF(Report_from_Debbie!$A52:$A212,$D55,Report_from_Debbie!E52:E212) -> #DIV/0! | G55: =AVERAGEIF(Report_from_Debbie!$A52:$A212,$D55,Report_from_Debbie!F52:F212) -> #DIV/0! | H55: =AVERAGEIF(Report_from_Debbie!$A52:$A212,$D55,Report_from_Debbie!G52:G212) -> #DIV/0! | N55: {=INDEX($B$3:$B$154, MATCH(0, COUNTIF($N$2:N54,$B$3:B$154), 0))} -> #N/A | O55: =AVERAGEIF(Report_from_Debbie!$B52:$B212,$N55,Report_from_Debbie!E52:E212) -> #DIV/0! | P55: =AVERAGEIF(Report_from_Debbie!$B52:$B212,$N55,Report_from_Debbie!F52:F212) -> #DIV/0! | Q55: =AVERAGEIF(Report_from_Debbie!$B52:$B212,$N55,Report_from_Debbie!G52:G212) -> #DIV/0! | R55: =IF(O55<5,0,IF(O55<9,3,IF(O55<13,6,IF(O55<17,9,IF(O55<21,12,IF(O55>=21,15,99)))))) -> #DIV/0! | S55: =IF(P55=0,0,IF(P55<2,5,IF(P55<4,10,IF(P55<6,15,IF(P55<8,20,IF(P55>=8,25,99)))))) -> #DIV/0! | T55: =IF(Q55=0,0,IF(Q55<2,10,IF(Q55<3,20,IF(Q55<4,30,IF(Q55<5,40,IF(Q55>=5,50,99)))))) -> #DIV/0! | U55: =SUM(R55:T55) -> #DIV/0! | V55: =IF(U55<10,"F",IF(AND(U55<19,U55>10),"E",IF(AND(U55<=29,U55>20),"D",IF(AND(U55<=49,U55>30),"C",IF(AND(U55<=69,U55>50),"B",IF(U55>=70,"A",99)))))) -> #DIV/0!
A56: =Report_from_Debbie!A53 -> - | B56: =Report_from_Debbie!B53 -> 0 | D56: {=INDEX($A$3:$A$154, MATCH(0, COUNTIF($D$2:D55,$A$3:A$154), 0))} -> #N/A | F56: =AVERAGEIF(Report_from_Debbie!$A53:$A213,$D56,Report_from_Debbie!E53:E213) -> #DIV/0! | G56: =AVERAGEIF(Report_from_Debbie!$A53:$A213,$D56,Report_from_Debbie!F53:F213) -> #DIV/0! | H56: =AVERAGEIF(Report_from_Debbie!$A53:$A213,$D56,Report_from_Debbie!G53:G213) -> #DIV/0! | N56: {=INDEX($B$3:$B$154, MATCH(0, COUNTIF($N$2:N55,$B$3:B$154), 0))} -> #N/A | O56: =AVERAGEIF(Report_from_Debbie!$B53:$B213,$N56,Report_from_Debbie!E53:E213) -> #DIV/0! | P56: =AVERAGEIF(Report_from_Debbie!$B53:$B213,$N56,Report_from_Debbie!F53:F213) -> #DIV/0! | Q56: =AVERAGEIF(Report_from_Debbie!$B53:$B213,$N56,Report_from_Debbie!G53:G213) -> #DIV/0! | R56: =IF(O56<5,0,IF(O56<9,3,IF(O56<13,6,IF(O56<17,9,IF(O56<21,12,IF(O56>=21,15,99)))))) -> #DIV/0! | S56: =IF(P56=0,0,IF(P56<2,5,IF(P56<4,10,IF(P56<6,15,IF(P56<8,20,IF(P56>=8,25,99)))))) -> #DIV/0! | T56: =IF(Q56=0,0,IF(Q56<2,10,IF(Q56<3,20,IF(Q56<4,30,IF(Q56<5,40,IF(Q56>=5,50,99)))))) -> #DIV/0! | U56: =SUM(R56:T56) -> #DIV/0! | V56: =IF(U56<10,"F",IF(AND(U56<19,U56>10),"E",IF(AND(U56<=29,U56>20),"D",IF(AND(U56<=49,U56>30),"C",IF(AND(U56<=69,U56>50),"B",IF(U56>=70,"A",99)))))) -> #DIV/0!
A57: =Report_from_Debbie!A54 -> - | B57: =Report_from_Debbie!B54 -> 0 | D57: {=INDEX($A$3:$A$154, MATCH(0, COUNTIF($D$2:D56,$A$3:A$154), 0))} -> #N/A | F57: =AVERAGEIF(Report_from_Debbie!$A54:$A214,$D57,Report_from_Debbie!E54:E214) -> #DIV/0! | G57: =AVERAGEIF(Report_from_Debbie!$A54:$A214,$D57,Report_from_Debbie!F54:F214) -> #DIV/0! | H57: =AVERAGEIF(Report_from_Debbie!$A54:$A214,$D57,Report_from_Debbie!G54:G214) -> #DIV/0! | N57: {=INDEX($B$3:$B$154, MATCH(0, COUNTIF($N$2:N56,$B$3:B$154), 0))} -> #N/A | O57: =AVERAGEIF(Report_from_Debbie!$B54:$B214,$N57,Report_from_Debbie!E54:E214) -> #DIV/0! | P57: =AVERAGEIF(Report_from_Debbie!$B54:$B214,$N57,Report_from_Debbie!F54:F214) -> #DIV/0! | Q57: =AVERAGEIF(Report_from_Debbie!$B54:$B214,$N57,Report_from_Debbie!G54:G214) -> #DIV/0! | R57: =IF(O57<5,0,IF(O57<9,3,IF(O57<13,6,IF(O57<17,9,IF(O57<21,12,IF(O57>=21,15,99)))))) -> #DIV/0! | S57: =IF(P57=0,0,IF(P57<2,5,IF(P57<4,10,IF(P57<6,15,IF(P57<8,20,IF(P57>=8,25,99)))))) -> #DIV/0! | T57: =IF(Q57=0,0,IF(Q57<2,10,IF(Q57<3,20,IF(Q57<4,30,IF(Q57<5,40,IF(Q57>=5,50,99)))))) -> #DIV/0! | U57: =SUM(R57:T57) -> #DIV/0! | V57: =IF(U57<10,"F",IF(AND(U57<19,U57>10),"E",IF(AND(U57<=29,U57>20),"D",IF(AND(U57<=49,U57>30),"C",IF(AND(U57<=69,U57>50),"B",IF(U57>=70,"A",99)))))) -> #DIV/0!
A58: =Report_from_Debbie!A55 -> 0 | B58: =Report_from_Debbie!B55 -> 0 | D58: {=INDEX($A$3:$A$154, MATCH(0, COUNTIF($D$2:D57,$A$3:A$154), 0))} -> #N/A | F58: =AVERAGEIF(Report_from_Debbie!$A55:$A215,$D58,Report_from_Debbie!E55:E215) -> #DIV/0! | G58: =AVERAGEIF(Report_from_Debbie!$A55:$A215,$D58,Report_from_Debbie!F55:F215) -> #DIV/0! | H58: =AVERAGEIF(Report_from_Debbie!$A55:$A215,$D58,Report_from_Debbie!G55:G215) -> #DIV/0! | N58: {=INDEX($B$3:$B$154, MATCH(0, COUNTIF($N$2:N57,$B$3:B$154), 0))} -> #N/A | O58: =AVERAGEIF(Report_from_Debbie!$B55:$B215,$N58,Report_from_Debbie!E55:E215) -> #DIV/0! | P58: =AVERAGEIF(Report_from_Debbie!$B55:$B215,$N58,Report_from_Debbie!F55:F215) -> #DIV/0! | Q58: =AVERAGEIF(Report_from_Debbie!$B55:$B215,$N58,Report_from_Debbie!G55:G215) -> #DIV/0! | R58: =IF(O58<5,0,IF(O58<9,3,IF(O58<13,6,IF(O58<17,9,IF(O58<21,12,IF(O58>=21,15,99)))))) -> #DIV/0! | S58: =IF(P58=0,0,IF(P58<2,5,IF(P58<4,10,IF(P58<6,15,IF(P58<8,20,IF(P58>=8,25,99)))))) -> #DIV/0! | T58: =IF(Q58=0,0,IF(Q58<2,10,IF(Q58<3,20,IF(Q58<4,30,IF(Q58<5,40,IF(Q58>=5,50,99)))))) -> #DIV/0! | U58: =SUM(R58:T58) -> #DIV/0! | V58: =IF(U58<10,"F",IF(AND(U58<19,U58>10),"E",IF(AND(U58<=29,U58>20),"D",IF(AND(U58<=49,U58>30),"C",IF(AND(U58<=69,U58>50),"B",IF(U58>=70,"A",99)))))) -> #DIV/0!
A59: =Report_from_Debbie!A56 -> 0 | B59: =Report_from_Debbie!B56 -> 0 | D59: {=INDEX($A$3:$A$154, MATCH(0, COUNTIF($D$2:D58,$A$3:A$154), 0))} -> #N/A | F59: =AVERAGEIF(Report_from_Debbie!$A56:$A216,$D59,Report_from_Debbie!E56:E216) -> #DIV/0! | G59: =AVERAGEIF(Report_from_Debbie!$A56:$A216,$D59,Report_from_Debbie!F56:F216) -> #DIV/0! | H59: =AVERAGEIF(Report_from_Debbie!$A56:$A216,$D59,Report_from_Debbie!G56:G216) -> #DIV/0! | N59: {=INDEX($B$3:$B$154, MATCH(0, COUNTIF($N$2:N58,$B$3:B$154), 0))} -> #N/A | O59: =AVERAGEIF(Report_from_Debbie!$B56:$B216,$N59,Report_from_Debbie!E56:E216) -> #DIV/0! | P59: =AVERAGEIF(Report_from_Debbie!$B56:$B216,$N59,Report_from_Debbie!F56:F216) -> #DIV/0! | Q59: =AVERAGEIF(Report_from_Debbie!$B56:$B216,$N59,Report_from_Debbie!G56:G216) -> #DIV/0! | R59: =IF(O59<5,0,IF(O59<9,3,IF(O59<13,6,IF(O59<17,9,IF(O59<21,12,IF(O59>=21,15,99)))))) -> #DIV/0! | S59: =IF(P59=0,0,IF(P59<2,5,IF(P59<4,10,IF(P59<6,15,IF(P59<8,20,IF(P59>=8,25,99)))))) -> #DIV/0! | T59: =IF(Q59=0,0,IF(Q59<2,10,IF(Q59<3,20,IF(Q59<4,30,IF(Q59<5,40,IF(Q59>=5,50,99)))))) -> #DIV/0! | U59: =SUM(R59:T59) -> #DIV/0! | V59: =IF(U59<10,"F",IF(AND(U59<19,U59>10),"E",IF(AND(U59<=29,U59>20),"D",IF(AND(U59<=49,U59>30),"C",IF(AND(U59<=69,U59>50),"B",IF(U59>=70,"A",99)))))) -> #DIV/0!
A60: =Report_from_Debbie!A57 -> 0 | B60: =Report_from_Debbie!B57 -> 0 | D60: {=INDEX($A$3:$A$154, MATCH(0, COUNTIF($D$2:D59,$A$3:A$154), 0))} -> #N/A | F60: =AVERAGEIF(Report_from_Debbie!$A57:$A217,$D60,Report_from_Debbie!E57:E217) -> #DIV/0! | G60: =AVERAGEIF(Report_from_Debbie!$A57:$A217,$D60,Report_from_Debbie!F57:F217) -> #DIV/0! | H60: =AVERAGEIF(Report_from_Debbie!$A57:$A217,$D60,Report_from_Debbie!G57:G217) -> #DIV/0! | N60: {=INDEX($B$3:$B$154, MATCH(0, COUNTIF($N$2:N59,$B$3:B$154), 0))} -> #N/A | O60: =AVERAGEIF(Report_from_Debbie!$B57:$B217,$N60,Report_from_Debbie!E57:E217) -> #DIV/0! | P60: =AVERAGEIF(Report_from_Debbie!$B57:$B217,$N60,Report_from_Debbie!F57:F217) -> #DIV/0! | Q60: =AVERAGEIF(Report_from_Debbie!$B57:$B217,$N60,Report_from_Debbie!G57:G217) -> #DIV/0! | R60: =IF(O60<5,0,IF(O60<9,3,IF(O60<13,6,IF(O60<17,9,IF(O60<21,12,IF(O60>=21,15,99)))))) -> #DIV/0! | S60: =IF(P60=0,0,IF(P60<2,5,IF(P60<4,10,IF(P60<6,15,IF(P60<8,20,IF(P60>=8,25,99)))))) -> #DIV/0! | T60: =IF(Q60=0,0,IF(Q60<2,10,IF(Q60<3,20,IF(Q60<4,30,IF(Q60<5,40,IF(Q60>=5,50,99)))))) -> #DIV/0! | U60: =SUM(R60:T60) -> #DIV/0! | V60: =IF(U60<10,"F",IF(AND(U60<19,U60>10),"E",IF(AND(U60<=29,U60>20),"D",IF(AND(U60<=49,U60>30),"C",IF(AND(U60<=69,U60>50),"B",IF(U60>=70,"A",99)))))) -> #DIV/0!
A61: =Report_from_Debbie!A58 -> 0 | B61: =Report_from_Debbie!B58 -> 0 | D61: {=INDEX($A$3:$A$154, MATCH(0, COUNTIF($D$2:D60,$A$3:A$154), 0))} -> #N/A | F61: =AVERAGEIF(Report_from_Debbie!$A58:$A218,$D61,Report_from_Debbie!E58:E218) -> #DIV/0! | G61: =AVERAGEIF(Report_from_Debbie!$A58:$A218,$D61,Report_from_Debbie!F58:F218) -> #DIV/0! | H61: =AVERAGEIF(Report_from_Debbie!$A58:$A218,$D61,Report_from_Debbie!G58:G218) -> #DIV/0! | N61: {=INDEX($B$3:$B$154, MATCH(0, COUNTIF($N$2:N60,$B$3:B$154), 0))} -> #N/A | O61: =AVERAGEIF(Report_from_Debbie!$B58:$B218,$N61,Report_from_Debbie!E58:E218) -> #DIV/0! | P61: =AVERAGEIF(Report_from_Debbie!$B58:$B218,$N61,Report_from_Debbie!F58:F218) -> #DIV/0! | Q61: =AVERAGEIF(Report_from_Debbie!$B58:$B218,$N61,Report_from_Debbie!G58:G218) -> #DIV/0! | R61: =IF(O61<5,0,IF(O61<9,3,IF(O61<13,6,IF(O61<17,9,IF(O61<21,12,IF(O61>=21,15,99)))))) -> #DIV/0! | S61: =IF(P61=0,0,IF(P61<2,5,IF(P61<4,10,IF(P61<6,15,IF(P61<8,20,IF(P61>=8,25,99)))))) -> #DIV/0! | T61: =IF(Q61=0,0,IF(Q61<2,10,IF(Q61<3,20,IF(Q61<4,30,IF(Q61<5,40,IF(Q61>=5,50,99)))))) -> #DIV/0! | U61: =SUM(R61:T61) -> #DIV/0! | V61: =IF(U61<10,"F",IF(AND(U61<19,U61>10),"E",IF(AND(U61<=29,U61>20),"D",IF(AND(U61<=49,U61>30),"C",IF(AND(U61<=69,U61>50),"B",IF(U61>=70,"A",99)))))) -> #DIV/0!
A62: =Report_from_Debbie!A59 -> 0 | B62: =Report_from_Debbie!B59 -> 0 | D62: {=INDEX($A$3:$A$154, MATCH(0, COUNTIF($D$2:D61,$A$3:A$154), 0))} -> #N/A | F62: =AVERAGEIF(Report_from_Debbie!$A59:$A219,$D62,Report_from_Debbie!E59:E219) -> #DIV/0! | G62: =AVERAGEIF(Report_from_Debbie!$A59:$A219,$D62,Report_from_Debbie!F59:F219) -> #DIV/0! | H62: =AVERAGEIF(Report_from_Debbie!$A59:$A219,$D62,Report_from_Debbie!G59:G219) -> #DIV/0! | N62: {=INDEX($B$3:$B$154, MATCH(0, COUNTIF($N$2:N61,$B$3:B$154), 0))} -> #N/A | O62: =AVERAGEIF(Report_from_Debbie!$B59:$B219,$N62,Report_from_Debbie!E59:E219) -> #DIV/0! | P62: =AVERAGEIF(Report_from_Debbie!$B59:$B219,$N62,Report_from_Debbie!F59:F219) -> #DIV/0! | Q62: =AVERAGEIF(Report_from_Debbie!$B59:$B219,$N62,Report_from_Debbie!G59:G219) -> #DIV/0! | R62: =IF(O62<5,0,IF(O62<9,3,IF(O62<13,6,IF(O62<17,9,IF(O62<21,12,IF(O62>=21,15,99)))))) -> #DIV/0! | S62: =IF(P62=0,0,IF(P62<2,5,IF(P62<4,10,IF(P62<6,15,IF(P62<8,20,IF(P62>=8,25,99)))))) -> #DIV/0! | T62: =IF(Q62=0,0,IF(Q62<2,10,IF(Q62<3,20,IF(Q62<4,30,IF(Q62<5,40,IF(Q62>=5,50,99)))))) -> #DIV/0! | U62: =SUM(R62:T62) -> #DIV/0! | V62: =IF(U62<10,"F",IF(AND(U62<19,U62>10),"E",IF(AND(U62<=29,U62>20),"D",IF(AND(U62<=49,U62>30),"C",IF(AND(U62<=69,U62>50),"B",IF(U62>=70,"A",99)))))) -> #DIV/0!
A63: =Report_from_Debbie!A60 -> 0 | B63: =Report_from_Debbie!B60 -> 0 | D63: {=INDEX($A$3:$A$154, MATCH(0, COUNTIF($D$2:D62,$A$3:A$154), 0))} -> #N/A | F63: =AVERAGEIF(Report_from_Debbie!$A60:$A220,$D63,Report_from_Debbie!E60:E220) -> #DIV/0! | G63: =AVERAGEIF(Report_from_Debbie!$A60:$A220,$D63,Report_from_Debbie!F60:F220) -> #DIV/0! | H63: =AVERAGEIF(Report_from_Debbie!$A60:$A220,$D63,Report_from_Debbie!G60:G220) -> #DIV/0! | N63: {=INDEX($B$3:$B$154, MATCH(0, COUNTIF($N$2:N62,$B$3:B$154), 0))} -> #N/A | O63: =AVERAGEIF(Report_from_Debbie!$B60:$B220,$N63,Report_from_Debbie!E60:E220) -> #DIV/0! | P63: =AVERAGEIF(Report_from_Debbie!$B60:$B220,$N63,Report_from_Debbie!F60:F220) -> #DIV/0! | Q63: =AVERAGEIF(Report_from_Debbie!$B60:$B220,$N63,Report_from_Debbie!G60:G220) -> #DIV/0! | R63: =IF(O63<5,0,IF(O63<9,3,IF(O63<13,6,IF(O63<17,9,IF(O63<21,12,IF(O63>=21,15,99)))))) -> #DIV/0! | S63: =IF(P63=0,0,IF(P63<2,5,IF(P63<4,10,IF(P63<6,15,IF(P63<8,20,IF(P63>=8,25,99)))))) -> #DIV/0! | T63: =IF(Q63=0,0,IF(Q63<2,10,IF(Q63<3,20,IF(Q63<4,30,IF(Q63<5,40,IF(Q63>=5,50,99)))))) -> #DIV/0! | U63: =SUM(R63:T63) -> #DIV/0! | V63: =IF(U63<10,"F",IF(AND(U63<19,U63>10),"E",IF(AND(U63<=29,U63>20),"D",IF(AND(U63<=49,U63>30),"C",IF(AND(U63<=69,U63>50),"B",IF(U63>=70,"A",99)))))) -> #DIV/0!
... A69: =Report_from_Debbie!A66 -> 0 | B69: =Report_from_Debbie!B66 -> 0 | D69: {=INDEX($A$3:$A$154, MATCH(0, COUNTIF($D$2:D68,$A$3:A$154), 0))} -> #N/A | F69: =AVERAGEIF(Report_from_Debbie!$A66:$A226,$D69,Report_from_Debbie!E66:E226) -> #DIV/0! | G69: =AVERAGEIF(Report_from_Debbie!$A66:$A226,$D69,Report_from_Debbie!F66:F226) -> #DIV/0! | H69: =AVERAGEIF(Report_from_Debbie!$A66:$A226,$D69,Report_from_Debbie!G66:G226) -> #DIV/0! | N69: {=INDEX($B$3:$B$154, MATCH(0, COUNTIF($N$2:N68,$B$3:B$154), 0))} -> #N/A | O69: =AVERAGEIF(Report_from_Debbie!$B66:$B226,$N69,Report_from_Debbie!E66:E226) -> #DIV/0! | P69: =AVERAGEIF(Report_from_Debbie!$B66:$B226,$N69,Report_from_Debbie!F66:F226) -> #DIV/0! | Q69: =AVERAGEIF(Report_from_Debbie!$B66:$B226,$N69,Report_from_Debbie!G66:G226) -> #DIV/0! | R69: =IF(O69<5,0,IF(O69<9,3,IF(O69<13,6,IF(O69<17,9,IF(O69<21,12,IF(O69>=21,15,99)))))) -> #DIV/0! | S69: =IF(P69=0,0,IF(P69<2,5,IF(P69<4,10,IF(P69<6,15,IF(P69<8,20,IF(P69>=8,25,99)))))) -> #DIV/0! | T69: =IF(Q69=0,0,IF(Q69<2,10,IF(Q69<3,20,IF(Q69<4,30,IF(Q69<5,40,IF(Q69>=5,50,99)))))) -> #DIV/0! | U69: =SUM(R69:T69) -> #DIV/0! | V69: =IF(U69<10,"F",IF(AND(U69<19,U69>10),"E",IF(AND(U69<=29,U69>20),"D",IF(AND(U69<=49,U69>30),"C",IF(AND(U69<=69,U69>50),"B",IF(U69>=70,"A",99)))))) -> #DIV/0!
B70: =Report_from_Debbie!B67 -> 0 | D70: {=INDEX($A$3:$A$154, MATCH(0, COUNTIF($D$2:D69,$A$3:A$154), 0))} -> #N/A | F70: =AVERAGEIF(Report_from_Debbie!$A67:$A227,$D70,Report_from_Debbie!E67:E227) -> #DIV/0! | G70: =AVERAGEIF(Report_from_Debbie!$A67:$A227,$D70,Report_from_Debbie!F67:F227) -> #DIV/0! | H70: =AVERAGEIF(Report_from_Debbie!$A67:$A227,$D70,Report_from_Debbie!G67:G227) -> #DIV/0! | N70: {=INDEX($B$3:$B$154, MATCH(0, COUNTIF($N$2:N69,$B$3:B$154), 0))} -> #N/A | O70: =AVERAGEIF(Report_from_Debbie!$B67:$B227,$N70,Report_from_Debbie!E67:E227) -> #DIV/0! | P70: =AVERAGEIF(Report_from_Debbie!$B67:$B227,$N70,Report_from_Debbie!F67:F227) -> #DIV/0! | Q70: =AVERAGEIF(Report_from_Debbie!$B67:$B227,$N70,Report_from_Debbie!G67:G227) -> #DIV/0! | R70: =IF(O70<5,0,IF(O70<9,3,IF(O70<13,6,IF(O70<17,9,IF(O70<21,12,IF(O70>=21,15,99)))))) -> #DIV/0! | S70: =IF(P70=0,0,IF(P70<2,5,IF(P70<4,10,IF(P70<6,15,IF(P70<8,20,IF(P70>=8,25,99)))))) -> #DIV/0! | T70: =IF(Q70=0,0,IF(Q70<2,10,IF(Q70<3,20,IF(Q70<4,30,IF(Q70<5,40,IF(Q70>=5,50,99)))))) -> #DIV/0! | U70: =SUM(R70:T70) -> #DIV/0! | V70: =IF(U70<10,"F",IF(AND(U70<19,U70>10),"E",IF(AND(U70<=29,U70>20),"D",IF(AND(U70<=49,U70>30),"C",IF(AND(U70<=69,U70>50),"B",IF(U70>=70,"A",99)))))) -> #DIV/0!
B71: =Report_from_Debbie!B68 -> 0 | D71: {=INDEX($A$3:$A$154, MATCH(0, COUNTIF($D$2:D70,$A$3:A$154), 0))} -> #N/A | F71: =AVERAGEIF(Report_from_Debbie!$A68:$A228,$D71,Report_from_Debbie!E68:E228) -> #DIV/0! | G71: =AVERAGEIF(Report_from_Debbie!$A68:$A228,$D71,Report_from_Debbie!F68:F228) -> #DIV/0! | H71: =AVERAGEIF(Report_from_Debbie!$A68:$A228,$D71,Report_from_Debbie!G68:G228) -> #DIV/0! | N71: {=INDEX($B$3:$B$154, MATCH(0, COUNTIF($N$2:N70,$B$3:B$154), 0))} -> #N/A | O71: =AVERAGEIF(Report_from_Debbie!$B68:$B228,$N71,Report_from_Debbie!E68:E228) -> #DIV/0! | P71: =AVERAGEIF(Report_from_Debbie!$B68:$B228,$N71,Report_from_Debbie!F68:F228) -> #DIV/0! | Q71: =AVERAGEIF(Report_from_Debbie!$B68:$B228,$N71,Report_from_Debbie!G68:G228) -> #DIV/0! | R71: =IF(O71<5,0,IF(O71<9,3,IF(O71<13,6,IF(O71<17,9,IF(O71<21,12,IF(O71>=21,15,99)))))) -> #DIV/0! | S71: =IF(P71=0,0,IF(P71<2,5,IF(P71<4,10,IF(P71<6,15,IF(P71<8,20,IF(P71>=8,25,99)))))) -> #DIV/0! | T71: =IF(Q71=0,0,IF(Q71<2,10,IF(Q71<3,20,IF(Q71<4,30,IF(Q71<5,40,IF(Q71>=5,50,99)))))) -> #DIV/0! | U71: =SUM(R71:T71) -> #DIV/0! | V71: =IF(U71<10,"F",IF(AND(U71<19,U71>10),"E",IF(AND(U71<=29,U71>20),"D",IF(AND(U71<=49,U71>30),"C",IF(AND(U71<=69,U71>50),"B",IF(U71>=70,"A",99)))))) -> #DIV/0!
B72: =Report_from_Debbie!B69 -> 0 | D72: {=INDEX($A$3:$A$154, MATCH(0, COUNTIF($D$2:D71,$A$3:A$154), 0))} -> #N/A | F72: =AVERAGEIF(Report_from_Debbie!$A69:$A229,$D72,Report_from_Debbie!E69:E229) -> #DIV/0! | G72: =AVERAGEIF(Report_from_Debbie!$A69:$A229,$D72,Report_from_Debbie!F69:F229) -> #DIV/0! | H72: =AVERAGEIF(Report_from_Debbie!$A69:$A229,$D72,Report_from_Debbie!G69:G229) -> #DIV/0! | N72: {=INDEX($B$3:$B$154, MATCH(0, COUNTIF($N$2:N71,$B$3:B$154), 0))} -> #N/A | O72: =AVERAGEIF(Report_from_Debbie!$B69:$B229,$N72,Report_from_Debbie!E69:E229) -> #DIV/0! | P72: =AVERAGEIF(Report_from_Debbie!$B69:$B229,$N72,Report_from_Debbie!F69:F229) -> #DIV/0! | Q72: =AVERAGEIF(Report_from_Debbie!$B69:$B229,$N72,Report_from_Debbie!G69:G229) -> #DIV/0! | R72: =IF(O72<5,0,IF(O72<9,3,IF(O72<13,6,IF(O72<17,9,IF(O72<21,12,IF(O72>=21,15,99)))))) -> #DIV/0! | S72: =IF(P72=0,0,IF(P72<2,5,IF(P72<4,10,IF(P72<6,15,IF(P72<8,20,IF(P72>=8,25,99)))))) -> #DIV/0! | T72: =IF(Q72=0,0,IF(Q72<2,10,IF(Q72<3,20,IF(Q72<4,30,IF(Q72<5,40,IF(Q72>=5,50,99)))))) -> #DIV/0! | U72: =SUM(R72:T72) -> #DIV/0! | V72: =IF(U72<10,"F",IF(AND(U72<19,U72>10),"E",IF(AND(U72<=29,U72>20),"D",IF(AND(U72<=49,U72>30),"C",IF(AND(U72<=69,U72>50),"B",IF(U72>=70,"A",99)))))) -> #DIV/0!
B73: =Report_from_Debbie!B70 -> 0 | D73: {=INDEX($A$3:$A$154, MATCH(0, COUNTIF($D$2:D72,$A$3:A$154), 0))} -> #N/A | F73: =AVERAGEIF(Report_from_Debbie!$A70:$A230,$D73,Report_from_Debbie!E70:E230) -> #DIV/0! | G73: =AVERAGEIF(Report_from_Debbie!$A70:$A230,$D73,Report_from_Debbie!F70:F230) -> #DIV/0! | H73: =AVERAGEIF(Report_from_Debbie!$A70:$A230,$D73,Report_from_Debbie!G70:G230) -> #DIV/0! | N73: {=INDEX($B$3:$B$154, MATCH(0, COUNTIF($N$2:N72,$B$3:B$154), 0))} -> #N/A | O73: =AVERAGEIF(Report_from_Debbie!$B70:$B230,$N73,Report_from_Debbie!E70:E230) -> #DIV/0! | P73: =AVERAGEIF(Report_from_Debbie!$B70:$B230,$N73,Report_from_Debbie!F70:F230) -> #DIV/0! | Q73: =AVERAGEIF(Report_from_Debbie!$B70:$B230,$N73,Report_from_Debbie!G70:G230) -> #DIV/0! | R73: =IF(O73<5,0,IF(O73<9,3,IF(O73<13,6,IF(O73<17,9,IF(O73<21,12,IF(O73>=21,15,99)))))) -> #DIV/0! | S73: =IF(P73=0,0,IF(P73<2,5,IF(P73<4,10,IF(P73<6,15,IF(P73<8,20,IF(P73>=8,25,99)))))) -> #DIV/0! | T73: =IF(Q73=0,0,IF(Q73<2,10,IF(Q73<3,20,IF(Q73<4,30,IF(Q73<5,40,IF(Q73>=5,50,99)))))) -> #DIV/0! | U73: =SUM(R73:T73) -> #DIV/0! | V73: =IF(U73<10,"F",IF(AND(U73<19,U73>10),"E",IF(AND(U73<=29,U73>20),"D",IF(AND(U73<=49,U73>30),"C",IF(AND(U73<=69,U73>50),"B",IF(U73>=70,"A",99)))))) -> #DIV/0!
B74: =Report_from_Debbie!B71 -> 0 | D74: {=INDEX($A$3:$A$154, MATCH(0, COUNTIF($D$2:D73,$A$3:A$154), 0))} -> #N/A | F74: =AVERAGEIF(Report_from_Debbie!$A71:$A231,$D74,Report_from_Debbie!E71:E231) -> #DIV/0! | G74: =AVERAGEIF(Report_from_Debbie!$A71:$A231,$D74,Report_from_Debbie!F71:F231) -> #DIV/0! | H74: =AVERAGEIF(Report_from_Debbie!$A71:$A231,$D74,Report_from_Debbie!G71:G231) -> #DIV/0! | N74: {=INDEX($B$3:$B$154, MATCH(0, COUNTIF($N$2:N73,$B$3:B$154), 0))} -> #N/A | O74: =AVERAGEIF(Report_from_Debbie!$B71:$B231,$N74,Report_from_Debbie!E71:E231) -> #DIV/0! | P74: =AVERAGEIF(Report_from_Debbie!$B71:$B231,$N74,Report_from_Debbie!F71:F231) -> #DIV/0! | Q74: =AVERAGEIF(Report_from_Debbie!$B71:$B231,$N74,Report_from_Debbie!G71:G231) -> #DIV/0! | R74: =IF(O74<5,0,IF(O74<9,3,IF(O74<13,6,IF(O74<17,9,IF(O74<21,12,IF(O74>=21,15,99)))))) -> #DIV/0! | S74: =IF(P74=0,0,IF(P74<2,5,IF(P74<4,10,IF(P74<6,15,IF(P74<8,20,IF(P74>=8,25,99)))))) -> #DIV/0! | T74: =IF(Q74=0,0,IF(Q74<2,10,IF(Q74<3,20,IF(Q74<4,30,IF(Q74<5,40,IF(Q74>=5,50,99)))))) -> #DIV/0! | U74: =SUM(R74:T74) -> #DIV/0! | V74: =IF(U74<10,"F",IF(AND(U74<19,U74>10),"E",IF(AND(U74<=29,U74>20),"D",IF(AND(U74<=49,U74>30),"C",IF(AND(U74<=69,U74>50),"B",IF(U74>=70,"A",99)))))) -> #DIV/0!
B75: =Report_from_Debbie!B72 -> 0 | D75: {=INDEX($A$3:$A$154, MATCH(0, COUNTIF($D$2:D74,$A$3:A$154), 0))} -> #N/A | F75: =AVERAGEIF(Report_from_Debbie!$A72:$A232,$D75,Report_from_Debbie!E72:E232) -> #DIV/0! | G75: =AVERAGEIF(Report_from_Debbie!$A72:$A232,$D75,Report_from_Debbie!F72:F232) -> #DIV/0! | H75: =AVERAGEIF(Report_from_Debbie!$A72:$A232,$D75,Report_from_Debbie!G72:G232) -> #DIV/0! | N75: {=INDEX($B$3:$B$154, MATCH(0, COUNTIF($N$2:N74,$B$3:B$154), 0))} -> #N/A | O75: =AVERAGEIF(Report_from_Debbie!$B72:$B232,$N75,Report_from_Debbie!E72:E232) -> #DIV/0! | P75: =AVERAGEIF(Report_from_Debbie!$B72:$B232,$N75,Report_from_Debbie!F72:F232) -> #DIV/0! | Q75: =AVERAGEIF(Report_from_Debbie!$B72:$B232,$N75,Report_from_Debbie!G72:G232) -> #DIV/0! | R75: =IF(O75<5,0,IF(O75<9,3,IF(O75<13,6,IF(O75<17,9,IF(O75<21,12,IF(O75>=21,15,99)))))) -> #DIV/0! | S75: =IF(P75=0,0,IF(P75<2,5,IF(P75<4,10,IF(P75<6,15,IF(P75<8,20,IF(P75>=8,25,99)))))) -> #DIV/0! | T75: =IF(Q75=0,0,IF(Q75<2,10,IF(Q75<3,20,IF(Q75<4,30,IF(Q75<5,40,IF(Q75>=5,50,99)))))) -> #DIV/0! | U75: =SUM(R75:T75) -> #DIV/0! | V75: =IF(U75<10,"F",IF(AND(U75<19,U75>10),"E",IF(AND(U75<=29,U75>20),"D",IF(AND(U75<=49,U75>30),"C",IF(AND(U75<=69,U75>50),"B",IF(U75>=70,"A",99)))))) -> #DIV/0!
B76: =Report_from_Debbie!B73 -> 0 | D76: {=INDEX($A$3:$A$154, MATCH(0, COUNTIF($D$2:D75,$A$3:A$154), 0))} -> #N/A | F76: =AVERAGEIF(Report_from_Debbie!$A73:$A233,$D76,Report_from_Debbie!E73:E233) -> #DIV/0! | G76: =AVERAGEIF(Report_from_Debbie!$A73:$A233,$D76,Report_from_Debbie!F73:F233) -> #DIV/0! | H76: =AVERAGEIF(Report_from_Debbie!$A73:$A233,$D76,Report_from_Debbie!G73:G233) -> #DIV/0! | N76: {=INDEX($B$3:$B$154, MATCH(0, COUNTIF($N$2:N75,$B$3:B$154), 0))} -> #N/A | O76: =AVERAGEIF(Report_from_Debbie!$B73:$B233,$N76,Report_from_Debbie!E73:E233) -> #DIV/0! | P76: =AVERAGEIF(Report_from_Debbie!$B73:$B233,$N76,Report_from_Debbie!F73:F233) -> #DIV/0! | Q76: =AVERAGEIF(Report_from_Debbie!$B73:$B233,$N76,Report_from_Debbie!G73:G233) -> #DIV/0! | R76: =IF(O76<5,0,IF(O76<9,3,IF(O76<13,6,IF(O76<17,9,IF(O76<21,12,IF(O76>=21,15,99)))))) -> #DIV/0! | S76: =IF(P76=0,0,IF(P76<2,5,IF(P76<4,10,IF(P76<6,15,IF(P76<8,20,IF(P76>=8,25,99)))))) -> #DIV/0! | T76: =IF(Q76=0,0,IF(Q76<2,10,IF(Q76<3,20,IF(Q76<4,30,IF(Q76<5,40,IF(Q76>=5,50,99)))))) -> #DIV/0! | U76: =SUM(R76:T76) -> #DIV/0! | V76: =IF(U76<10,"F",IF(AND(U76<19,U76>10),"E",IF(AND(U76<=29,U76>20),"D",IF(AND(U76<=49,U76>30),"C",IF(AND(U76<=69,U76>50),"B",IF(U76>=70,"A",99)))))) -> #DIV/0!
B77: =Report_from_Debbie!B74 -> 0 | D77: {=INDEX($A$3:$A$154, MATCH(0, COUNTIF($D$2:D76,$A$3:A$154), 0))} -> #N/A | F77: =AVERAGEIF(Report_from_Debbie!$A74:$A234,$D77,Report_from_Debbie!E74:E234) -> #DIV/0! | G77: =AVERAGEIF(Report_from_Debbie!$A74:$A234,$D77,Report_from_Debbie!F74:F234) -> #DIV/0! | H77: =AVERAGEIF(Report_from_Debbie!$A74:$A234,$D77,Report_from_Debbie!G74:G234) -> #DIV/0! | N77: {=INDEX($B$3:$B$154, MATCH(0, COUNTIF($N$2:N76,$B$3:B$154), 0))} -> #N/A | O77: =AVERAGEIF(Report_from_Debbie!$B74:$B234,$N77,Report_from_Debbie!E74:E234) -> #DIV/0! | P77: =AVERAGEIF(Report_from_Debbie!$B74:$B234,$N77,Report_from_Debbie!F74:F234) -> #DIV/0! | Q77: =AVERAGEIF(Report_from_Debbie!$B74:$B234,$N77,Report_from_Debbie!G74:G234) -> #DIV/0! | R77: =IF(O77<5,0,IF(O77<9,3,IF(O77<13,6,IF(O77<17,9,IF(O77<21,12,IF(O77>=21,15,99)))))) -> #DIV/0! | S77: =IF(P77=0,0,IF(P77<2,5,IF(P77<4,10,IF(P77<6,15,IF(P77<8,20,IF(P77>=8,25,99)))))) -> #DIV/0! | T77: =IF(Q77=0,0,IF(Q77<2,10,IF(Q77<3,20,IF(Q77<4,30,IF(Q77<5,40,IF(Q77>=5,50,99)))))) -> #DIV/0! | U77: =SUM(R77:T77) -> #DIV/0! | V77: =IF(U77<10,"F",IF(AND(U77<19,U77>10),"E",IF(AND(U77<=29,U77>20),"D",IF(AND(U77<=49,U77>30),"C",IF(AND(U77<=69,U77>50),"B",IF(U77>=70,"A",99)))))) -> #DIV/0!
B78: =Report_from_Debbie!B75 -> 0 | D78: {=INDEX($A$3:$A$154, MATCH(0, COUNTIF($D$2:D77,$A$3:A$154), 0))} -> #N/A | F78: =AVERAGEIF(Report_from_Debbie!$A75:$A235,$D78,Report_from_Debbie!E75:E235) -> #DIV/0! | G78: =AVERAGEIF(Report_from_Debbie!$A75:$A235,$D78,Report_from_Debbie!F75:F235) -> #DIV/0! | H78: =AVERAGEIF(Report_from_Debbie!$A75:$A235,$D78,Report_from_Debbie!G75:G235) -> #DIV/0! | N78: {=INDEX($B$3:$B$154, MATCH(0, COUNTIF($N$2:N77,$B$3:B$154), 0))} -> #N/A | O78: =AVERAGEIF(Report_from_Debbie!$B75:$B235,$N78,Report_from_Debbie!E75:E235) -> #DIV/0! | P78: =AVERAGEIF(Report_from_Debbie!$B75:$B235,$N78,Report_from_Debbie!F75:F235) -> #DIV/0! | Q78: =AVERAGEIF(Report_from_Debbie!$B75:$B235,$N78,Report_from_Debbie!G75:G235) -> #DIV/0! | R78: =IF(O78<5,0,IF(O78<9,3,IF(O78<13,6,IF(O78<17,9,IF(O78<21,12,IF(O78>=21,15,99)))))) -> #DIV/0! | S78: =IF(P78=0,0,IF(P78<2,5,IF(P78<4,10,IF(P78<6,15,IF(P78<8,20,IF(P78>=8,25,99)))))) -> #DIV/0! | T78: =IF(Q78=0,0,IF(Q78<2,10,IF(Q78<3,20,IF(Q78<4,30,IF(Q78<5,40,IF(Q78>=5,50,99)))))) -> #DIV/0! | U78: =SUM(R78:T78) -> #DIV/0! | V78: =IF(U78<10,"F",IF(AND(U78<19,U78>10),"E",IF(AND(U78<=29,U78>20),"D",IF(AND(U78<=49,U78>30),"C",IF(AND(U78<=69,U78>50),"B",IF(U78>=70,"A",99)))))) -> #DIV/0!
B79: =Report_from_Debbie!B76 -> 0 | D79: {=INDEX($A$3:$A$154, MATCH(0, COUNTIF($D$2:D78,$A$3:A$154), 0))} -> #N/A | F79: =AVERAGEIF(Report_from_Debbie!$A76:$A236,$D79,Report_from_Debbie!E76:E236) -> #DIV/0! | G79: =AVERAGEIF(Report_from_Debbie!$A76:$A236,$D79,Report_from_Debbie!F76:F236) -> #DIV/0! | H79: =AVERAGEIF(Report_from_Debbie!$A76:$A236,$D79,Report_from_Debbie!G76:G236) -> #DIV/0! | N79: {=INDEX($B$3:$B$154, MATCH(0, COUNTIF($N$2:N78,$B$3:B$154), 0))} -> #N/A | O79: =AVERAGEIF(Report_from_Debbie!$B76:$B236,$N79,Report_from_Debbie!E76:E236) -> #DIV/0! | P79: =AVERAGEIF(Report_from_Debbie!$B76:$B236,$N79,Report_from_Debbie!F76:F236) -> #DIV/0! | Q79: =AVERAGEIF(Report_from_Debbie!$B76:$B236,$N79,Report_from_Debbie!G76:G236) -> #DIV/0! | R79: =IF(O79<5,0,IF(O79<9,3,IF(O79<13,6,IF(O79<17,9,IF(O79<21,12,IF(O79>=21,15,99)))))) -> #DIV/0! | S79: =IF(P79=0,0,IF(P79<2,5,IF(P79<4,10,IF(P79<6,15,IF(P79<8,20,IF(P79>=8,25,99)))))) -> #DIV/0! | T79: =IF(Q79=0,0,IF(Q79<2,10,IF(Q79<3,20,IF(Q79<4,30,IF(Q79<5,40,IF(Q79>=5,50,99)))))) -> #DIV/0! | U79: =SUM(R79:T79) -> #DIV/0! | V79: =IF(U79<10,"F",IF(AND(U79<19,U79>10),"E",IF(AND(U79<=29,U79>20),"D",IF(AND(U79<=49,U79>30),"C",IF(AND(U79<=69,U79>50),"B",IF(U79>=70,"A",99)))))) -> #DIV/0!
B80: =Report_from_Debbie!B77 -> 0 | D80: {=INDEX($A$3:$A$154, MATCH(0, COUNTIF($D$2:D79,$A$3:A$154), 0))} -> #N/A | F80: =AVERAGEIF(Report_from_Debbie!$A77:$A237,$D80,Report_from_Debbie!E77:E237) -> #DIV/0! | G80: =AVERAGEIF(Report_from_Debbie!$A77:$A237,$D80,Report_from_Debbie!F77:F237) -> #DIV/0! | H80: =AVERAGEIF(Report_from_Debbie!$A77:$A237,$D80,Report_from_Debbie!G77:G237) -> #DIV/0! | N80: {=INDEX($B$3:$B$154, MATCH(0, COUNTIF($N$2:N79,$B$3:B$154), 0))} -> #N/A | O80: =AVERAGEIF(Report_from_Debbie!$B77:$B237,$N80,Report_from_Debbie!E77:E237) -> #DIV/0! | P80: =AVERAGEIF(Report_from_Debbie!$B77:$B237,$N80,Report_from_Debbie!F77:F237) -> #DIV/0! | Q80: =AVERAGEIF(Report_from_Debbie!$B77:$B237,$N80,Report_from_Debbie!G77:G237) -> #DIV/0! | R80: =IF(O80<5,0,IF(O80<9,3,IF(O80<13,6,IF(O80<17,9,IF(O80<21,12,IF(O80>=21,15,99)))))) -> #DIV/0! | S80: =IF(P80=0,0,IF(P80<2,5,IF(P80<4,10,IF(P80<6,15,IF(P80<8,20,IF(P80>=8,25,99)))))) -> #DIV/0! | T80: =IF(Q80=0,0,IF(Q80<2,10,IF(Q80<3,20,IF(Q80<4,30,IF(Q80<5,40,IF(Q80>=5,50,99)))))) -> #DIV/0! | U80: =SUM(R80:T80) -> #DIV/0! | V80: =IF(U80<10,"F",IF(AND(U80<19,U80>10),"E",IF(AND(U80<=29,U80>20),"D",IF(AND(U80<=49,U80>30),"C",IF(AND(U80<=69,U80>50),"B",IF(U80>=70,"A",99)))))) -> #DIV/0!
B81: =Report_from_Debbie!B78 -> 0 | D81: {=INDEX($A$3:$A$154, MATCH(0, COUNTIF($D$2:D80,$A$3:A$154), 0))} -> #N/A | F81: =AVERAGEIF(Report_from_Debbie!$A78:$A238,$D81,Report_from_Debbie!E78:E238) -> #DIV/0! | G81: =AVERAGEIF(Report_from_Debbie!$A78:$A238,$D81,Report_from_Debbie!F78:F238) -> #DIV/0! | H81: =AVERAGEIF(Report_from_Debbie!$A78:$A238,$D81,Report_from_Debbie!G78:G238) -> #DIV/0! | N81: {=INDEX($B$3:$B$154, MATCH(0, COUNTIF($N$2:N80,$B$3:B$154), 0))} -> #N/A | O81: =AVERAGEIF(Report_from_Debbie!$B78:$B238,$N81,Report_from_Debbie!E78:E238) -> #DIV/0! | P81: =AVERAGEIF(Report_from_Debbie!$B78:$B238,$N81,Report_from_Debbie!F78:F238) -> #DIV/0! | Q81: =AVERAGEIF(Report_from_Debbie!$B78:$B238,$N81,Report_from_Debbie!G78:G238) -> #DIV/0! | R81: =IF(O81<5,0,IF(O81<9,3,IF(O81<13,6,IF(O81<17,9,IF(O81<21,12,IF(O81>=21,15,99)))))) -> #DIV/0! | S81: =IF(P81=0,0,IF(P81<2,5,IF(P81<4,10,IF(P81<6,15,IF(P81<8,20,IF(P81>=8,25,99)))))) -> #DIV/0! | T81: =IF(Q81=0,0,IF(Q81<2,10,IF(Q81<3,20,IF(Q81<4,30,IF(Q81<5,40,IF(Q81>=5,50,99)))))) -> #DIV/0! | U81: =SUM(R81:T81) -> #DIV/0! | V81: =IF(U81<10,"F",IF(AND(U81<19,U81>10),"E",IF(AND(U81<=29,U81>20),"D",IF(AND(U81<=49,U81>30),"C",IF(AND(U81<=69,U81>50),"B",IF(U81>=70,"A",99)))))) -> #DIV/0!
... B132: =Report_from_Debbie!B129 -> 0 | D132: {=INDEX($A$3:$A$154, MATCH(0, COUNTIF($D$2:D131,$A$3:A$154), 0))} -> #N/A | F132: =AVERAGEIF(Report_from_Debbie!$A129:$A289,$D132,Report_from_Debbie!E129:E289) -> #DIV/0! | G132: =AVERAGEIF(Report_from_Debbie!$A129:$A289,$D132,Report_from_Debbie!F129:F289) -> #DIV/0! | H132: =AVERAGEIF(Report_from_Debbie!$A129:$A289,$D132,Report_from_Debbie!G129:G289) -> #DIV/0! | N132: {=INDEX($B$3:$B$154, MATCH(0, COUNTIF($N$2:N131,$B$3:B$154), 0))} -> #N/A | O132: =AVERAGEIF(Report_from_Debbie!$B129:$B289,$N132,Report_from_Debbie!E129:E289) -> #DIV/0! | P132: =AVERAGEIF(Report_from_Debbie!$B129:$B289,$N132,Report_from_Debbie!F129:F289) -> #DIV/0! | Q132: =AVERAGEIF(Report_from_Debbie!$B129:$B289,$N132,Report_from_Debbie!G129:G289) -> #DIV/0! | R132: =IF(O132<5,0,IF(O132<9,3,IF(O132<13,6,IF(O132<17,9,IF(O132<21,12,IF(O132>=21,15,99)))))) -> #DIV/0! | S132: =IF(P132=0,0,IF(P132<2,5,IF(P132<4,10,IF(P132<6,15,IF(P132<8,20,IF(P132>=8,25,99)))))) -> #DIV/0! | T132: =IF(Q132=0,0,IF(Q132<2,10,IF(Q132<3,20,IF(Q132<4,30,IF(Q132<5,40,IF(Q132>=5,50,99)))))) -> #DIV/0! | U132: =SUM(R132:T132) -> #DIV/0! | V132: =IF(U132<10,"F",IF(AND(U132<19,U132>10),"E",IF(AND(U132<=29,U132>20),"D",IF(AND(U132<=49,U132>30),"C",IF(AND(U132<=69,U132>50),"B",IF(U132>=70,"A",99)))))) -> #DIV/0!

Sheet Report_from_Debbie
B1: **COPY AND PASTE THE REPORT FROM ACCESS INTO THE CELLS BELOW**** | H1: =NOW() -> 44320.622
A2: *Do not change this column formula*
A3: Site ID for report | B3: RESOURCE_ID | C3: Observation_Location | D3: Observation_Date | E3: Total_Taxa | F3: EPT_Families | G3: #_PSensitive_Organisms
A4: =CONCATENATE(B4,"-",C4) -> Boyne River-Dobleski Rd | B4: Boyne River | C4: Dobleski Rd | D4: 44093 | E4: 24 | F4: 12 | G4: 7 | H4: 110
A5: =CONCATENATE(B5,"-",C5) -> Eastport Creek-Farrell Rd | B5: Eastport Creek | C5: Farrell Rd | D5: 44103 | E5: 20 | F5: 7 | G5: 2 | H5: 116
A6: =CONCATENATE(B6,"-",C6) -> Eastport Creek-M-88 | B6: Eastport Creek | C6: M-88 | D6: 44103 | E6: 13 | F6: 5 | G6: 2 | H6: 89
A7: =CONCATENATE(B7,"-",C7) -> Pigeon River-Sturgeon Valley Rd | B7: Pigeon River | C7: Sturgeon Valley Rd | D7: 44086 | E7: 26 | F7: 15 | G7: 11 | H7: 111
A8: =CONCATENATE(B8,"-",C8) -> Bear River-Walloon Lake Village | B8: Bear River | C8: Walloon Lake Village | D8: 44093 | E8: 4 | F8: 2 | G8: 0 | H8: 7
A9: =CONCATENATE(B9,"-",C9) -> Springbrook Creek-Springbrook Rd | B9: Springbrook Creek | C9: Springbrook Rd | D9: 44093 | E9: 9 | F9: 6 | G9: 2 | H9: 25
A10: =CONCATENATE(B10,"-",C10) -> Stover Creek-Irish Boat Yard | B10: Stover Creek | C10: Irish Boat Yard | D10: 44104 | E10: 7 | F10: 2 | G10: 1 | H10: 41
A11: =CONCATENATE(B11,"-",C11) -> Stover Creek-Brookside Cemetary | B11: Stover Creek | C11: Brookside Cemetary | D11: 44104 | E11: 15 | F11: 6 | G11: 2 | H11: 69
A12: =CONCATENATE(B12,"-",C12) -> Pigeon River-Webb Rd | B12: Pigeon River | C12: Webb Rd | D12: 44089 | E12: 23 | F12: 14 | G12: 9 | H12: 116
A13: =CONCATENATE(B13,"-",C13) -> Boyne River-Thumb Lake Rd | B13: Boyne River | C13: Thumb Lake Rd | D13: 44093 | E13: 14 | F13: 8 | G13: 5 | H13: 76
A14: =CONCATENATE(B14,"-",C14) -> -
A15: =CONCATENATE(B15,"-",C15) -> -
A16: =CONCATENATE(B16,"-",C16) -> -
A17: =CONCATENATE(B17,"-",C17) -> -
A18: =CONCATENATE(B18,"-",C18) -> -
A19: =CONCATENATE(B19,"-",C19) -> -
A20: =CONCATENATE(B20,"-",C20) -> -
A21: =CONCATENATE(B21,"-",C21) -> -
A22: =CONCATENATE(B22,"-",C22) -> -
A23: =CONCATENATE(B23,"-",C23) -> -
A24: =CONCATENATE(B24,"-",C24) -> -
A25: =CONCATENATE(B25,"-",C25) -> -
... A54: =CONCATENATE(B54,"-",C54) -> -

Sheet Charts and Graphs
A1: Stream | B1: Grade
A2: =Specific_Annual_Report!N3 -> Boyne River | B2: =Specific_Annual_Report!V3 -> A | D2: A | E2: =COUNTIF(B2:B19, D2) -> 2
A3: =Specific_Annual_Report!N4 -> Eastport Creek | B3: =Specific_Annual_Report!V4 -> C | D3: B | E3: =COUNTIF(B3:B20, D3) -> 0
A4: =Specific_Annual_Report!N5 -> Pigeon River | B4: =Specific_Annual_Report!V5 -> A | D4: C | E4: =COUNTIF(B4:B21, D4) -> 2
A5: =Specific_Annual_Report!N6 -> Bear River | B5: =Specific_Annual_Report!V6 -> 99 | D5: D | E5: =COUNTIF(B5:B22, D5) -> 0
A6: =Specific_Annual_Report!N7 -> Springbrook Creek | B6: =Specific_Annual_Report!V7 -> C | D6: E | E6: =COUNTIF(B6:B23, D6) -> 0
A7: =Specific_Annual_Report!N8 -> Stover Creek | B7: =Specific_Annual_Report!V8 -> C
A8: =Specific_Annual_Report!N10 -> #REF! | B8: =Specific_Annual_Report!V10 -> #DIV/0!
A9: =Specific_Annual_Report!N11 -> #N/A | B9: =Specific_Annual_Report!V11 -> #DIV/0!
A10: =Specific_Annual_Report!N12 -> #N/A | B10: =Specific_Annual_Report!V12 -> #DIV/0!
A11: =Specific_Annual_Report!N13 -> #N/A | B11: =Specific_Annual_Report!V13 -> #DIV/0!
A12: =Specific_Annual_Report!N14 -> #N/A | B12: =Specific_Annual_Report!V14 -> #DIV/0!
A13: =Specific_Annual_Report!N15 -> #N/A | B13: =Specific_Annual_Report!V15 -> #DIV/0!
A14: =Specific_Annual_Report!N16 -> #N/A | B14: =Specific_Annual_Report!V16 -> #DIV/0!
A15: =Specific_Annual_Report!N17 -> #N/A | B15: =Specific_Annual_Report!V17 -> #DIV/0!
A16: =Specific_Annual_Report!N18 -> #N/A | B16: =Specific_Annual_Report!V18 -> #DIV/0!
A17: =Specific_Annual_Report!N19 -> #N/A | B17: =Specific_Annual_Report!V19 -> #DIV/0!
A18: =Specific_Annual_Report!N20 -> #N/A | B18: =Specific_Annual_Report!V20 -> #DIV/0!
A19: =Specific_Annual_Report!N21 -> #N/A | B19: =Specific_Annual_Report!V21 -> #DIV/0!

Sheet ESRI_MAPINFO_SHEET
