Workbook

Sheet Metadata_Formulas_for_score
A1: Formulas for TOMWC Diversity Indices
A2: Points are assigned based on the number of taxa in each index (Total Diversity, EPT, Sensitive):
A4: Total Diversity = total number of DIFFERENT families identified in a sample | B4: # Taxa | C4: Points
A5: Total diversity | B5: 0 to <5 | C5: 0
A6: Total diversity | B6: 5 to <10 | C6: 3
A7: Total diversity | B7: 10 to <15 | C7: 5
A8: Total diversity | B8: 15 to <17 | C8: 10
A9: Total diversity | B9: 17 to <20 | C9: 15
A10: Total diversity | B10: 20+ | C10: 20
A11: EPT = total number of taxa from Ephemeroptera, Plecoptera, and Tricoptera | B11: # Taxa | C11: Points
A12: EPT | B12: 0 | C12: 0
A13: EPT | B13: >0 to <2 | C13: 5
A14: EPT | B14: 2 to <4 | C14: 10
A15: EPT | B15: 4 to <6 | C15: 15
A16: EPT | B16: 6 to <8 | C16: 20
A17: EPT | B17: 8+ | C17: 30
A18: Sensitive = total number of "sensitive" taxa as identified by Hilsenhoff and IBI | B18: # Taxa | C18: Points
A19: Sensitive | B19: 0 | C19: 0
A20: Sensitive | B20: 0 to <2 | C20: 10
A21: Sensitive | B21: 2 to <3 | C21: 20
A22: Sensitive | B22: 3 to <4 | C22: 30 | E22: EXAMPLE:
A23: Sensitive | B23: 4 to <5 | C23: 40 | E23: An example of formulas used to calculate this grade is below, for the Bear River sites. They earned a 62.5, which is a B.
A24: Sensitive | B24: 5+ | C24: 50
A25: Then, points are summed and assigned a grade. | E25: Stream Name | F25: Site Location | G25: Total Taxa Avg. | H25: EPT Taxa Avg. | I25: Sens Taxa Avg. | J25: Total Score | K25: EPT Score | L25: Sensitive Score | M25: TOTAL | N25: Average for Stream | O25: Grade | P25: Range
A26: 70+ | B26: A | E26: Bear River | F26: Bear River Rd | G26: 19.1875 | H26: 8.1875 | I26: 3.125 | J26: =IF(G26<5,0,IF(G26<10,3,IF(G26<15,5,IF(G26<17,10,IF(G26<20,15,IF(G26>=20,20,99)))))) -> 15 | K26: =IF(H26=0,0,IF(H26<2,5,IF(H26<4,10,IF(H26<6,15,IF(H26<8,20,IF(H26>=8,30,99)))))) -> 30 | L26: =IF(I26=0,0,IF(I26<2,10,IF(I26<3,20,IF(I26<4,30,IF(I26<5,40,IF(I26>=5,50,99)))))) -> 30 | M26: =SUM(J26:L26) -> 75
A27: 50-69 | B27: B | E27: Bear River | F27: Mineral Well | G27: 13.75 | H27: 5.9375 | I27: 2.25 | J27: =IF(G27<5,0,IF(G27<10,3,IF(G27<15,5,IF(G27<17,10,IF(G27<20,15,IF(G27>=20,20,99)))))) -> 5 | K27: =IF(H27=0,0,IF(H27<2,5,IF(H27<4,10,IF(H27<6,15,IF(H27<8,20,IF(H27>=8,30,99)))))) -> 15 | L27: =IF(I27=0,0,IF(I27<2,10,IF(I27<3,20,IF(I27<4,30,IF(I27<5,40,IF(I27>=5,50,99)))))) -> 20 | M27: =SUM(J27:L27) -> 40
A28: 30-49 | B28: C | E28: Bear River | F28: Springbrook | G28: 20.636364 | H28: 10.818182 | I28: 4.7272727 | J28: =IF(G28<5,0,IF(G28<10,3,IF(G28<15,5,IF(G28<17,10,IF(G28<20,15,IF(G28>=20,20,99)))))) -> 20 | K28: =IF(H28=0,0,IF(H28<2,5,IF(H28<4,10,IF(H28<6,15,IF(H28<8,20,IF(H28>=8,30,99)))))) -> 30 | L28: =IF(I28=0,0,IF(I28<2,10,IF(I28<3,20,IF(I28<4,30,IF(I28<5,40,IF(I28>=5,50,99)))))) -> 40 | M28: =SUM(J28:L28) -> 90
A29: 20-29 | B29: D | E29: Bear River | F29: Walloon Lake | G29: 16.333333 | H29: 4.3333333 | I29: 2 | J29: =IF(G29<5,0,IF(G29<10,3,IF(G29<15,5,IF(G29<17,10,IF(G29<20,15,IF(G29>=20,20,99)))))) -> 10 | K29: =IF(H29=0,0,IF(H29<2,5,IF(H29<4,10,IF(H29<6,15,IF(H29<8,20,IF(H29>=8,30,99)))))) -> 15 | L29: =IF(I29=0,0,IF(I29<2,10,IF(I29<3,20,IF(I29<4,30,IF(I29<5,40,IF(I29>=5,50,99)))))) -> 20 | M29: =SUM(J29:L29) -> 45 | N29: =AVERAGE(M26:M29) -> 62.5 | O29: B | P29: C-A
A30: 10-19 | B30: E
A31: <10 | B31: F
A33: For example, if a stream has Total Taxa = 18, EPT = 5, and Sensitive = 3, it would get a score of 15+15+30=60, earning a B grade.

Sheet Master_datasheet
A1: Stream Name | B1: Site Location | C1: Site ID | D1: SiteNumGIS | E1: Total Taxa AVG | F1: EPT AVG | G1: Sensitive AVG | H1: Total Taxa 9-2005 | I1: Total Taxa 5-2006 | J1: Total Taxa 9-2006 | K1: Total Taxa 5-2007 | L1: Total Taxa 9-2007 | M1: Total Taxa 5-2008 | N1: Total Taxa 9-2008 | O1: Total Taxa 5-2009 | P1: Total Taxa 9-2009 | Q1: Total Taxa 5-2010 | R1: Total Taxa 9-2010 | S1: Total Taxa 5-2011 | T1: Total Taxa 9-2011 | U1: Total Taxa 5-2012 | V1: Total Taxa 9-2012 | W1: Total Taxa 5-2013 | X1: Total Taxa 9-2013 | Y1: Total Taxa 5-2014 | Z1: Total Taxa 9-2014 | AA1: Total Taxa 5-2015 | AB1: Total Taxa 9-2015 | AC1: Total Taxa 5-2016 | AD1: Total Taxa 9-2016 | AE1: Total Taxa 5-2017 | AF1: Total Taxa 9-2017 | AG1: Total Taxa 5-2018 | AH1: Total Taxa 9-2018 | AI1: Total Taxa 5-2019 | AJ1: Total Taxa 9-2019 | AK1: Total Taxa 5-2020 | AL1: Total Taxa 9-2020 | AM1: EPT Taxa 9-2005 | AN1: EPT Taxa 5-2006 | AO1: EPT Taxa 9-2006 | AP1: EPT Taxa 5-2007 | AQ1: EPT Taxa 9-2007 | AR1: EPT Taxa 5-2008 | AS1: EPT Taxa 9-2008 | AT1: EPT Taxa 5-2009 | AU1: EPT Taxa 9-2009 | AV1: EPT Taxa 5-2010 | AW1: EPT Taxa 9-2010 | AX1: EPT Taxa 5-2011 | AY1: EPT Taxa 9-2011 | AZ1: EPT Taxa 5-2012 | BA1: EPT Taxa 9-2012 | BB1: EPT Taxa 5-2013 | BC1: EPT Taxa 9-2013 | BD1: EPT Taxa 5-2014 | BE1: EPT Taxa 9-2014 | BF1: EPT Taxa 5-2015 | BG1: EPT Taxa 9-2015 | BH1: EPT Taxa 5-2016 | BI1: EPT Taxa 9-2016 | BJ1: EPT Taxa 5-2017 | BK1: EPT Taxa 9-2017 | BL1: EPT Taxa 5-2018 | BM1: EPT Taxa 9-2018 | BN1: EPT Taxa 5-2019 | BO1: EPT Taxa 9-2019 | BP1: EPT Taxa 5-2020 | BQ1: EPT Taxa 9-2020 | BR1: Sens Taxa 9-2005 | BS1: Sens Taxa 5-2006 | BT1: Sens Taxa 9-2006 | BU1: Sens Taxa 5-2007 | BV1: Sens Taxa 9-2007 | BW1: Sens Taxa 5-2008 | BX1: Sens Taxa 9-2008 | BY1: Sens Taxa 5-2009 | BZ1: Sens Taxa 9-2009 | CA1: Sens Taxa 5-2010 | CB1: Sens Taxa 9-2010 | CC1: Sens Taxa 5-2011 | CD1: Sens Taxa 9-2011 | CE1: Sens Taxa 5-2012 | CF1: Sens Taxa 9-2012 | CG1: Sens Taxa 5-2013 | CH1: Sens Taxa 9-2013 | CI1: Sens Taxa 5-2014 | CJ1: Sens Taxa 9-2014 | CK1: Sens Taxa 5-2015 | CL1: Sens Taxa 9-2015 | CM1: Sens Taxa 5-2016 | CN1: Sens Taxa 9-2016 | CO1: Sens Taxa 5-2017 | CP1: Sens Taxa 9-2017 | CQ1: Sens Taxa 5-2018 | CR1: Sens Taxa 9-2018 | CS1: Sens Taxa 5-2019 | CT1: Sens Taxa 9-2019 | CU1: Sens Taxa 5-2020 | CV1: Sens Taxa 9-2020
A2: Bear River | B2: Mineral Well Park | C2: =CONCATENATE(A2,"-",B2) -> Bear River-Mineral Well Park | D2: 1 | E2: =AVERAGE(H2:AL2) -> 13.217391 | F2: =AVERAGE(AM2:BQ2) -> 5.826087 | G2: =AVERAGE(BR2:CV2) -> 2.2173913 | H2: ND | I2: 19 | J2: 13 | K2: 11 | L2: 14 | M2: 11 | N2: 10 | O2: 19 | P2: 17 | Q2: 17 | R2: 16 | S2: 13 | T2: 13 | U2: 14 | V2: 11 | W2: 12 | X2: 10 | Y2: 12 | Z2: 16 | AA2: 16 | AB2: ND | AC2: 11 | AD2: 11 | AE2: 12 | AF2: ND | AI2: 6 | AJ2: ND | AM2: ND | AN2: 7 | AO2: 6 | AP2: 5 | AQ2: 6 | AR2: 6 | AS2: 5 | AT2: 7 | AU2: 7 | AV2: 5 | AW2: 7 | AX2: 5 | AY2: 7 | AZ2: 6 | BA2: 6 | BB2: 5 | BC2: 5 | BD2: 7 | BE2: 6 | BF2: 8 | BG2: ND | BH2: 5 | BI2: 5 | BJ2: 6 | BK2: ND | BN2: 2 | BO2: ND | BR2: ND | BS2: 4 | BT2: 2 | BU2: 3 | BV2: 4 | BW2: 2 | BX2: 2 | BY2: 1 | BZ2: 3 | CA2: 2 | CB2: 2 | CC2: 2 | CD2: 1 | CE2: 2 | CF2: 2 | CG2: 2 | CH2: 2 | CI2: 2 | CJ2: 2 | CK2: 3 | CL2: ND | CM2: 3 | CN2: 2 | CO2: 2 | CP2: ND | CS2: 1 | CT2: ND
A3: Bear River | B3: Bear River Road | C3: =CONCATENATE(A3,"-",B3) -> Bear River-Bear River Road | D3: 2 | E3: =AVERAGE(H3:AL3) -> 17.391304 | F3: =AVERAGE(AM3:BQ3) -> 7.4782609 | G3: =AVERAGE(BR3:CV3) -> 2.7826087 | H3: ND | I3: 25 | J3: 26 | K3: 13 | L3: 20 | M3: 25 | N3: 16 | O3: 18 | P3: 23 | Q3: 16 | R3: 18 | S3: 19 | T3: 19 | U3: 18 | V3: 17 | W3: 16 | X3: 18 | Y3: 12 | Z3: 14 | AA3: 12 | AB3: ND | AC3: 14 | AD3: 16 | AE3: 19 | AF3: ND | AI3: 6 | AJ3: ND | AM3: ND | AN3: 11 | AO3: 9 | AP3: 4 | AQ3: 10 | AR3: 12 | AS3: 9 | AT3: 8 | AU3: 11 | AV3: 7 | AW3: 6 | AX3: 9 | AY3: 9 | AZ3: 8 | BA3: 4 | BB3: 8 | BC3: 6 | BD3: 6 | BE3: 6 | BF3: 5 | BG3: ND | BH3: 8 | BI3: 6 | BJ3: 8 | BK3: ND | BN3: 2 | BO3: ND | BR3: ND | BS3: 5 | BT3: 4 | BU3: 1 | BV3: 5 | BW3: 5 | BX3: 6 | BY3: 2 | BZ3: 7 | CA3: 2 | CB3: 3 | CC3: 2 | CD3: 3 | CE3: 1 | CF3: 1 | CG3: 2 | CH3: 1 | CI3: 2 | CJ3: 2 | CK3: 1 | CL3: ND | CM3: 1 | CN3: 6 | CO3: 2 | CP3: ND | CS3: 0 | CT3: ND
A4: Bear River | B4: Walloon Lake Village | C4: =CONCATENATE(A4,"-",B4) -> Bear River-Walloon Lake Village | D4: 3 | E4: =AVERAGE(H4:AL4) -> 16.647059 | F4: =AVERAGE(AM4:BQ4) -> 4.4705882 | G4: =AVERAGE(BR4:CV4) -> 2.5882353 | H4: ND | I4: ND | J4: ND | K4: 18 | L4: 17 | M4: ND | N4: 20 | O4: ND | P4: ND | Q4: 18 | R4: 16 | S4: 14 | T4: 14 | U4: 13 | V4: 18 | W4: 19 | X4: 18 | Y4: 23 | Z4: 14 | AA4: 16 | AB4: 22 | AC4: 19 | AD4: ND | AE4: ND | AF4: ND | AI4: ND | AJ4: 4 | AL4: sampled, not enough indviduals | AM4: ND | AN4: ND | AO4: ND | AP4: 5 | AQ4: 3 | AR4: ND | AS4: 5 | AT4: ND | AU4: ND | AV4: 3 | AW4: 4 | AX4: 6 | AY4: 2 | AZ4: 5 | BA4: 3 | BB4: 8 | BC4: 4 | BD4: 9 | BE4: 3 | BF4: 5 | BG4: 3 | BH4: 7 | BI4: ND | BJ4: ND | BK4: ND | BO4: 1 | BQ4: sampled, not enough indviduals | BR4: ND | BS4: ND | BT4: ND | BU4: 3 | BV4: 1 | BW4: ND | BX4: 2 | BY4: ND | BZ4: ND | CA4: 1 | CB4: 1 | CC4: 4 | CD4: 1 | CE4: 2 | CF4: 1 | CG4: 4 | CH4: 2 | CI4: 8 | CJ4: 3 | CK4: 3 | CL4: 2 | CM4: 5 | CN4: ND | CO4: ND | CP4: ND | CS4: ND | CT4: 1 | CV4: sampled, not enough indviduals
A5: Berry Creek | B5: Banwell Rd. | C5: =CONCATENATE(A5,"-",B5) -> Berry Creek-Banwell Rd. | D5: 4 | E5: =AVERAGE(H5:AL5) -> 11 | F5: =AVERAGE(AM5:BQ5) -> 8 | G5: =AVERAGE(BR5:CV5) -> 4 | AI5: 11 | AJ5: ND | BN5: 8 | BO5: ND | CS5: 4 | CT5: ND
A6: Bessey Creek | B6: Ingleside Road | C6: =CONCATENATE(A6,"-",B6) -> Bessey Creek-Ingleside Road | D6: 5 | E6: =AVERAGE(H6:AL6) -> 14.666667 | F6: =AVERAGE(AM6:BQ6) -> 3 | G6: =AVERAGE(BR6:CV6) -> 5 | AC6: ND | AD6: ND | AE6: 16 | AF6: ND | AH6: 13 | AJ6: 15 | BH6: ND | BI6: ND | BJ6: 4 | BK6: ND | BM6: 2 | BO6: 3 | CM6: ND | CN6: ND | CO6: 3 | CP6: ND | CR6: 11 | CS6: ND | CT6: 1
A7: Boyne River | B7: Old City Park | C7: =CONCATENATE(A7,"-",B7) -> Boyne River-Old City Park | D7: 6 | E7: =AVERAGE(H7:AL7) -> 14.08 | F7: =AVERAGE(AM7:BQ7) -> 7.44 | G7: =AVERAGE(BR7:CV7) -> 3.76 | H7: 19 | I7: 20 | J7: 10 | K7: 12 | L7: 11 | M7: ND | N7: 17 | O7: 13 | P7: 17 | Q7: 17 | R7: 18 | S7: 16 | T7: 20 | U7: 17 | V7: ND | W7: 17 | X7: 13 | Y7: 17 | Z7: 10 | AA7: 15 | AB7: 13 | AC7: ND | AD7: 12 | AE7: 7 | AF7: 12 | AG7: 8 | AH7: 14 | AI7: 7 | AJ7: ND | AM7: 11 | AN7: 12 | AO7: 8 | AP7: 8 | AQ7: 8 | AR7: ND | AS7: 6 | AT7: 8 | AU7: 6 | AV7: 9 | AW7: 8 | AX7: 7 | AY7: 12 | AZ7: 9 | BA7: ND | BB7: 11 | BC7: 5 | BD7: 10 | BE7: 6 | BF7: 8 | BG7: 4 | BH7: ND | BI7: 7 | BJ7: 3 | BK7: 4 | BL7: 6 | BM7: 7 | BN7: 3 | BO7: ND | BR7: 5 | BS7: 6 | BT7: 4 | BU7: 3 | BV7: 4 | BW7: ND | BX7: 4 | BY7: 6 | BZ7: 4 | CA7: 5 | CB7: 5 | CC7: 6 | CD7: 9 | CE7: 4 | CF7: ND | CG7: 4 | CH7: 3 | CI7: 6 | CJ7: 2 | CK7: 4 | CL7: 1 | CM7: ND | CN7: 4 | CO7: 1 | CP7: 1 | CQ7: 1 | CR7: 1 | CS7: 1 | CT7: ND
A8: Black River | B8: Tin Shanty Bridge | C8: =CONCATENATE(A8,"-",B8) -> Black River-Tin Shanty Bridge | D8: 6 | E8: =AVERAGE(H8:AL8) -> 27.5 | F8: =AVERAGE(AM8:BQ8) -> 12.75 | G8: =AVERAGE(BR8:CV8) -> 8.25 | AG8: 27 | AH8: 23 | AI8: 24 | AJ8: 36 | BL8: 13 | BM8: 11 | BN8: 12 | BO8: 15 | CQ8: 8 | CR8: 8 | CS8: 7 | CT8: 10
A9: Black River | B9: Barber Bridge | C9: =CONCATENATE(A9,"-",B9) -> Black River-Barber Bridge | D9: 7 | E9: =AVERAGE(H9:AL9) -> 31.25 | F9: =AVERAGE(AM9:BQ9) -> 12.25 | G9: =AVERAGE(BR9:CV9) -> 8 | AG9: 18 | AH9: 49 | AI9: 28 | AJ9: 30 | BL9: 10 | BM9: 10 | BN9: 14 | BO9: 15 | CQ9: 8 | CR9: 5 | CS9: 7 | CT9: 12
A10: Boyne River | B10: Dobleski Road | C10: =CONCATENATE(A10,"-",B10) -> Boyne River-Dobleski Road | D10: 9 | E10: =AVERAGE(H10:AL10) -> 15.62069 | F10: =AVERAGE(AM10:BQ10) -> 9.3793103 | G10: =AVERAGE(BR10:CV10) -> 5.1034483 | H10: 15 | I10: 19 | J10: 14 | K10: 16 | L10: 12 | M10: ND | N10: 15 | O10: 10 | P10: 21 | Q10: 16 | R10: 17 | S10: 16 | T10: 16 | U10: 14 | V10: 15 | W10: 16 | X10: 23 | Y10: 15 | Z10: 18 | AA10: 19 | AB10: 12 | AC10: 9 | AD10: 19 | AE10: 11 | AF10: 19 | AG10: 13 | AH10: 14 | AI10: 10 | AJ10: 15 | AL10: 24 | AM10: 10 | AN10: 11 | AO10: 9 | AP10: 10 | AQ10: 8 | AR10: ND | AS10: 11 | AT10: 7 | AU10: 12 | AV10: 9 | AW10: 10 | AX10: 10 | AY10: 10 | AZ10: 9 | BA10: 10 | BB10: 8 | BC10: 13 | BD10: 8 | BE10: 10 | BF10: 10 | BG10: 9 | BH10: 6 | BI10: 9 | BJ10: 8 | BK10: 10 | BL10: 8 | BM10: 9 | BN10: 8 | BO10: 8 | BQ10: 12 | BR10: 5 | BS10: 7 | BT10: 4 | BU10: 5 | BV10: 5 | BW10: ND | BX10: 6 | BY10: 4 | BZ10: 7 | CA10: 7 | CB10: 6 | CC10: 7 | CD10: 4 | CE10: 5 | CF10: 5 | CG10: 4 | CH10: 8 | CI10: 4 | CJ10: 7 | CK10: 6 | CL10: 5 | CM10: 2 | CN10: 5 | CO10: 5 | CP10: 3 | CQ10: 3 | CR10: 5 | CS10: 3 | CT10: 4 | CV10: 7
A11: Boyne River | B11: Dam Road | C11: =CONCATENATE(A11,"-",B11) -> Boyne River-Dam Road | D11: 10 | E11: =AVERAGE(H11:AL11) -> 16.125 | F11: =AVERAGE(AM11:BQ11) -> 8.5416667 | G11: =AVERAGE(BR11:CV11) -> 5.0416667 | H11: ND | I11: ND | J11: ND | K11: ND | L11: 19 | M11: 20 | N11: 21 | O11: 16 | P11: 14 | Q11: 17 | R11: 16 | S11: 17 | T11: 10 | U11: 17 | V11: 16 | W11: 16 | X11: 16 | Y11: ND | Z11: 20 | AA11: 12 | AB11: 17 | AC11: 12 | AD11: 17 | AE11: 18 | AF11: 19 | AG11: 20 | AH11: 10 | AI11: 13 | AJ11: 14 | AM11: ND | AN11: ND | AO11: ND | AP11: ND | AQ11: 9 | AR11: 12 | AS11: 11 | AT11: 9 | AU11: 8 | AV11: 8 | AW11: 8 | AX11: 8 | AY11: 6 | AZ11: 9 | BA11: 12 | BB11: 9 | BC11: 10 | BD11: ND | BE11: 9 | BF11: 6 | BG11: 10 | BH11: 5 | BI11: 7 | BJ11: 10 | BK11: 8 | BL11: 10 | BM11: 5 | BN11: 8 | BO11: 8 | BR11: ND | BS11: ND | BT11: ND | BU11: ND | BV11: 6 | BW11: 6 | BX11: 7 | BY11: 4 | BZ11: 4 | CA11: 3 | CB11: 5 | CC11: 4 | CD11: 4 | CE11: 3 | CF11: 6 | CG11: 4 | CH11: 9 | CI11: ND | CJ11: 8 | CK11: 3 | CL11: 6 | CM11: 2 | CN11: 5 | CO11: 4 | CP11: 7 | CQ11: 8 | CR11: 4 | CS11: 4 | CT11: 5
A12: Boyne River | B12: North Branch Preserve | C12: =CONCATENATE(A12,"-",B12) -> Boyne River-North Branch Preserve | D12: 11 | E12: =AVERAGE(H12:AL12) -> 16.833333 | F12: =AVERAGE(AM12:BQ12) -> 8.625 | G12: =AVERAGE(BR12:CV12) -> 4.75 | H12: ND | I12: ND | J12: ND | K12: ND | L12: 17 | M12: 24 | N12: 26 | O12: 8 | P12: 21 | Q12: 17 | R12: ND | S12: 16 | T12: 12 | U12: 13 | V12: 18 | W12: 16 | X12: 14 | Y12: ND | Z12: 14 | AA12: 13 | AB12: 19 | AC12: 21 | AD12: 24 | AE12: 21 | AF12: 23 | AG12: 13 | AH12: 18 | AI12: 10 | AJ12: 12 | AL12: 14 | AM12: ND | AN12: ND | AO12: ND | AP12: ND | AQ12: 7 | AR12: 14 | AS12: 14 | AT12: 5 | AU12: 11 | AV12: 12 | AW12: ND | AX12: 7 | AY12: 5 | AZ12: 6 | BA12: 11 | BB12: 8 | BC12: 8 | BD12: ND | BE12: 4 | BF12: 8 | BG12: 9 | BH12: 9 | BI12: 10 | BJ12: 14 | BK12: 10 | BL12: 8 | BM12: 7 | BN12: 5 | BO12: 7 | BQ12: 8 | BR12: ND | BS12: ND | BT12: ND | BU12: ND | BV12: 3 | BW12: 7 | BX12: 6 | BY12: 3 | BZ12: 7 | CA12: 6 | CB12: ND | CC12: 4 | CD12: 3 | CE12: 3 | CF12: 6 | CG12: 6 | CH12: 4 | CI12: ND | CJ12: 2 | CK12: 4 | CL12: 5 | CM12: 6 | CN12: 4 | CO12: 9 | CP12: 6 | CQ12: 4 | CR12: 4 | CS12: 3 | CT12: 4 | CV12: 5
A13: Carp River | B13: Oliver Bridge Road | C13: =CONCATENATE(A13,"-",B13) -> Carp River-Oliver Bridge Road | D13: 12 | E13: =AVERAGE(H13:AL13) -> 18.2 | F13: =AVERAGE(AM13:BQ13) -> 7.4 | G13: =AVERAGE(BR13:CV13) -> 4.2 | H13: ND | I13: ND | J13: ND | K13: ND | L13: ND | M13: ND | N13: ND | O13: ND | P13: ND | Q13: ND | R13: ND | S13: ND | T13: ND | U13: ND | V13: ND | W13: 18 | X13: 24 | Y13: 15 | Z13: ND | AA13: 16 | AB13: 18 | AC13: ND | AD13: ND | AE13: ND | AF13: ND | AI13: ND | AJ13: ND | AM13: ND | AN13: ND | AO13: ND | AP13: ND | AQ13: ND | AR13: ND | AS13: ND | AT13: ND | AU13: ND | AV13: ND | AW13: ND | AX13: ND | AY13: ND | AZ13: ND | BA13: ND | BB13: 8 | BC13: 9 | BD13: 5 | BE13: ND | BF13: 6 | BG13: 9 | BH13: ND | BI13: ND | BJ13: ND | BK13: ND | BN13: ND | BO13: ND | BR13: ND | BS13: ND | BT13: ND | BU13: ND | BV13: ND | BW13: ND | BX13: ND | BY13: ND | BZ13: ND | CA13: ND | CB13: ND | CC13: ND | CD13: ND | CE13: ND | CF13: ND | CG13: 4 | CH13: 4 | CI13: 5 | CJ13: ND | CK13: 3 | CL13: 5 | CM13: ND | CN13: ND | CO13: ND | CP13: ND | CS13: ND | CT13: ND
A14: Carp River | B14: Mouth, Pointe Drive | C14: =CONCATENATE(A14,"-",B14) -> Carp River-Mouth, Pointe Drive | D14: 13 | E14: =AVERAGE(H14:AL14) -> 18.4 | F14: =AVERAGE(AM14:BQ14) -> 7 | G14: =AVERAGE(BR14:CV14) -> 4 | H14: ND | I14: ND | J14: ND | K14: ND | L14: ND | M14: ND | N14: ND | O14: ND | P14: ND | Q14: ND | R14: ND | S14: ND | T14: ND | U14: ND | V14: ND | W14: 18 | X14: 16 | Y14: 16 | Z14: ND | AA14: 19 | AB14: 23 | AC14: ND | AD14: ND | AE14: ND | AF14: ND | AI14: ND | AJ14: ND | AM14: ND | AN14: ND | AO14: ND | AP14: ND | AQ14: ND | AR14: ND | AS14: ND | AT14: ND | AU14: ND | AV14: ND | AW14: ND | AX14: ND | AY14: ND | AZ14: ND | BA14: ND | BB14: 7 | BC14: 3 | BD14: 7 | BE14: ND | BF14: 9 | BG14: 9 | BH14: ND | BI14: ND | BJ14: ND | BK14: ND | BN14: ND | BO14: ND | BR14: ND | BS14: ND | BT14: ND | BU14: ND | BV14: ND | BW14: ND | BX14: ND | BY14: ND | BZ14: ND | CA14: ND | CB14: ND | CC14: ND | CD14: ND | CE14: ND | CF14: ND | CG14: 4 | CH14: 2 | CI14: 3 | CJ14: ND | CK14: 7 | CL14: 4 | CM14: ND | CN14: ND | CO14: ND | CP14: ND | CS14: ND | CT14: ND
A15: Cedar River | B15: Cedar River Rd | C15: =CONCATENATE(A15,"-",B15) -> Cedar River-Cedar River Rd | D15: 14 | E15: =AVERAGE(H15:AL15) -> 17.333333 | F15: =AVERAGE(AM15:BQ15) -> 6.6666667 | G15: =AVERAGE(BR15:CV15) -> 5 | AC15: ND | AD15: ND | AE15: 19 | AF15: 17 | AG15: 16 | AI15: ND | AJ15: ND | BH15: ND | BI15: ND | BJ15: 8 | BK15: 5 | BL15: 7 | BN15: ND | BO15: ND | CM15: ND | CN15: ND | CO15: 6 | CP15: 3 | CQ15: 6 | CS15: ND | CT15: ND
A16: Cedar River | B16: Schuss Mountain Road | C16: =CONCATENATE(A16,"-",B16) -> Cedar River-Schuss Mountain Road | D16: 15 | E16: =AVERAGE(H16:AL16) -> 23.333333 | F16: =AVERAGE(AM16:BQ16) -> 11 | G16: =AVERAGE(BR16:CV16) -> 6 | AC16: ND | AD16: ND | AE16: 22 | AF16: 24 | AG16: 24 | AI16: ND | AJ16: ND | BH16: ND | BI16: ND | BJ16: 12 | BK16: 10 | BL16: 11 | BN16: ND | BO16: ND | CM16: ND | CN16: ND | CO16: 6 | CP16: 6 | CQ16: 6 | CS16: ND | CT16: ND
A17: Eastport Creek | B17: M-88 | C17: =CONCATENATE(A17,"-",B17) -> Eastport Creek-M-88 | D17: 16 | E17: =AVERAGE(H17:AL17) -> 17.045455 | F17: =AVERAGE(AM17:BQ17) -> 5.5909091 | G17: =AVERAGE(BR17:CV17) -> 2.0454545 | H17: 19 | I17: 22 | J17: ND | K17: 18 | L17: 15 | M17: 19 | N17: ND | O17: ND | P17: ND | Q17: ND | R17: ND | S17: 18 | T17: 17 | U17: ND | V17: 14 | W17: 16 | X17: 19 | Y17: 10 | Z17: ND | AA17: 17 | AB17: 20 | AC17: 18 | AD17: 17 | AE17: 20 | AF17: 12 | AG17: 20 | AH17: 15 | AI17: 22 | AJ17: 14 | AL17: 13 | AM17: 4 | AN17: 7 | AO17: ND | AP17: 6 | AQ17: 1 | AR17: 8 | AS17: ND | AT17: ND | AU17: ND | AV17: ND | AW17: ND | AX17: 5 | AY17: 6 | AZ17: ND | BA17: 3 | BB17: 7 | BC17: 4 | BD17: 3 | BE17: ND | BF17: 8 | BG17: 8 | BH17: 4 | BI17: 5 | BJ17: 8 | BK17: 4 | BL17: 6 | BM17: 6 | BN17: 9 | BO17: 6 | BQ17: 5 | BR17: 1 | BS17: 2 | BT17: ND | BU17: 2 | BV17: 0 | BW17: 5 | BX17: ND | BY17: ND | BZ17: ND | CA17: ND | CB17: ND | CC17: 1 | CD17: 2 | CE17: ND | CF17: 1 | CG17: 2 | CH17: 1 | CI17: 0 | CJ17: ND | CK17: 3 | CL17: 2 | CM17: 1 | CN17: 2 | CO17: 3 | CP17: 3 | CQ17: 3 | CR17: 3 | CS17: 4 | CT17: 2 | CV17: 2
A18: Eastport Creek | B18: Farrell Road | C18: =CONCATENATE(A18,"-",B18) -> Eastport Creek-Farrell Road | D18: 17 | E18: =AVERAGE(H18:AL18) -> 20.7 | F18: =AVERAGE(AM18:BQ18) -> 8.6 | G18: =AVERAGE(BR18:CV18) -> 3.75 | H18: 23 | I18: 25 | J18: ND | K18: 26 | L18: 29 | M18: 24 | N18: ND | O18: ND | P18: ND | Q18: ND | R18: ND | S18: ND | T18: 19 | U18: ND | V18: 20 | W18: 24 | X18: 25 | Y18: 14 | Z18: ND | AA18: 19 | AB18: 20 | AC18: 8 | AD18: ND | AE18: 24 | AF18: 21 | AG18: 18 | AH18: 15 | AI18: 25 | AJ18: 15 | AL18: 20 | AM18: 8 | AN18: 10 | AO18: ND | AP18: 11 | AQ18: 12 | AR18: 13 | AS18: ND | AT18: ND | AU18: ND | AV18: ND | AW18: ND | AX18: ND | AY18: 6 | AZ18: ND | BA18: 7 | BB18: 9 | BC18: 8 | BD18: 8 | BE18: ND | BF18: 9 | BG18: 8 | BH18: 4 | BI18: ND | BJ18: 9 | BK18: 10 | BL18: 8 | BM18: 6 | BN18: 10 | BO18: 9 | BQ18: 7 | BR18: 3 | BS18: 5 | BT18: ND | BU18: 5 | BV18: 5 | BW18: 7 | BX18: ND | BY18: ND | BZ18: ND | CA18: ND | CB18: ND | CC18: ND | CD18: 1 | CE18: ND | CF18: 3 | CG18: 6 | CH18: 3 | CI18: 3 | CJ18: ND | CK18: 4 | CL18: 4 | CM18: 1 | CN18: ND | CO18: 3 | CP18: 5 | CQ18: 4 | CR18: 3 | CS18: 5 | CT18: 3 | CV18: 2
A19: Horton Creek | B19: Boyne City Road | C19: =CONCATENATE(A19,"-",B19) -> Horton Creek-Boyne City Road | D19: 18 | E19: =AVERAGE(H19:AL19) -> 18.958333 | F19: =AVERAGE(AM19:BQ19) -> 10.041667 | G19: =AVERAGE(BR19:CV19) -> 5.875 | H19: 18 | I19: 18 | J19: 25 | K19: 18 | L19: 20 | M19: 25 | N19: 19 | O19: 15 | P19: 19 | Q19: 21 | R19: 21 | S19: 21 | T19: 20 | U19: 15 | V19: ND | W19: 26 | X19: ND | Y19: 17 | Z19: 20 | AA19: 13 | AB19: ND | AC19: 18 | AD19: 27 | AE19: 20 | AF19: 18 | AG19: 13 | AI19: 8 | AJ19: ND | AM19: 9 | AN19: 11 | AO19: 12 | AP19: 11 | AQ19: 10 | AR19: 15 | AS19: 8 | AT19: 10 | AU19: 12 | AV19: 12 | AW19: 11 | AX19: 11 | AY19: 9 | AZ19: 8 | BA19: ND | BB19: 15 | BC19: ND | BD19: 11 | BE19: 6 | BF19: 5 | BG19: ND | BH19: 8 | BI19: 12 | BJ19: 13 | BK19: 9 | BL19: 8 | BN19: 5 | BO19: ND | BR19: 6 | BS19: 9 | BT19: 7 | BU19: 7 | BV19: 5 | BW19: 7 | BX19: 5 | BY19: 6 | BZ19: 6 | CA19: 7 | CB19: 7 | CC19: 6 | CD19: 5 | CE19: 5 | CF19: ND | CG19: 8 | CH19: ND | CI19: 7 | CJ19: 3 | CK19: 4 | CL19: ND | CM19: 5 | CN19: 8 | CO19: 7 | CP19: 5 | CQ19: 5 | CS19: 1 | CT19: ND
A20: Horton Creek | B20: Church Road | C20: =CONCATENATE(A20,"-",B20) -> Horton Creek-Church Road | D20: 19 | E20: =AVERAGE(H20:AL20) -> 14.681818 | F20: =AVERAGE(AM20:BQ20) -> 5.2272727 | G20: =AVERAGE(BR20:CV20) -> 1.1818182 | H20: 15 | I20: 18 | J20: 13 | K20: 18 | L20: 21 | M20: 16 | N20: 15 | O20: 10 | P20: 17 | Q20: 14 | R20: 14 | S20: 12 | T20: 13 | U20: 13 | V20: ND | W20: 15 | X20: ND | Y20: ND | Z20: 11 | AA20: 7 | AB20: ND | AC20: 14 | AD20: 30 | AE20: 18 | AF20: ND | AG20: 7 | AI20: 12 | AJ20: ND | AM20: 5 | AN20: 5 | AO20: 5 | AP20: 7 | AQ20: 8 | AR20: 4 | AS20: 5 | AT20: 3 | AU20: 5 | AV20: 5 | AW20: 5 | AX20: 4 | AY20: 5 | AZ20: 4 | BA20: ND | BB20: 6 | BC20: ND | BD20: ND | BE20: 5 | BF20: 4 | BG20: ND | BH20: 5 | BI20: 9 | BJ20: 9 | BK20: ND | BL20: 4 | BN20: 3 | BO20: ND | BR20: 0 | BS20: 1 | BT20: 0 | BU20: 2 | BV20: 1 | BW20: 0 | BX20: 1 | BY20: 1 | BZ20: 1 | CA20: 1 | CB20: 2 | CC20: 1 | CD20: 1 | CE20: 0 | CF20: ND | CG20: 1 | CH20: ND | CI20: ND | CJ20: 0 | CK20: 1 | CL20: ND | CM20: 0 | CN20: 3 | CO20: 5 | CP20: ND | CQ20: 1 | CS20: 3 | CT20: ND
A21: Jordan River | B21: Webster Bridge Road | C21: =CONCATENATE(A21,"-",B21) -> Jordan River-Webster Bridge Road | D21: 20 | E21: =AVERAGE(H21:AL21) -> 20.0625 | F21: =AVERAGE(AM21:BQ21) -> 11.1875 | G21: =AVERAGE(BR21:CV21) -> 6.9375 | H21: ND | I21: ND | J21: ND | K21: 17 | L21: 28 | M21: 18 | N21: 20 | O21: 14 | P21: 23 | Q21: 20 | R21: 22 | S21: ND | T21: ND | U21: 21 | V21: 20 | W21: ND | X21: ND | Y21: 16 | Z21: 34 | AA21: ND | AB21: ND | AC21: 20 | AD21: ND | AE21: 18 | AF21: 21 | AG21: 9 | AI21: ND | AJ21: ND | AM21: ND | AN21: ND | AO21: ND | AP21: 10 | AQ21: 12 | AR21: 10 | AS21: 12 | AT21: 10 | AU21: 15 | AV21: 12 | AW21: 13 | AX21: ND | AY21: ND | AZ21: 11 | BA21: 12 | BB21: ND | BC21: ND | BD21: 12 | BE21: 13 | BF21: ND | BG21: ND | BH21: 11 | BI21: ND | BJ21: 11 | BK21: 10 | BL21: 5 | BN21: ND | BO21: ND | BR21: ND | BS21: ND | BT21: ND | BU21: 5 | BV21: 8 | BW21: 5 | BX21: 7 | BY21: 6 | BZ21: 11 | CA21: 7 | CB21: 9 | CC21: ND | CD21: ND | CE21: 7 | CF21: 7 | CG21: ND | CH21: ND | CI21: 5 | CJ21: 8 | CK21: ND | CL21: ND | CM21: 6 | CN21: ND | CO21: 8 | CP21: 8 | CQ21: 4 | CS21: ND | CT21: ND
A22: Jordan River | B22: Penny Bridge | C22: =CONCATENATE(A22,"-",B22) -> Jordan River-Penny Bridge | D22: 21 | E22: =AVERAGE(H22:AL22) -> 21 | F22: =AVERAGE(AM22:BQ22) -> 12.111111 | G22: =AVERAGE(BR22:CV22) -> 8 | H22: ND | I22: ND | J22: ND | K22: ND | L22: ND | M22: ND | N22: ND | O22: ND | P22: ND | Q22: ND | R22: ND | S22: 21 | T22: 19 | U22: ND | V22: ND | W22: 28 | X22: 25 | Y22: ND | Z22: ND | AA22: 25 | AB22: 21 | AC22: ND | AD22: ND | AE22: 22 | AF22: 17 | AG22: 11 | AI22: ND | AJ22: ND | AM22: ND | AN22: ND | AO22: ND | AP22: ND | AQ22: ND | AR22: ND | AS22: ND | AT22: ND | AU22: ND | AV22: ND | AW22: ND | AX22: 16 | AY22: 13 | AZ22: ND | BA22: ND | BB22: 14 | BC22: 14 | BD22: ND | BE22: ND | BF22: 14 | BG22: 13 | BH22: ND | BI22: ND | BJ22: 12 | BK22: 9 | BL22: 4 | BN22: ND | BO22: ND | BR22: ND | BS22: ND | BT22: ND | BU22: ND | BV22: ND | BW22: ND | BX22: ND | BY22: ND | BZ22: ND | CA22: ND | CB22: ND | CC22: 11 | CD22: 8 | CE22: ND | CF22: ND | CG22: 9 | CH22: 8 | CI22: ND | CJ22: ND | CK22: 11 | CL22: 9 | CM22: ND | CN22: ND | CO22: 9 | CP22: 5 | CQ22: 2 | CS22: ND | CT22: ND
A23: Jordan River | B23: Fair Road | C23: =CONCATENATE(A23,"-",B23) -> Jordan River-Fair Road | D23: 22 | E23: =AVERAGE(H23:AL23) -> 20.769231 | F23: =AVERAGE(AM23:BQ23) -> 10.384615 | G23: =AVERAGE(BR23:CV23) -> 5 | H23: ND | I23: ND | J23: ND | K23: 18 | L23: 23 | M23: 21 | N23: 27 | O23: 18 | P23: 23 | Q23: 18 | R23: 17 | S23: ND | T23: ND | U23: 23 | V23: 17 | W23: ND | X23: ND | Y23: 15 | Z23: 31 | AA23: ND | AB23: ND | AC23: 19 | AD23: ND | AE23: ND | AF23: ND | AI23: ND | AJ23: ND | AM23: ND | AN23: ND | AO23: ND | AP23: 11 | AQ23: 10 | AR23: 10 | AS23: 15 | AT23: 8 | AU23: 11 | AV23: 11 | AW23: 10 | AX23: ND | AY23: ND | AZ23: 9 | BA23: 10 | BB23: ND | BC23: ND | BD23: 7 | BE23: 15 | BF23: ND | BG23: ND | BH23: 8 | BI23: ND | BJ23: ND | BK23: ND | BN23: ND | BO23: ND | BR23: ND | BS23: ND | BT23: ND | BU23: 6 | BV23: 6 | BW23: 5 | BX23: 9 | BY23: 5 | BZ23: 5 | CA23: 6 | CB23: 3 | CC23: ND | CD23: ND | CE23: 3 | CF23: 4 | CG23: ND | CH23: ND | CI23: 5 | CJ23: 6 | CK23: ND | CL23: ND | CM23: 2 | CN23: ND | CO23: ND | CP23: ND | CS23: ND | CT23: ND
A24: Jordan River | B24: Rogers Road | C24: =CONCATENATE(A24,"-",B24) -> Jordan River-Rogers Road | D24: 23 | E24: =AVERAGE(H24:AL24) -> 21.142857 | F24: =AVERAGE(AM24:BQ24) -> 11 | G24: =AVERAGE(BR24:CV24) -> 6.4285714 | H24: ND | I24: ND | J24: ND | K24: ND | L24: ND | M24: ND | N24: ND | O24: ND | P24: ND | Q24: ND | R24: ND | S24: 15 | T24: 24 | U24: ND | V24: ND | W24: 23 | X24: 30 | Y24: ND | Z24: ND | AA24: 16 | AB24: 17 | AC24: ND | AD24: 23 | AE24: ND | AF24: ND | AI24: ND | AJ24: ND | AM24: ND | AN24: ND | AO24: ND | AP24: ND | AQ24: ND | AR24: ND | AS24: ND | AT24: ND | AU24: ND | AV24: ND | AW24: ND | AX24: 9 | AY24: 12 | AZ24: ND | BA24: ND | BB24: 12 | BC24: 13 | BD24: ND | BE24: ND | BF24: 8 | BG24: 12 | BH24: ND | BI24: 11 | BJ24: ND | BK24: ND | BN24: ND | BO24: ND | BR24: ND | BS24: ND | BT24: ND | BU24: ND | BV24: ND | BW24: ND | BX24: ND | BY24: ND | BZ24: ND | CA24: ND | CB24: ND | CC24: 4 | CD24: 8 | CE24: ND | CF24: ND | CG24: 8 | CH24: 7 | CI24: ND | CJ24: ND | CK24: 5 | CL24: 6 | CM24: ND | CN24: 7 | CO24: ND | CP24: ND | CS24: ND | CT24: ND
A25: Kimberly Creek | B25: Quarry Road | C25: =CONCATENATE(A25,"-",B25) -> Kimberly Creek-Quarry Road | D25: 24 | E25: =AVERAGE(H25:AL25) -> 20.473684 | F25: =AVERAGE(AM25:BQ25) -> 8 | G25: =AVERAGE(BR25:CV25) -> 4.2105263 | H25: 18 | I25: 24 | J25: 23 | K25: 28 | L25: 15 | M25: 24 | N25: ND | O25: 24 | P25: 17 | Q25: 17 | R25: 13 | S25: 26 | T25: 26 | U25: ND | V25: 20 | W25: 27 | X25: 21 | Y25: ND | Z25: 20 | AA25: ND | AB25: ND | AC25: ND | AD25: 19 | AE25: 18 | AF25: ND | AI25: 9 | AJ25: ND | AM25: 7 | AN25: 9 | AO25: 8 | AP25: 11 | AQ25: 7 | AR25: 11 | AS25: ND | AT25: 11 | AU25: 5 | AV25: 9 | AW25: 4 | AX25: 12 | AY25: 8 | AZ25: ND | BA25: 5 | BB25: 11 | BC25: 7 | BD25: ND | BE25: 7 | BF25: ND | BG25: ND | BH25: ND | BI25: 9 | BJ25: 7 | BK25: ND | BN25: 4 | BO25: ND | BR25: 3 | BS25: 5 | BT25: 4 | BU25: 5 | BV25: 4 | BW25: 6 | BX25: ND | BY25: 7 | BZ25: 2 | CA25: 4 | CB25: 3 | CC25: 5 | CD25: 4 | CE25: ND | CF25: 4 | CG25: 8 | CH25: 4 | CI25: ND | CJ25: 3 | CK25: ND | CL25: ND | CM25: ND | CN25: 3 | CO25: 2 | CP25: ND | CS25: 4 | CT25: ND
A26: Kimberly Creek | B26: Montgomery Road | C26: =CONCATENATE(A26,"-",B26) -> Kimberly Creek-Montgomery Road | D26: 25 | E26: =AVERAGE(H26:AL26) -> 20.529412 | F26: =AVERAGE(AM26:BQ26) -> 7.0588235 | G26: =AVERAGE(BR26:CV26) -> 3.2352941 | H26: 20 | I26: 18 | J26: 19 | K26: 32 | L26: 20 | M26: 30 | N26: ND | O26: 21 | P26: 18 | Q26: 20 | R26: 12 | S26: 21 | T26: 19 | U26: ND | V26: 18 | W26: 22 | X26: ND | Y26: 21 | Z26: 24 | AA26: ND | AB26: ND | AC26: ND | AD26: 14 | AE26: ND | AF26: ND | AI26: ND | AJ26: ND | AM26: 7 | AN26: 9 | AO26: 8 | AP26: 12 | AQ26: 9 | AR26: 9 | AS26: ND | AT26: 7 | AU26: 6 | AV26: 5 | AW26: 4 | AX26: 8 | AY26: 4 | AZ26: ND | BA26: 6 | BB26: 7 | BC26: ND | BD26: 8 | BE26: 7 | BF26: ND | BG26: ND | BH26: ND | BI26: 4 | BJ26: ND | BK26: ND | BN26: ND | BO26: ND | BR26: 3 | BS26: 4 | BT26: 3 | BU26: 8 | BV26: 3 | BW26: 5 | BX26: ND | BY26: 2 | BZ26: 2 | CA26: 3 | CB26: 2 | CC26: 3 | CD26: 1 | CE26: ND | CF26: 3 | CG26: 4 | CH26: ND | CI26: 5 | CJ26: 3 | CK26: ND | CL26: ND | CM26: ND | CN26: 1 | CO26: ND | CP26: ND | CS26: ND | CT26: ND
A27: Maple River | B27: Woodland Road | C27: =CONCATENATE(A27,"-",B27) -> Maple River-Woodland Road | D27: 26 | E27: =AVERAGE(H27:AL27) -> 23.333333 | F27: =AVERAGE(AM27:BQ27) -> 9.5555556 | G27: =AVERAGE(BR27:CV27) -> 3.5555556 | H27: ND | I27: ND | J27: ND | K27: ND | L27: ND | M27: ND | N27: ND | O27: ND | P27: ND | Q27: ND | R27: ND | S27: ND | T27: 34 | U27: 21 | V27: ND | W27: 25 | X27: 24 | Y27: ND | Z27: 24 | AA27: ND | AB27: 17 | AC27: 27 | AD27: ND | AE27: 20 | AF27: 18 | AI27: ND | AJ27: ND | AM27: ND | AN27: ND | AO27: ND | AP27: ND | AQ27: ND | AR27: ND | AS27: ND | AT27: ND | AU27: ND | AV27: ND | AW27: ND | AX27: ND | AY27: 12 | AZ27: 9 | BA27: ND | BB27: 11 | BC27: 11 | BD27: ND | BE27: 10 | BF27: ND | BG27: 8 | BH27: 12 | BI27: ND | BJ27: 7 | BK27: 6 | BN27: ND | BO27: ND | BR27: ND | BS27: ND | BT27: ND | BU27: ND | BV27: ND | BW27: ND | BX27: ND | BY27: ND | BZ27: ND | CA27: ND | CB27: ND | CC27: ND | CD27: 3 | CE27: 4 | CF27: ND | CG27: 4 | CH27: 3 | CI27: ND | CJ27: 3 | CK27: ND | CL27: 3 | CM27: 7 | CN27: ND | CO27: 2 | CP27: 3 | CS27: ND | CT27: ND
A28: Maple River | B28: Robinson Road | C28: =CONCATENATE(A28,"-",B28) -> Maple River-Robinson Road | D28: 27 | E28: =AVERAGE(H28:AL28) -> 20.454545 | F28: =AVERAGE(AM28:BQ28) -> 10.090909 | G28: =AVERAGE(BR28:CV28) -> 4.5454545 | H28: ND | I28: ND | J28: ND | K28: ND | L28: ND | M28: ND | N28: ND | O28: ND | P28: ND | Q28: ND | R28: ND | S28: ND | T28: 21 | U28: ND | V28: 23 | W28: 27 | X28: 30 | Y28: ND | Z28: ND | AA28: 15 | AB28: 26 | AC28: 13 | AD28: ND | AE28: 22 | AF28: 29 | AG28: 9 | AI28: 10 | AJ28: ND | AM28: ND | AN28: ND | AO28: ND | AP28: ND | AQ28: ND | AR28: ND | AS28: ND | AT28: ND | AU28: ND | AV28: ND | AW28: ND | AX28: ND | AY28: 7 | AZ28: ND | BA28: 9 | BB28: 14 | BC28: 15 | BD28: ND | BE28: ND | BF28: 7 | BG28: 9 | BH28: 8 | BI28: ND | BJ28: 11 | BK28: 16 | BL28: 6 | BN28: 9 | BO28: ND | BR28: ND | BS28: ND | BT28: ND | BU28: ND | BV28: ND | BW28: ND | BX28: ND | BY28: ND | BZ28: ND | CA28: ND | CB28: ND | CC28: ND | CD28: 4 | CE28: ND | CF28: 3 | CG28: 7 | CH28: 6 | CI28: ND | CJ28: ND | CK28: 4 | CL28: 3 | CM28: 4 | CN28: ND | CO28: 4 | CP28: 9 | CQ28: 2 | CS28: 4 | CT28: ND
A29: Maple River | B29: Pleasantview Road | C29: =CONCATENATE(A29,"-",B29) -> Maple River-Pleasantview Road | D29: 29 | E29: =AVERAGE(H29:AL29) -> 18 | F29: =AVERAGE(AM29:BQ29) -> 6.8333333 | G29: =AVERAGE(BR29:CV29) -> 1.3333333 | H29: ND | I29: ND | J29: ND | K29: ND | L29: ND | M29: ND | N29: ND | O29: ND | P29: ND | Q29: ND | R29: ND | S29: ND | T29: 11 | U29: ND | V29: 19 | W29: 24 | X29: 19 | Y29: 16 | Z29: ND | AA29: 19 | AB29: ND | AC29: ND | AD29: ND | AE29: ND | AF29: ND | AI29: ND | AJ29: ND | AM29: ND | AN29: ND | AO29: ND | AP29: ND | AQ29: ND | AR29: ND | AS29: ND | AT29: ND | AU29: ND | AV29: ND | AW29: ND | AX29: ND | AY29: 3 | AZ29: ND | BA29: 10 | BB29: 7 | BC29: 9 | BD29: 6 | BE29: ND | BF29: 6 | BG29: ND | BH29: ND | BI29: ND | BJ29: ND | BK29: ND | BN29: ND | BO29: ND | BR29: ND | BS29: ND | BT29: ND | BU29: ND | BV29: ND | BW29: ND | BX29: ND | BY29: ND | BZ29: ND | CA29: ND | CB29: ND | CC29: ND | CD29: 1 | CE29: ND | CF29: 1 | CG29: 1 | CH29: 2 | CI29: 2 | CJ29: ND | CK29: 1 | CL29: ND | CM29: ND | CN29: ND | CO29: ND | CP29: ND | CS29: ND | CT29: ND
A30: Maple River | B30: US-31 | C30: =CONCATENATE(A30,"-",B30) -> Maple River-US-31 | D30: 30 | E30: =AVERAGE(H30:AL30) -> 18 | F30: =AVERAGE(AM30:BQ30) -> 12 | G30: =AVERAGE(BR30:CV30) -> 7.5 | AG30: 20 | AI30: 16 | AJ30: ND | BL30: 14 | BN30: 10 | BO30: ND | CQ30: 8 | CS30: 7 | CT30: ND
A31: Milligan Creek | B31: M-68 | C31: =CONCATENATE(A31,"-",B31) -> Milligan Creek-M-68 | D31: 31 | E31: =AVERAGE(H31:AL31) -> 20.470588 | F31: =AVERAGE(AM31:BQ31) -> 10.294118 | G31: =AVERAGE(BR31:CV31) -> 6.8823529 | H31: ND | I31: ND | J31: ND | K31: ND | L31: ND | M31: 19 | N31: 31 | O31: 22 | P31: 23 | Q31: 15 | R31: 15 | S31: 22 | T31: ND | U31: ND | V31: 22 | W31: ND | X31: ND | Y31: 21 | Z31: 20 | AA31: 20 | AB31: ND | AC31: ND | AD31: 19 | AE31: 22 | AF31: 17 | AG31: 19 | AI31: 21 | AJ31: 20 | AM31: ND | AN31: ND | AO31: ND | AP31: ND | AQ31: ND | AR31: 11 | AS31: 12 | AT31: 13 | AU31: 11 | AV31: 6 | AW31: 6 | AX31: 11 | AY31: ND | AZ31: ND | BA31: 10 | BB31: ND | BC31: ND | BD31: 13 | BE31: 11 | BF31: 11 | BG31: ND | BH31: ND | BI31: 9 | BJ31: 11 | BK31: 10 | BL31: 10 | BN31: 12 | BO31: 8 | BR31: ND | BS31: ND | BT31: ND | BU31: ND | BV31: ND | BW31: 7 | BX31: 6 | BY31: 5 | BZ31: 8 | CA31: 4 | CB31: 4 | CC31: 8 | CD31: ND | CE31: ND | CF31: 9 | CG31: ND | CH31: ND | CI31: 7 | CJ31: 7 | CK31: 9 | CL31: ND | CM31: ND | CN31: 5 | CO31: 9 | CP31: 6 | CQ31: 8 | CS31: 8 | CT31: 7
A32: Milligan Creek | B32: Waveland Road | C32: =CONCATENATE(A32,"-",B32) -> Milligan Creek-Waveland Road | D32: 32 | E32: =AVERAGE(H32:AL32) -> 19.111111 | F32: =AVERAGE(AM32:BQ32) -> 9.6111111 | G32: =AVERAGE(BR32:CV32) -> 6.4444444 | H32: ND | I32: ND | J32: ND | K32: ND | L32: ND | M32: 9 | N32: 16 | O32: 17 | P32: 19 | Q32: 26 | R32: ND | S32: 19 | T32: ND | U32: ND | V32: 20 | W32: ND | X32: 26 | Y32: 24 | Z32: 20 | AA32: 20 | AB32: ND | AC32: ND | AD32: 16 | AE32: 20 | AF32: 17 | AG32: 21 | AH32: 21 | AI32: 11 | AJ32: 22 | AM32: ND | AN32: ND | AO32: ND | AP32: ND | AQ32: ND | AR32: 5 | AS32: 7 | AT32: 8 | AU32: 11 | AV32: 11 | AW32: ND | AX32: 13 | AY32: ND | AZ32: ND | BA32: 10 | BB32: ND | BC32: 9 | BD32: 10 | BE32: 12 | BF32: 12 | BG32: ND | BH32: ND | BI32: 8 | BJ32: 12 | BK32: 8 | BL32: 10 | BM32: 10 | BN32: 8 | BO32: 9 | BR32: ND | BS32: ND | BT32: ND | BU32: ND | BV32: ND | BW32: 4 | BX32: 3 | BY32: 5 | BZ32: 7 | CA32: 8 | CB32: ND | CC32: 8 | CD32: ND | CE32: ND | CF32: 9 | CG32: ND | CH32: 5 | CI32: 5 | CJ32: 6 | CK32: 10 | CL32: ND | CM32: ND | CN32: 6 | CO32: 7 | CP32: 6 | CQ32: 7 | CR32: 8 | CS32: 5 | CT32: 7
A33: Minnehaha Creek | B33: Pickerel Lake Road | C33: =CONCATENATE(A33,"-",B33) -> Minnehaha Creek-Pickerel Lake Road | D33: 33 | E33: =AVERAGE(H33:AL33) -> 13 | F33: =AVERAGE(AM33:BQ33) -> 7.8 | G33: =AVERAGE(BR33:CV33) -> 3.6 | AC33: ND | AD33: ND | AE33: 16 | AF33: 17 | AG33: 12 | AI33: 7 | AJ33: 13 | BH33: ND | BI33: ND | BJ33: 10 | BK33: 10 | BL33: 7 | BN33: 2 | BO33: 10 | CM33: ND | CN33: ND | CO33: 5 | CP33: 4 | CQ33: 4 | CS33: 1 | CT33: 4
A34: Minnehaha Creek | B34: Maxwell Road | C34: =CONCATENATE(A34,"-",B34) -> Minnehaha Creek-Maxwell Road | D34: 34 | E34: =AVERAGE(H34:AL34) -> 14.333333 | F34: =AVERAGE(AM34:BQ34) -> 8.1666667 | G34: =AVERAGE(BR34:CV34) -> 4 | AC34: ND | AD34: ND | AE34: 14 | AF34: 16 | AG34: 22 | AH34: 13 | AI34: 10 | AJ34: 11 | BH34: ND | BI34: ND | BJ34: 9 | BK34: 9 | BL34: 13 | BM34: 6 | BN34: 7 | BO34: 5 | CM34: ND | CN34: ND | CO34: 3 | CP34: 5 | CQ34: 7 | CR34: 3 | CS34: 4 | CT34: 2
A35: Mullett Creek | B35: Indian Trail | C35: =CONCATENATE(A35,"-",B35) -> Mullett Creek-Indian Trail | D35: 35 | E35: =AVERAGE(H35:AL35) -> 15.75 | F35: =AVERAGE(AM35:BQ35) -> 7.625 | G35: =AVERAGE(BR35:CV35) -> 3.75 | H35: ND | I35: ND | J35: ND | K35: ND | L35: ND | M35: ND | N35: ND | O35: ND | P35: ND | Q35: ND | R35: ND | S35: ND | T35: ND | U35: ND | V35: 18 | W35: 17 | X35: 14 | Y35: 15 | Z35: 16 | AA35: 17 | AB35: 17 | AC35: ND | AD35: ND | AE35: ND | AF35: ND | AJ35: 12 | AM35: ND | AN35: ND | AO35: ND | AP35: ND | AQ35: ND | AR35: ND | AS35: ND | AT35: ND | AU35: ND | AV35: ND | AW35: ND | AX35: ND | AY35: ND | AZ35: ND | BA35: 8 | BB35: 8 | BC35: 6 | BD35: 10 | BE35: 8 | BF35: 9 | BG35: 6 | BH35: ND | BI35: ND | BJ35: ND | BK35: ND | BO35: 6 | BR35: ND | BS35: ND | BT35: ND | BU35: ND | BV35: ND | BW35: ND | BX35: ND | BY35: ND | BZ35: ND | CA35: ND | CB35: ND | CC35: ND | CD35: ND | CE35: ND | CF35: 5 | CG35: 3 | CH35: 4 | CI35: 4 | CJ35: 4 | CK35: 5 | CL35: 3 | CM35: ND | CN35: ND | CO35: ND | CP35: ND | CT35: 2
A36: Mullett Creek | B36: Crump Road | C36: =CONCATENATE(A36,"-",B36) -> Mullett Creek-Crump Road | D36: 36 | E36: =AVERAGE(H36:AL36) -> 20.05 | F36: =AVERAGE(AM36:BQ36) -> 9.9 | G36: =AVERAGE(BR36:CV36) -> 5.15 | H36: 17 | I36: 21 | J36: 25 | K36: 14 | L36: 19 | M36: 17 | N36: 26 | O36: 19 | P36: 17 | Q36: 24 | R36: 17 | S36: 14 | T36: 23 | U36: 24 | V36: ND | W36: ND | X36: ND | Y36: ND | Z36: ND | AA36: ND | AB36: ND | AC36: 22 | AD36: 29 | AE36: 20 | AF36: 18 | AI36: 14 | AJ36: 21 | AM36: 13 | AN36: 11 | AO36: 12 | AP36: 4 | AQ36: 10 | AR36: 10 | AS36: 12 | AT36: 10 | AU36: 8 | AV36: 11 | AW36: 7 | AX36: 6 | AY36: 12 | AZ36: 12 | BA36: ND | BB36: ND | BC36: ND | BD36: ND | BE36: ND | BF36: ND | BG36: ND | BH36: 10 | BI36: 12 | BJ36: 11 | BK36: 10 | BN36: 12 | BO36: 5 | BR36: 7 | BS36: 5 | BT36: 5 | BU36: 3 | BV36: 4 | BW36: 5 | BX36: 8 | BY36: 4 | BZ36: 4 | CA36: 5 | CB36: 4 | CC36: 6 | CD36: 6 | CE36: 5 | CF36: ND | CG36: ND | CH36: ND | CI36: ND | CJ36: ND | CK36: ND | CL36: ND | CM36: 5 | CN36: 5 | CO36: 6 | CP36: 5 | CS36: 6 | CT36: 5
A37: Mullett Creek | B37: Straits Highway | C37: =CONCATENATE(A37,"-",B37) -> Mullett Creek-Straits Highway | D37: 37 | E37: =AVERAGE(H37:AL37) -> 21.1875 | F37: =AVERAGE(AM37:BQ37) -> 5 | G37: =AVERAGE(BR37:CV37) -> 1.5 | H37: 21 | I37: 14 | J37: 20 | K37: 23 | L37: 22 | M37: 26 | N37: 23 | O37: 35 | P37: 15 | Q37: 17 | R37: 21 | S37: 21 | T37: 28 | U37: 21 | V37: ND | W37: ND | X37: ND | Y37: ND | Z37: ND | AA37: ND | AB37: ND | AC37: ND | AD37: ND | AE37: ND | AF37: ND | AI37: 12 | AJ37: 20 | AM37: 7 | AN37: 3 | AO37: 5 | AP37: 6 | AQ37: 4 | AR37: 8 | AS37: 6 | AT37: 9 | AU37: 6 | AV37: 4 | AW37: 4 | AX37: 3 | AY37: 5 | AZ37: 4 | BA37: ND | BB37: ND | BC37: ND | BD37: ND | BE37: ND | BF37: ND | BG37: ND | BH37: ND | BI37: ND | BJ37: ND | BK37: ND | BN37: 4 | BO37: 2 | BR37: 0 | BS37: 0 | BT37: 0 | BU37: 1 | BV37: 0 | BW37: 2 | BX37: 1 | BY37: 3 | BZ37: 1 | CA37: 1 | CB37: 0 | CC37: 0 | CD37: 2 | CE37: 0 | CF37: ND | CG37: ND | CH37: ND | CI37: ND | CJ37: ND | CK37: ND | CL37: ND | CM37: ND | CN37: ND | CO37: 1 | CP37: 3 | CQ37: 7 | CR37: 5 | CS37: 2 | CT37: 1
A38: Mullett Creek | B38: S. Extension Road | C38: =CONCATENATE(A38,"-",B38) -> Mullett Creek-S. Extension Road | D38: 38 | E38: =AVERAGE(H38:AL38) -> 22.142857 | F38: =AVERAGE(AM38:BQ38) -> 9.7142857 | G38: =AVERAGE(BR38:CV38) -> 5.4285714 | H38: ND | I38: ND | J38: ND | K38: ND | L38: ND | M38: ND | N38: ND | O38: ND | P38: ND | Q38: ND | R38: ND | S38: ND | T38: ND | U38: ND | V38: 24 | W38: 22 | X38: 20 | Y38: 20 | Z38: 19 | AA38: 24 | AB38: 26 | AC38: ND | AD38: ND | AE38: ND | AF38: ND | AM38: ND | AN38: ND | AO38: ND | AP38: ND | AQ38: ND | AR38: ND | AS38: ND | AT38: ND | AU38: ND | AV38: ND | AW38: ND | AX38: ND | AY38: ND | AZ38: ND | BA38: 10 | BB38: 12 | BC38: 7 | BD38: 11 | BE38: 7 | BF38: 11 | BG38: 10 | BH38: ND | BI38: ND | BJ38: ND | BK38: ND | BR38: ND | BS38: ND | BT38: ND | BU38: ND | BV38: ND | BW38: ND | BX38: ND | BY38: ND | BZ38: ND | CA38: ND | CB38: ND | CC38: ND | CD38: ND | CE38: ND | CF38: 4 | CG38: 7 | CH38: 5 | CI38: 5 | CJ38: 5 | CK38: 7 | CL38: 5 | CM38: ND | CN38: ND | CO38: ND | CP38: ND
A39: Pigeon River | B39: Sturgeon Valley Road | C39: =CONCATENATE(A39,"-",B39) -> Pigeon River-Sturgeon Valley Road | D39: 39 | E39: =AVERAGE(H39:AL39) -> 22.588235 | F39: =AVERAGE(AM39:BQ39) -> 10.470588 | G39: =AVERAGE(BR39:CV39) -> 6.7058824 | H39: ND | I39: ND | J39: ND | K39: ND | L39: ND | M39: ND | N39: ND | O39: ND | P39: ND | Q39: ND | R39: ND | S39: 27 | T39: 22 | U39: 24 | V39: 17 | W39: ND | X39: 18 | Y39: 19 | Z39: 20 | AA39: 22 | AB39: 23 | AC39: 22 | AD39: 23 | AE39: 26 | AF39: 22 | AG39: 21 | AH39: 27 | AI39: 25 | AL39: 26 | AM39: ND | AN39: ND | AO39: ND | AP39: ND | AQ39: ND | AR39: ND | AS39: ND | AT39: ND | AU39: ND | AV39: ND | AW39: ND | AX39: 12 | AY39: 7 | AZ39: 11 | BA39: 6 | BB39: ND | BC39: 7 | BD39: 8 | BE39: 8 | BF39: 11 | BG39: 11 | BH39: 11 | BI39: 12 | BJ39: 12 | BK39: 10 | BL39: 11 | BM39: 14 | BN39: 12 | BQ39: 15 | BR39: ND | BS39: ND | BT39: ND | BU39: ND | BV39: ND | BW39: ND | BX39: ND | BY39: ND | BZ39: ND | CA39: ND | CB39: ND | CC39: 6 | CD39: 5 | CE39: 5 | CF39: 5 | CG39: ND | CH39: 4 | CI39: 4 | CJ39: 6 | CK39: 7 | CL39: 7 | CM39: 9 | CN39: 6 | CO39: 8 | CP39: 5 | CQ39: 8 | CR39: 11 | CS39: 7 | CV39: 11
A40: Pigeon River | B40: Webb Road | C40: =CONCATENATE(A40,"-",B40) -> Pigeon River-Webb Road | D40: 40 | E40: =AVERAGE(H40:AL40) -> 21.058824 | F40: =AVERAGE(AM40:BQ40) -> 11.764706 | G40: =AVERAGE(BR40:CV40) -> 7.0588235 | H40: ND | I40: ND | J40: ND | K40: ND | L40: ND | M40: ND | N40: ND | O40: ND | P40: ND | Q40: ND | R40: ND | S40: ND | T40: 25 | U40: 17 | V40: 22 | W40: 21 | X40: 18 | Y40: 16 | Z40: 24 | AA40: 18 | AB40: 26 | AC40: 21 | AD40: 25 | AE40: 18 | AF40: 24 | AG40: 15 | AH40: 19 | AI40: 26 | AL40: 23 | AM40: ND | AN40: ND | AO40: ND | AP40: ND | AQ40: ND | AR40: ND | AS40: ND | AT40: ND | AU40: ND | AV40: ND | AW40: ND | AX40: ND | AY40: 12 | AZ40: 11 | BA40: 12 | BB40: 15 | BC40: 9 | BD40: 10 | BE40: 13 | BF40: 10 | BG40: 14 | BH40: 10 | BI40: 14 | BJ40: 10 | BK40: 11 | BL40: 9 | BM40: 11 | BN40: 15 | BO40: Mel combined 9/19 Sturgeon Valley Rd. and Webb Rd. not included on this datasheet | BQ40: 14 | BR40: ND | BS40: ND | BT40: ND | BU40: ND | BV40: ND | BW40: ND | BX40: ND | BY40: ND | BZ40: ND | CA40: ND | CB40: ND | CC40: ND | CD40: 7 | CE40: 5 | CF40: 9 | CG40: 8 | CH40: 6 | CI40: 6 | CJ40: 7 | CK40: 5 | CL40: 8 | CM40: 8 | CN40: 10 | CO40: 7 | CP40: 7 | CQ40: 6 | CR40: 5 | CS40: 7 | CV40: 9
...

Sheet Master_Average_Stream_Grade
A1: STREAM | B1: Total Taxa Avg. | C1: EPT Taxa Avg. | D1: Sens Taxa Avg. | E1: Total Score | F1: EPT Score | G1: Sensitive Score | H1: Yearly Score | I1: Grade
A2: {=INDEX(Master_datasheet!$A$2:$A$160, MATCH(0, COUNTIF($A$1:A1,Master_datasheet!$A$2:$A$160), 0))} -> Bear River | B2: =AVERAGEIF(Master_datasheet!$A2:$A160,Master_Average_Stream_Grade!$A2,Master_datasheet!E2:E160) -> 15.751918 | C2: =AVERAGEIF(Master_datasheet!$A2:$A160,Master_Average_Stream_Grade!$A2,Master_datasheet!F2:F160) -> 5.9249787 | D2: =AVERAGEIF(Master_datasheet!$A2:$A160,Master_Average_Stream_Grade!$A2,Master_datasheet!G2:G160) -> 2.5294118 | E2: =IF(B2<5,0,IF(B2<9,3,IF(B2<13,6,IF(B2<17,9,IF(B2<21,12,IF(B2>=21,15,99)))))) -> 9 | F2: =IF(C2=0,0,IF(C2<2,5,IF(C2<4,10,IF(C2<6,15,IF(C2<8,20,IF(C2>=8,25,99)))))) -> 15 | G2: =IF(D2=0,0,IF(D2<2,10,IF(D2<3,20,IF(D2<4,30,IF(D2<5,40,IF(D2>=5,50,99)))))) -> 20 | H2: =SUM(E2:G2) -> 44 | I2: =IF(H2<10,"F",IF(AND(H2<19,H2>10),"E",IF(AND(H2<=29,H2>20),"D",IF(AND(H2<=49,H2>30),"C",IF(AND(H2<=69,H2>50),"B",IF(H2>=70,"A",99)))))) -> C
A3: {=INDEX(Master_datasheet!$A$2:$A$160, MATCH(0, COUNTIF($A$1:A2,Master_datasheet!$A$2:$A$160), 0))} -> Berry Creek | B3: =AVERAGEIF(Master_datasheet!$A3:$A161,Master_Average_Stream_Grade!$A3,Master_datasheet!E3:E161) -> 11 | C3: =AVERAGEIF(Master_datasheet!$A3:$A161,Master_Average_Stream_Grade!$A3,Master_datasheet!F3:F161) -> 8 | D3: =AVERAGEIF(Master_datasheet!$A3:$A161,Master_Average_Stream_Grade!$A3,Master_datasheet!G3:G161) -> 4 | E3: =IF(B3<5,0,IF(B3<9,3,IF(B3<13,6,IF(B3<17,9,IF(B3<21,12,IF(B3>=21,15,99)))))) -> 6 | F3: =IF(C3=0,0,IF(C3<2,5,IF(C3<4,10,IF(C3<6,15,IF(C3<8,20,IF(C3>=8,25,99)))))) -> 25 | G3: =IF(D3=0,0,IF(D3<2,10,IF(D3<3,20,IF(D3<4,30,IF(D3<5,40,IF(D3>=5,50,99)))))) -> 40 | H3: =SUM(E3:G3) -> 71 | I3: =IF(H3<10,"F",IF(AND(H3<19,H3>10),"E",IF(AND(H3<=29,H3>20),"D",IF(AND(H3<=49,H3>30),"C",IF(AND(H3<=69,H3>50),"B",IF(H3>=70,"A",99)))))) -> A
A4: {=INDEX(Master_datasheet!$A$2:$A$160, MATCH(0, COUNTIF($A$1:A3,Master_datasheet!$A$2:$A$160), 0))} -> Bessey Creek | B4: =AVERAGEIF(Master_datasheet!$A4:$A162,Master_Average_Stream_Grade!$A4,Master_datasheet!E4:E162) -> 14.666667 | C4: =AVERAGEIF(Master_datasheet!$A4:$A162,Master_Average_Stream_Grade!$A4,Master_datasheet!F4:F162) -> 3 | D4: =AVERAGEIF(Master_datasheet!$A4:$A162,Master_Average_Stream_Grade!$A4,Master_datasheet!G4:G162) -> 5 | E4: =IF(B4<5,0,IF(B4<9,3,IF(B4<13,6,IF(B4<17,9,IF(B4<21,12,IF(B4>=21,15,99)))))) -> 9 | F4: =IF(C4=0,0,IF(C4<2,5,IF(C4<4,10,IF(C4<6,15,IF(C4<8,20,IF(C4>=8,25,99)))))) -> 10 | G4: =IF(D4=0,0,IF(D4<2,10,IF(D4<3,20,IF(D4<4,30,IF(D4<5,40,IF(D4>=5,50,99)))))) -> 50 | H4: =SUM(E4:G4) -> 69 | I4: =IF(H4<10,"F",IF(AND(H4<19,H4>10),"E",IF(AND(H4<=29,H4>20),"D",IF(AND(H4<=49,H4>30),"C",IF(AND(H4<=69,H4>50),"B",IF(H4>=70,"A",99)))))) -> B
A5: Black River | B5: =AVERAGEIF(Master_datasheet!$A5:$A163,Master_Average_Stream_Grade!$A5,Master_datasheet!E5:E163) -> 22.916667 | C5: =AVERAGEIF(Master_datasheet!$A5:$A163,Master_Average_Stream_Grade!$A5,Master_datasheet!F5:F163) -> 10.666667 | D5: =AVERAGEIF(Master_datasheet!$A5:$A163,Master_Average_Stream_Grade!$A5,Master_datasheet!G5:G163) -> 7.0833333 | E5: =IF(B5<5,0,IF(B5<9,3,IF(B5<13,6,IF(B5<17,9,IF(B5<21,12,IF(B5>=21,15,99)))))) -> 15 | F5: =IF(C5=0,0,IF(C5<2,5,IF(C5<4,10,IF(C5<6,15,IF(C5<8,20,IF(C5>=8,25,99)))))) -> 25 | G5: =IF(D5=0,0,IF(D5<2,10,IF(D5<3,20,IF(D5<4,30,IF(D5<5,40,IF(D5>=5,50,99)))))) -> 50 | H5: =SUM(E5:G5) -> 90 | I5: =IF(H5<10,"F",IF(AND(H5<19,H5>10),"E",IF(AND(H5<=29,H5>20),"D",IF(AND(H5<=49,H5>30),"C",IF(AND(H5<=69,H5>50),"B",IF(H5>=70,"A",99)))))) -> A
A6: {=INDEX(Master_datasheet!$A$2:$A$160, MATCH(0, COUNTIF($A$1:A4,Master_datasheet!$A$2:$A$160), 0))} -> Boyne River | B6: =AVERAGEIF(Master_datasheet!$A5:$A163,Master_Average_Stream_Grade!$A6,Master_datasheet!E5:E163) -> 15.664756 | C6: =AVERAGEIF(Master_datasheet!$A5:$A163,Master_Average_Stream_Grade!$A6,Master_datasheet!F5:F163) -> 8.4964943 | D6: =AVERAGEIF(Master_datasheet!$A5:$A163,Master_Average_Stream_Grade!$A6,Master_datasheet!G5:G163) -> 4.6637787 | E6: =IF(B6<5,0,IF(B6<9,3,IF(B6<13,6,IF(B6<17,9,IF(B6<21,12,IF(B6>=21,15,99)))))) -> 9 | F6: =IF(C6=0,0,IF(C6<2,5,IF(C6<4,10,IF(C6<6,15,IF(C6<8,20,IF(C6>=8,25,99)))))) -> 25 | G6: =IF(D6=0,0,IF(D6<2,10,IF(D6<3,20,IF(D6<4,30,IF(D6<5,40,IF(D6>=5,50,99)))))) -> 40 | H6: =SUM(E6:G6) -> 74 | I6: =IF(H6<10,"F",IF(AND(H6<19,H6>10),"E",IF(AND(H6<=29,H6>20),"D",IF(AND(H6<=49,H6>30),"C",IF(AND(H6<=69,H6>50),"B",IF(H6>=70,"A",99)))))) -> A
A7: {=INDEX(Master_datasheet!$A$2:$A$160, MATCH(0, COUNTIF($A$1:A6,Master_datasheet!$A$2:$A$160), 0))} -> Carp River | B7: =AVERAGEIF(Master_datasheet!$A8:$A164,Master_Average_Stream_Grade!$A7,Master_datasheet!E8:E164) -> 18.3 | C7: =AVERAGEIF(Master_datasheet!$A8:$A164,Master_Average_Stream_Grade!$A7,Master_datasheet!F8:F164) -> 7.2 | D7: =AVERAGEIF(Master_datasheet!$A8:$A164,Master_Average_Stream_Grade!$A7,Master_datasheet!G8:G164) -> 4.1 | E7: =IF(B7<5,0,IF(B7<9,3,IF(B7<13,6,IF(B7<17,9,IF(B7<21,12,IF(B7>=21,15,99)))))) -> 12 | F7: =IF(C7=0,0,IF(C7<2,5,IF(C7<4,10,IF(C7<6,15,IF(C7<8,20,IF(C7>=8,25,99)))))) -> 20 | G7: =IF(D7=0,0,IF(D7<2,10,IF(D7<3,20,IF(D7<4,30,IF(D7<5,40,IF(D7>=5,50,99)))))) -> 40 | H7: =SUM(E7:G7) -> 72 | I7: =IF(H7<10,"F",IF(AND(H7<19,H7>10),"E",IF(AND(H7<=29,H7>20),"D",IF(AND(H7<=49,H7>30),"C",IF(AND(H7<=69,H7>50),"B",IF(H7>=70,"A",99)))))) -> A
A8: {=INDEX(Master_datasheet!$A$2:$A$160, MATCH(0, COUNTIF($A$1:A7,Master_datasheet!$A$2:$A$160), 0))} -> Cedar River | B8: =AVERAGEIF(Master_datasheet!$A9:$A165,Master_Average_Stream_Grade!$A8,Master_datasheet!E9:E165) -> 20.333333 | C8: =AVERAGEIF(Master_datasheet!$A9:$A165,Master_Average_Stream_Grade!$A8,Master_datasheet!F9:F165) -> 8.8333333 | D8: =AVERAGEIF(Master_datasheet!$A9:$A165,Master_Average_Stream_Grade!$A8,Master_datasheet!G9:G165) -> 5.5 | E8: =IF(B8<5,0,IF(B8<9,3,IF(B8<13,6,IF(B8<17,9,IF(B8<21,12,IF(B8>=21,15,99)))))) -> 12 | F8: =IF(C8=0,0,IF(C8<2,5,IF(C8<4,10,IF(C8<6,15,IF(C8<8,20,IF(C8>=8,25,99)))))) -> 25 | G8: =IF(D8=0,0,IF(D8<2,10,IF(D8<3,20,IF(D8<4,30,IF(D8<5,40,IF(D8>=5,50,99)))))) -> 50 | H8: =SUM(E8:G8) -> 87 | I8: =IF(H8<10,"F",IF(AND(H8<19,H8>10),"E",IF(AND(H8<=29,H8>20),"D",IF(AND(H8<=49,H8>30),"C",IF(AND(H8<=69,H8>50),"B",IF(H8>=70,"A",99)))))) -> A
A9: {=INDEX(Master_datasheet!$A$2:$A$160, MATCH(0, COUNTIF($A$1:A8,Master_datasheet!$A$2:$A$160), 0))} -> Eastport Creek | B9: =AVERAGEIF(Master_datasheet!$A10:$A166,Master_Average_Stream_Grade!$A9,Master_datasheet!E10:E166) -> 18.872727 | C9: =AVERAGEIF(Master_datasheet!$A10:$A166,Master_Average_Stream_Grade!$A9,Master_datasheet!F10:F166) -> 7.0954545 | D9: =AVERAGEIF(Master_datasheet!$A10:$A166,Master_Average_Stream_Grade!$A9,Master_datasheet!G10:G166) -> 2.8977273 | E9: =IF(B9<5,0,IF(B9<9,3,IF(B9<13,6,IF(B9<17,9,IF(B9<21,12,IF(B9>=21,15,99)))))) -> 12 | F9: =IF(C9=0,0,IF(C9<2,5,IF(C9<4,10,IF(C9<6,15,IF(C9<8,20,IF(C9>=8,25,99)))))) -> 20 | G9: =IF(D9=0,0,IF(D9<2,10,IF(D9<3,20,IF(D9<4,30,IF(D9<5,40,IF(D9>=5,50,99)))))) -> 20 | H9: =SUM(E9:G9) -> 52 | I9: =IF(H9<10,"F",IF(AND(H9<19,H9>10),"E",IF(AND(H9<=29,H9>20),"D",IF(AND(H9<=49,H9>30),"C",IF(AND(H9<=69,H9>50),"B",IF(H9>=70,"A",99)))))) -> B
A10: {=INDEX(Master_datasheet!$A$2:$A$160, MATCH(0, COUNTIF($A$1:A9,Master_datasheet!$A$2:$A$160), 0))} -> Horton Creek | B10: =AVERAGEIF(Master_datasheet!$A11:$A167,Master_Average_Stream_Grade!$A10,Master_datasheet!E11:E167) -> 16.820076 | C10: =AVERAGEIF(Master_datasheet!$A11:$A167,Master_Average_Stream_Grade!$A10,Master_datasheet!F11:F167) -> 7.6344697 | D10: =AVERAGEIF(Master_datasheet!$A11:$A167,Master_Average_Stream_Grade!$A10,Master_datasheet!G11:G167) -> 3.5284091 | E10: =IF(B10<5,0,IF(B10<9,3,IF(B10<13,6,IF(B10<17,9,IF(B10<21,12,IF(B10>=21,15,99)))))) -> 9 | F10: =IF(C10=0,0,IF(C10<2,5,IF(C10<4,10,IF(C10<6,15,IF(C10<8,20,IF(C10>=8,25,99)))))) -> 20 | G10: =IF(D10=0,0,IF(D10<2,10,IF(D10<3,20,IF(D10<4,30,IF(D10<5,40,IF(D10>=5,50,99)))))) -> 30 | H10: =SUM(E10:G10) -> 59 | I10: =IF(H10<10,"F",IF(AND(H10<19,H10>10),"E",IF(AND(H10<=29,H10>20),"D",IF(AND(H10<=49,H10>30),"C",IF(AND(H10<=69,H10>50),"B",IF(H10>=70,"A",99)))))) -> B
A11: {=INDEX(Master_datasheet!$A$2:$A$160, MATCH(0, COUNTIF($A$1:A10,Master_datasheet!$A$2:$A$160), 0))} -> Jordan River | B11: =AVERAGEIF(Master_datasheet!$A12:$A168,Master_Average_Stream_Grade!$A11,Master_datasheet!E12:E168) -> 20.743647 | C11: =AVERAGEIF(Master_datasheet!$A12:$A168,Master_Average_Stream_Grade!$A11,Master_datasheet!F12:F168) -> 11.170807 | D11: =AVERAGEIF(Master_datasheet!$A12:$A168,Master_Average_Stream_Grade!$A11,Master_datasheet!G12:G168) -> 6.5915179 | E11: =IF(B11<5,0,IF(B11<9,3,IF(B11<13,6,IF(B11<17,9,IF(B11<21,12,IF(B11>=21,15,99)))))) -> 12 | F11: =IF(C11=0,0,IF(C11<2,5,IF(C11<4,10,IF(C11<6,15,IF(C11<8,20,IF(C11>=8,25,99)))))) -> 25 | G11: =IF(D11=0,0,IF(D11<2,10,IF(D11<3,20,IF(D11<4,30,IF(D11<5,40,IF(D11>=5,50,99)))))) -> 50 | H11: =SUM(E11:G11) -> 87 | I11: =IF(H11<10,"F",IF(AND(H11<19,H11>10),"E",IF(AND(H11<=29,H11>20),"D",IF(AND(H11<=49,H11>30),"C",IF(AND(H11<=69,H11>50),"B",IF(H11>=70,"A",99)))))) -> A
A12: {=INDEX(Master_datasheet!$A$2:$A$160, MATCH(0, COUNTIF($A$1:A11,Master_datasheet!$A$2:$A$160), 0))} -> Kimberly Creek | B12: =AVERAGEIF(Master_datasheet!$A13:$A169,Master_Average_Stream_Grade!$A12,Master_datasheet!E13:E169) -> 20.501548 | C12: =AVERAGEIF(Master_datasheet!$A13:$A169,Master_Average_Stream_Grade!$A12,Master_datasheet!F13:F169) -> 7.5294118 | D12: =AVERAGEIF(Master_datasheet!$A13:$A169,Master_Average_Stream_Grade!$A12,Master_datasheet!G13:G169) -> 3.7229102 | E12: =IF(B12<5,0,IF(B12<9,3,IF(B12<13,6,IF(B12<17,9,IF(B12<21,12,IF(B12>=21,15,99)))))) -> 12 | F12: =IF(C12=0,0,IF(C12<2,5,IF(C12<4,10,IF(C12<6,15,IF(C12<8,20,IF(C12>=8,25,99)))))) -> 20 | G12: =IF(D12=0,0,IF(D12<2,10,IF(D12<3,20,IF(D12<4,30,IF(D12<5,40,IF(D12>=5,50,99)))))) -> 30 | H12: =SUM(E12:G12) -> 62 | I12: =IF(H12<10,"F",IF(AND(H12<19,H12>10),"E",IF(AND(H12<=29,H12>20),"D",IF(AND(H12<=49,H12>30),"C",IF(AND(H12<=69,H12>50),"B",IF(H12>=70,"A",99)))))) -> B
A13: {=INDEX(Master_datasheet!$A$2:$A$160, MATCH(0, COUNTIF($A$1:A12,Master_datasheet!$A$2:$A$160), 0))} -> Maple River | B13: =AVERAGEIF(Master_datasheet!$A16:$A170,Master_Average_Stream_Grade!$A13,Master_datasheet!E16:E170) -> 20.624242 | C13: =AVERAGEIF(Master_datasheet!$A16:$A170,Master_Average_Stream_Grade!$A13,Master_datasheet!F16:F170) -> 9.9626263 | D13: =AVERAGEIF(Master_datasheet!$A16:$A170,Master_Average_Stream_Grade!$A13,Master_datasheet!G16:G170) -> 4.6313131 | E13: =IF(B13<5,0,IF(B13<9,3,IF(B13<13,6,IF(B13<17,9,IF(B13<21,12,IF(B13>=21,15,99)))))) -> 12 | F13: =IF(C13=0,0,IF(C13<2,5,IF(C13<4,10,IF(C13<6,15,IF(C13<8,20,IF(C13>=8,25,99)))))) -> 25 | G13: =IF(D13=0,0,IF(D13<2,10,IF(D13<3,20,IF(D13<4,30,IF(D13<5,40,IF(D13>=5,50,99)))))) -> 40 | H13: =SUM(E13:G13) -> 77 | I13: =IF(H13<10,"F",IF(AND(H13<19,H13>10),"E",IF(AND(H13<=29,H13>20),"D",IF(AND(H13<=49,H13>30),"C",IF(AND(H13<=69,H13>50),"B",IF(H13>=70,"A",99)))))) -> A
A14: {=INDEX(Master_datasheet!$A$2:$A$160, MATCH(0, COUNTIF($A$1:A13,Master_datasheet!$A$2:$A$160), 0))} -> Milligan Creek | B14: =AVERAGEIF(Master_datasheet!$A17:$A171,Master_Average_Stream_Grade!$A14,Master_datasheet!E17:E171) -> 19.79085 | C14: =AVERAGEIF(Master_datasheet!$A17:$A171,Master_Average_Stream_Grade!$A14,Master_datasheet!F17:F171) -> 9.9526144 | D14: =AVERAGEIF(Master_datasheet!$A17:$A171,Master_Average_Stream_Grade!$A14,Master_datasheet!G17:G171) -> 6.6633987 | E14: =IF(B14<5,0,IF(B14<9,3,IF(B14<13,6,IF(B14<17,9,IF(B14<21,12,IF(B14>=21,15,99)))))) -> 12 | F14: =IF(C14=0,0,IF(C14<2,5,IF(C14<4,10,IF(C14<6,15,IF(C14<8,20,IF(C14>=8,25,99)))))) -> 25 | G14: =IF(D14=0,0,IF(D14<2,10,IF(D14<3,20,IF(D14<4,30,IF(D14<5,40,IF(D14>=5,50,99)))))) -> 50 | H14: =SUM(E14:G14) -> 87 | I14: =IF(H14<10,"F",IF(AND(H14<19,H14>10),"E",IF(AND(H14<=29,H14>20),"D",IF(AND(H14<=49,H14>30),"C",IF(AND(H14<=69,H14>50),"B",IF(H14>=70,"A",99)))))) -> A
A15: {=INDEX(Master_datasheet!$A$2:$A$160, MATCH(0, COUNTIF($A$1:A14,Master_datasheet!$A$2:$A$160), 0))} -> Minnehaha Creek | B15: =AVERAGEIF(Master_datasheet!$A18:$A172,Master_Average_Stream_Grade!$A15,Master_datasheet!E18:E172) -> 13.666667 | C15: =AVERAGEIF(Master_datasheet!$A18:$A172,Master_Average_Stream_Grade!$A15,Master_datasheet!F18:F172) -> 7.9833333 | D15: =AVERAGEIF(Master_datasheet!$A18:$A172,Master_Average_Stream_Grade!$A15,Master_datasheet!G18:G172) -> 3.8 | E15: =IF(B15<5,0,IF(B15<9,3,IF(B15<13,6,IF(B15<17,9,IF(B15<21,12,IF(B15>=21,15,99)))))) -> 9 | F15: =IF(C15=0,0,IF(C15<2,5,IF(C15<4,10,IF(C15<6,15,IF(C15<8,20,IF(C15>=8,25,99)))))) -> 20 | G15: =IF(D15=0,0,IF(D15<2,10,IF(D15<3,20,IF(D15<4,30,IF(D15<5,40,IF(D15>=5,50,99)))))) -> 30 | H15: =SUM(E15:G15) -> 59 | I15: =IF(H15<10,"F",IF(AND(H15<19,H15>10),"E",IF(AND(H15<=29,H15>20),"D",IF(AND(H15<=49,H15>30),"C",IF(AND(H15<=69,H15>50),"B",IF(H15>=70,"A",99)))))) -> B
A16: {=INDEX(Master_datasheet!$A$2:$A$160, MATCH(0, COUNTIF($A$1:A15,Master_datasheet!$A$2:$A$160), 0))} -> Mullett Creek | B16: =AVERAGEIF(Master_datasheet!$A19:$A173,Master_Average_Stream_Grade!$A16,Master_datasheet!E19:E173) -> 19.782589 | C16: =AVERAGEIF(Master_datasheet!$A19:$A173,Master_Average_Stream_Grade!$A16,Master_datasheet!F19:F173) -> 8.0598214 | D16: =AVERAGEIF(Master_datasheet!$A19:$A173,Master_Average_Stream_Grade!$A16,Master_datasheet!G19:G173) -> 3.9571429 | E16: =IF(B16<5,0,IF(B16<9,3,IF(B16<13,6,IF(B16<17,9,IF(B16<21,12,IF(B16>=21,15,99)))))) -> 12 | F16: =IF(C16=0,0,IF(C16<2,5,IF(C16<4,10,IF(C16<6,15,IF(C16<8,20,IF(C16>=8,25,99)))))) -> 25 | G16: =IF(D16=0,0,IF(D16<2,10,IF(D16<3,20,IF(D16<4,30,IF(D16<5,40,IF(D16>=5,50,99)))))) -> 30 | H16: =SUM(E16:G16) -> 67 | I16: =IF(H16<10,"F",IF(AND(H16<19,H16>10),"E",IF(AND(H16<=29,H16>20),"D",IF(AND(H16<=49,H16>30),"C",IF(AND(H16<=69,H16>50),"B",IF(H16>=70,"A",99)))))) -> B
A17: {=INDEX(Master_datasheet!$A$2:$A$160, MATCH(0, COUNTIF($A$1:A16,Master_datasheet!$A$2:$A$160), 0))} -> Pigeon River | B17: =AVERAGEIF(Master_datasheet!$A20:$A174,Master_Average_Stream_Grade!$A17,Master_datasheet!E20:E174) -> 21.823529 | C17: =AVERAGEIF(Master_datasheet!$A20:$A174,Master_Average_Stream_Grade!$A17,Master_datasheet!F20:F174) -> 11.117647 | D17: =AVERAGEIF(Master_datasheet!$A20:$A174,Master_Average_Stream_Grade!$A17,Master_datasheet!G20:G174) -> 6.8823529 | E17: =IF(B17<5,0,IF(B17<9,3,IF(B17<13,6,IF(B17<17,9,IF(B17<21,12,IF(B17>=21,15,99)))))) -> 15 | F17: =IF(C17=0,0,IF(C17<2,5,IF(C17<4,10,IF(C17<6,15,IF(C17<8,20,IF(C17>=8,25,99)))))) -> 25 | G17: =IF(D17=0,0,IF(D17<2,10,IF(D17<3,20,IF(D17<4,30,IF(D17<5,40,IF(D17>=5,50,99)))))) -> 50 | H17: =SUM(E17:G17) -> 90 | I17: =IF(H17<10,"F",IF(AND(H17<19,H17>10),"E",IF(AND(H17<=29,H17>20),"D",IF(AND(H17<=49,H17>30),"C",IF(AND(H17<=69,H17>50),"B",IF(H17>=70,"A",99)))))) -> A
A18: {=INDEX(Master_datasheet!$A$2:$A$160, MATCH(0, COUNTIF($A$1:A17,Master_datasheet!$A$2:$A$160), 0))} -> Russian Creek | B18: =AVERAGEIF(Master_datasheet!$A21:$A175,Master_Average_Stream_Grade!$A18,Master_datasheet!E21:E175) -> 15.4 | C18: =AVERAGEIF(Master_datasheet!$A21:$A175,Master_Average_Stream_Grade!$A18,Master_datasheet!F21:F175) -> 4 | D18: =AVERAGEIF(Master_datasheet!$A21:$A175,Master_Average_Stream_Grade!$A18,Master_datasheet!G21:G175) -> 2 | E18: =IF(B18<5,0,IF(B18<9,3,IF(B18<13,6,IF(B18<17,9,IF(B18<21,12,IF(B18>=21,15,99)))))) -> 9 | F18: =IF(C18=0,0,IF(C18<2,5,IF(C18<4,10,IF(C18<6,15,IF(C18<8,20,IF(C18>=8,25,99)))))) -> 15 | G18: =IF(D18=0,0,IF(D18<2,10,IF(D18<3,20,IF(D18<4,30,IF(D18<5,40,IF(D18>=5,50,99)))))) -> 20 | H18: =SUM(E18:G18) -> 44 | I18: =IF(H18<10,"F",IF(AND(H18<19,H18>10),"E",IF(AND(H18<=29,H18>20),"D",IF(AND(H18<=49,H18>30),"C",IF(AND(H18<=69,H18>50),"B",IF(H18>=70,"A",99)))))) -> C
A19: {=INDEX(Master_datasheet!$A$2:$A$160, MATCH(0, COUNTIF($A$1:A18,Master_datasheet!$A$2:$A$160), 0))} -> Schoofs Creek | B19: =AVERAGEIF(Master_datasheet!$A22:$A176,Master_Average_Stream_Grade!$A19,Master_datasheet!E22:E176) -> 13.25 | C19: =AVERAGEIF(Master_datasheet!$A22:$A176,Master_Average_Stream_Grade!$A19,Master_datasheet!F22:F176) -> 5.5 | D19: =AVERAGEIF(Master_datasheet!$A22:$A176,Master_Average_Stream_Grade!$A19,Master_datasheet!G22:G176) -> 2.25 | E19: =IF(B19<5,0,IF(B19<9,3,IF(B19<13,6,IF(B19<17,9,IF(B19<21,12,IF(B19>=21,15,99)))))) -> 9 | F19: =IF(C19=0,0,IF(C19<2,5,IF(C19<4,10,IF(C19<6,15,IF(C19<8,20,IF(C19>=8,25,99)))))) -> 15 | G19: =IF(D19=0,0,IF(D19<2,10,IF(D19<3,20,IF(D19<4,30,IF(D19<5,40,IF(D19>=5,50,99)))))) -> 20 | H19: =SUM(E19:G19) -> 44 | I19: =IF(H19<10,"F",IF(AND(H19<19,H19>10),"E",IF(AND(H19<=29,H19>20),"D",IF(AND(H19<=49,H19>30),"C",IF(AND(H19<=69,H19>50),"B",IF(H19>=70,"A",99)))))) -> C
A20: {=INDEX(Master_datasheet!$A$2:$A$160, MATCH(0, COUNTIF($A$1:A19,Master_datasheet!$A$2:$A$160), 0))} -> Springbrook Creek | B20: =AVERAGEIF(Master_datasheet!$A23:$A177,Master_Average_Stream_Grade!$A20,Master_datasheet!E23:E177) -> 20.8 | C20: =AVERAGEIF(Master_datasheet!$A23:$A177,Master_Average_Stream_Grade!$A20,Master_datasheet!F23:F177) -> 10.266667 | D20: =AVERAGEIF(Master_datasheet!$A23:$A177,Master_Average_Stream_Grade!$A20,Master_datasheet!G23:G177) -> 5.2 | E20: =IF(B20<5,0,IF(B20<9,3,IF(B20<13,6,IF(B20<17,9,IF(B20<21,12,IF(B20>=21,15,99)))))) -> 12 | F20: =IF(C20=0,0,IF(C20<2,5,IF(C20<4,10,IF(C20<6,15,IF(C20<8,20,IF(C20>=8,25,99)))))) -> 25 | G20: =IF(D20=0,0,IF(D20<2,10,IF(D20<3,20,IF(D20<4,30,IF(D20<5,40,IF(D20>=5,50,99)))))) -> 50 | H20: =SUM(E20:G20) -> 87 | I20: =IF(H20<10,"F",IF(AND(H20<19,H20>10),"E",IF(AND(H20<=29,H20>20),"D",IF(AND(H20<=49,H20>30),"C",IF(AND(H20<=69,H20>50),"B",IF(H20>=70,"A",99)))))) -> A
